BEGIN:VCALENDAR
VERSION:2.0
PRODID:-//wp-events-plugin.com//7.2.3.1//EN
TZID:Europe/London
X-WR-TIMEZONE:Europe/London
BEGIN:VEVENT
UID:4641@larevistadelapalma.com
DTSTART:20260430T190000Z
DTEND:20260430T224500Z
DTSTAMP:20260420T214151Z
URL:https://www.larevistadelapalma.com/events/santa-cruz-de-la-palma-celeb
 ra-ochentate-canarias-con-alejo-stivel/
SUMMARY:Santa Cruz de La Palma celebra “Ochentate Canarias” con Alejo S
 tivel
DESCRIPTION:El evento\, ambientado en la década de los 80 incluirá actuac
 iones de DJ T3NAX y DJ Equis.\n\n\nSanta Cruz de La Palma acogerá el pró
 ximo 30 de abril Ochentate Canarias\, una cita musical y festiva que conve
 rtirá la Plaza de San Francisco en un gran escenario dedicado a la décad
 a de los 80. El protagonista de la noche será Alejo Stivel\, compositor 
 y vocalista de la mítica banda Tequila\, que ofrecerá un directo con alg
 unos de los temas más conocidos del grupo y de toda una generación. Canc
 iones como Salta\, Dime que me quieres\, Rock and Roll en la plaza del pue
 blo o Que el tiempo no te cambie formarán parte de una propuesta pensada 
 para disfrutar\, cantar y revivir una época que sigue muy presente en la 
 memoria colectiva.\nLa noche contará además con las actuaciones de DJ T3
 NAX y DJ Equis.\nLa venta de entradas ya está disponible. Las primeras 10
 0 entradas tienen un precio especial de 10 euros y el precio general será
  de 15 euros. La organización ha previsto una acción especial de apoyo a
 l comercio local. Las condiciones de esta promoción podrán consultarse e
 n las redes sociales de la organización (Facebook e instagram).\nCon el f
 in de incentivar compras habilitarán un servicio de guardacompra\, pensad
 o para que quienes compren el día del concierto.\n\n\n
ATTACH;FMTTYPE=image/jpeg:https://www.larevistadelapalma.com/wp-content/up
 loads/2026/04/CARTEL-OCHENTATE.jpeg
CATEGORIES:Festivales/Fiestas,Música
LOCATION:Plaza de San Francisco\, Plaza de San Francisco \, Santa Cruz De L
 a Palma\, Santa Cruz de Tenerife\, 38700\, España
GEO:28.683698;-17.767894
X-APPLE-STRUCTURED-LOCATION;VALUE=URI;X-ADDRESS=Plaza de San Francisco \, S
 anta Cruz De La Palma\, Santa Cruz de Tenerife\, 38700\, España;X-APPLE-R
 ADIUS=100;X-TITLE=Plaza de San Francisco:geo:28.683698,-17.767894
END:VEVENT
END:VCALENDARBEGIN:VCALENDAR
VERSION:2.0
PRODID:-//wp-events-plugin.com//7.2.3.1//EN
TZID:Europe/London
X-WR-TIMEZONE:Europe/London
BEGIN:VEVENT
UID:4641@larevistadelapalma.com
DTSTART:20260430T190000Z
DTEND:20260430T224500Z
DTSTAMP:20260420T214151Z
URL:https://www.larevistadelapalma.com/events/santa-cruz-de-la-palma-celeb
 ra-ochentate-canarias-con-alejo-stivel/
SUMMARY:Santa Cruz de La Palma celebra “Ochentate Canarias” con Alejo S
 tivel
DESCRIPTION:El evento\, ambientado en la década de los 80 incluirá actuac
 iones de DJ T3NAX y DJ Equis.\n\n\nSanta Cruz de La Palma acogerá el pró
 ximo 30 de abril Ochentate Canarias\, una cita musical y festiva que conve
 rtirá la Plaza de San Francisco en un gran escenario dedicado a la décad
 a de los 80. El protagonista de la noche será Alejo Stivel\, compositor 
 y vocalista de la mítica banda Tequila\, que ofrecerá un directo con alg
 unos de los temas más conocidos del grupo y de toda una generación. Canc
 iones como Salta\, Dime que me quieres\, Rock and Roll en la plaza del pue
 blo o Que el tiempo no te cambie formarán parte de una propuesta pensada 
 para disfrutar\, cantar y revivir una época que sigue muy presente en la 
 memoria colectiva.\nLa noche contará además con las actuaciones de DJ T3
 NAX y DJ Equis.\nLa venta de entradas ya está disponible. Las primeras 10
 0 entradas tienen un precio especial de 10 euros y el precio general será
  de 15 euros. La organización ha previsto una acción especial de apoyo a
 l comercio local. Las condiciones de esta promoción podrán consultarse e
 n las redes sociales de la organización (Facebook e instagram).\nCon el f
 in de incentivar compras habilitarán un servicio de guardacompra\, pensad
 o para que quienes compren el día del concierto.\n\n\n
ATTACH;FMTTYPE=image/jpeg:https://www.larevistadelapalma.com/wp-content/up
 loads/2026/04/CARTEL-OCHENTATE.jpeg
CATEGORIES:Festivales/Fiestas,Música
LOCATION:Plaza de San Francisco\, Plaza de San Francisco \, Santa Cruz De L
 a Palma\, Santa Cruz de Tenerife\, 38700\, España
GEO:28.683698;-17.767894
X-APPLE-STRUCTURED-LOCATION;VALUE=URI;X-ADDRESS=Plaza de San Francisco \, S
 anta Cruz De La Palma\, Santa Cruz de Tenerife\, 38700\, España;X-APPLE-R
 ADIUS=100;X-TITLE=Plaza de San Francisco:geo:28.683698,-17.767894
END:VEVENT
END:VCALENDAR