BEGIN:VCALENDAR
VERSION:2.0
PRODID:-//wp-events-plugin.com//7.2.3.1//EN
TZID:Europe/London
X-WR-TIMEZONE:Europe/London
BEGIN:VEVENT
UID:4040@larevistadelapalma.com
DTSTART:20251212T193000Z
DTEND:20251212T210000Z
DTSTAMP:20251028T154425Z
URL:https://www.larevistadelapalma.com/events/santiago-useron-en-la-palma/
SUMMARY:Santiago Auserón en La Palma
DESCRIPTION:Santiago Auserón ha ido dando relieve a su personaje escéni
 co\, una mezcla de juglar ibero\, bluesman y sonero. En sus concierto
 s en solitario\, acompañado por su guitarra\, ofrece un espectáculo l
 leno de dimensiones y matices\, donde las canciones se suceden como una
  película de viajes. A través de parajes fronterizos\, el cantante se 
 encuentra con apariciones simbólicas con las que dialoga como en una fá
 bula.\n\n\nEste mes de octubre ha presentado su nuevo álbum «Nerantzi«\
 , con canciones griegas adaptadas al castellano. Le acompañan los músico
 s griegos Vaggelis Tzreretas y Theodoros Karellas y cuenta con con la cola
 boración especial de la cantante española Anni B Sweet.\n\nEn las últi
 mas composiciones registradas con su banda\,letras y melodías sorprende
 n una vez más por su originalidad. Al retornar al formato musical desnu
 do\, sus temas recobran la frescura de los primeros esbozos\, pero evolu
 cionan hacia una madurez musical. Al unirse con sus nuevas canciones\, l
 a antología de su obra anterior adquiere un nuevo colorido.\nSantiago 
 Auserón presenta sus temas con relatos improvisados que combinan liri
 smo y humor\, compartiendo ideas innovadoras. Su música crea un esp
 acio acogedor\, donde se establecen complicidades con un público fiel\
 , convertido en una hermandad artística unida por la poesía y la mús
 ica.\n
ATTACH;FMTTYPE=image/jpeg:https://www.larevistadelapalma.com/wp-content/up
 loads/2025/10/Santiago-useron-la-palma.jpeg
CATEGORIES:Conciertos,Música
LOCATION:Teatro Circo de Marte\, Calle Virgen de La Luz\, 5\, Santa Cruz de
  La Palma\, 38700\, España
GEO:28.682989;-17.765755
X-APPLE-STRUCTURED-LOCATION;VALUE=URI;X-ADDRESS=Calle Virgen de La Luz\, 5\
 , Santa Cruz de La Palma\, 38700\, España;X-APPLE-RADIUS=100;X-TITLE=Teat
 ro Circo de Marte:geo:28.682989,-17.765755
END:VEVENT
END:VCALENDARBEGIN:VCALENDAR
VERSION:2.0
PRODID:-//wp-events-plugin.com//7.2.3.1//EN
TZID:Europe/London
X-WR-TIMEZONE:Europe/London
BEGIN:VEVENT
UID:4040@larevistadelapalma.com
DTSTART:20251212T193000Z
DTEND:20251212T210000Z
DTSTAMP:20251028T154425Z
URL:https://www.larevistadelapalma.com/events/santiago-useron-en-la-palma/
SUMMARY:Santiago Auserón en La Palma
DESCRIPTION:Santiago Auserón ha ido dando relieve a su personaje escéni
 co\, una mezcla de juglar ibero\, bluesman y sonero. En sus concierto
 s en solitario\, acompañado por su guitarra\, ofrece un espectáculo l
 leno de dimensiones y matices\, donde las canciones se suceden como una
  película de viajes. A través de parajes fronterizos\, el cantante se 
 encuentra con apariciones simbólicas con las que dialoga como en una fá
 bula.\n\n\nEste mes de octubre ha presentado su nuevo álbum «Nerantzi«\
 , con canciones griegas adaptadas al castellano. Le acompañan los músico
 s griegos Vaggelis Tzreretas y Theodoros Karellas y cuenta con con la cola
 boración especial de la cantante española Anni B Sweet.\n\nEn las últi
 mas composiciones registradas con su banda\,letras y melodías sorprende
 n una vez más por su originalidad. Al retornar al formato musical desnu
 do\, sus temas recobran la frescura de los primeros esbozos\, pero evolu
 cionan hacia una madurez musical. Al unirse con sus nuevas canciones\, l
 a antología de su obra anterior adquiere un nuevo colorido.\nSantiago 
 Auserón presenta sus temas con relatos improvisados que combinan liri
 smo y humor\, compartiendo ideas innovadoras. Su música crea un esp
 acio acogedor\, donde se establecen complicidades con un público fiel\
 , convertido en una hermandad artística unida por la poesía y la mús
 ica.\n
ATTACH;FMTTYPE=image/jpeg:https://www.larevistadelapalma.com/wp-content/up
 loads/2025/10/Santiago-useron-la-palma.jpeg
CATEGORIES:Conciertos,Música
LOCATION:Teatro Circo de Marte\, Calle Virgen de La Luz\, 5\, Santa Cruz de
  La Palma\, 38700\, España
GEO:28.682989;-17.765755
X-APPLE-STRUCTURED-LOCATION;VALUE=URI;X-ADDRESS=Calle Virgen de La Luz\, 5\
 , Santa Cruz de La Palma\, 38700\, España;X-APPLE-RADIUS=100;X-TITLE=Teat
 ro Circo de Marte:geo:28.682989,-17.765755
END:VEVENT
END:VCALENDAR