BEGIN:VCALENDAR
VERSION:2.0
PRODID:-//wp-events-plugin.com//7.2.3.1//EN
TZID:Europe/London
X-WR-TIMEZONE:Europe/London
BEGIN:VEVENT
UID:3091@larevistadelapalma.com
DTSTART:20240719T203000Z
DTEND:20240719T220000Z
DTSTAMP:20240701T153533Z
URL:https://www.larevistadelapalma.com/events/sara-socas-en-la-palma/
SUMMARY:La rapera Sara Socas en La Palma
DESCRIPTION:Siendo todavía una adolescente\, la rapera canaria Sara Socas 
  irrumpió en el testosterónico mundo de las batallas de MCs en 2017 y se
  forjó fama y respeto mundial en el mundo de la competición a base de ta
 lento y jabs. Gastando el símil pugilístico\, Socas ha tirado muchos jab
 s en las batallas de gallos para hacerse con su lugar en los campeonatos: 
 tiradas rápidas\, siempre con un pie al frente y marcando y midiendo dist
 ancia con sus oponentes.\n\nEn Marzo de 2023 la rapera tinerfeña anunciab
 a su despedida del mundo de la competición para dar paso a su carrera com
 o cantante\, multi-instrumentista y compositora. Sara Socas presentó en M
 ayo de 2023 “All Star”\, el primer single + videoclip de lo que sería
  su disco de debut\, con Acción Sánchez de SFDK al beat.\n\nhttps://www.
 youtube.com/watch?v=tD5LdvmUuAs\n\nSara Socas no ha dejado de saltar a la 
 comba y darle al rap\, pero mira por el retrovisor ahora ya el mundo del f
 reestyle y ha dejado atrás la técnica del jab para encarar un futuro en 
 el que su valentía y su talento conforman el gancho perfecto para tomar p
 or KO la escena mundial de las músicas urbanas.\n\nProduce Amy Produccion
 es.\n\nhttps://www.youtube.com/watch?v=n6xRd1o-PbQ&amp\;t=160s
ATTACH;FMTTYPE=image/jpeg:https://www.larevistadelapalma.com/wp-content/up
 loads/2024/07/Sara-Socas.jpg
CATEGORIES:Conciertos,Música
LOCATION:Plaza de Santo Domingo en Santa Cruz de La Palma\, Plaza Santo Dom
 ingo\, Santa Cruz de La Palma\, 38700\, España
GEO:28.682691;-17.766334
X-APPLE-STRUCTURED-LOCATION;VALUE=URI;X-ADDRESS=Plaza Santo Domingo\, Santa
  Cruz de La Palma\, 38700\, España;X-APPLE-RADIUS=100;X-TITLE=Plaza de Sa
 nto Domingo en Santa Cruz de La Palma:geo:28.682691,-17.766334
END:VEVENT
END:VCALENDARBEGIN:VCALENDAR
VERSION:2.0
PRODID:-//wp-events-plugin.com//7.2.3.1//EN
TZID:Europe/London
X-WR-TIMEZONE:Europe/London
BEGIN:VEVENT
UID:3091@larevistadelapalma.com
DTSTART:20240719T203000Z
DTEND:20240719T220000Z
DTSTAMP:20240701T153533Z
URL:https://www.larevistadelapalma.com/events/sara-socas-en-la-palma/
SUMMARY:La rapera Sara Socas en La Palma
DESCRIPTION:Siendo todavía una adolescente\, la rapera canaria Sara Socas 
  irrumpió en el testosterónico mundo de las batallas de MCs en 2017 y se
  forjó fama y respeto mundial en el mundo de la competición a base de ta
 lento y jabs. Gastando el símil pugilístico\, Socas ha tirado muchos jab
 s en las batallas de gallos para hacerse con su lugar en los campeonatos: 
 tiradas rápidas\, siempre con un pie al frente y marcando y midiendo dist
 ancia con sus oponentes.\n\nEn Marzo de 2023 la rapera tinerfeña anunciab
 a su despedida del mundo de la competición para dar paso a su carrera com
 o cantante\, multi-instrumentista y compositora. Sara Socas presentó en M
 ayo de 2023 “All Star”\, el primer single + videoclip de lo que sería
  su disco de debut\, con Acción Sánchez de SFDK al beat.\n\nhttps://www.
 youtube.com/watch?v=tD5LdvmUuAs\n\nSara Socas no ha dejado de saltar a la 
 comba y darle al rap\, pero mira por el retrovisor ahora ya el mundo del f
 reestyle y ha dejado atrás la técnica del jab para encarar un futuro en 
 el que su valentía y su talento conforman el gancho perfecto para tomar p
 or KO la escena mundial de las músicas urbanas.\n\nProduce Amy Produccion
 es.\n\nhttps://www.youtube.com/watch?v=n6xRd1o-PbQ&amp\;t=160s
ATTACH;FMTTYPE=image/jpeg:https://www.larevistadelapalma.com/wp-content/up
 loads/2024/07/Sara-Socas.jpg
CATEGORIES:Conciertos,Música
LOCATION:Plaza de Santo Domingo en Santa Cruz de La Palma\, Plaza Santo Dom
 ingo\, Santa Cruz de La Palma\, 38700\, España
GEO:28.682691;-17.766334
X-APPLE-STRUCTURED-LOCATION;VALUE=URI;X-ADDRESS=Plaza Santo Domingo\, Santa
  Cruz de La Palma\, 38700\, España;X-APPLE-RADIUS=100;X-TITLE=Plaza de Sa
 nto Domingo en Santa Cruz de La Palma:geo:28.682691,-17.766334
END:VEVENT
END:VCALENDAR