BEGIN:VCALENDAR
VERSION:2.0
PRODID:-//wp-events-plugin.com//7.2.3.1//EN
TZID:Europe/London
X-WR-TIMEZONE:Europe/London
BEGIN:VEVENT
UID:3647@larevistadelapalma.com
DTSTART:20250315T100000Z
DTEND:20250315T100000Z
DTSTAMP:20250313T222530Z
URL:https://www.larevistadelapalma.com/events/sardina-sauces/
SUMMARY:San Andrés y Sauces celebra una nueva edición del multitudinario 
 ‘Entierro de la Sardina’ 
DESCRIPTION:Comienza la cuenta atrás para recibir a miles de carnavaleros 
 en una jornada que arranca a las 11:00 horas con la gran cabalgata anuncia
 dora\, desde la carretera de acceso a Los Tilos hasta el centro neurálgic
 o de la fiesta. \n\nEl desparpajo y el buen humor están asegurados en es
 ta nueva edición de la Fiesta de Interés Turístico de Canarias\, que pr
 otagoniza la presumida Sardina al más puro estilo del “Salvaje Oeste”
 .\n\nLa música tomará las calles con el colorido de comparsas\, batucada
 s y orquesta\, precedida el viernes 14 por la presentación y pasacalle de
  la Sardina Infantil de Los Galguitos\, este año bajo el lema “Imperium
  Galguitus”.\n\nLlega la fecha más esperada por los incondicionales del
  número más alegre y jocoso del Carnaval palmero. San Andrés y Sauces 
 última los detalles para recibir a las miles de personas que este sábado
  15 de marzo\, se sumarán a la celebración del gran Entierro de la Sardi
 na\, en esta nueva edición\, con una original alegoría del “Salvaje Oe
 ste”. El Carnaval palmero vive este sábado un espectacular desfile para
  el que se ha dispuesto un amplio dispositivo de seguridad\, movilidad y v
 arios servicios públicos.\n\nLa jornada carnavalera por excelencia arranc
 a a las 11:00 horas del sábado con un ambiente festivo capitaneado por la
  gran Cabalgata Anunciadora a la que desde el Ayuntamiento invitan a sumar
 se a residentes y visitantes para “contagiarse del buen humor y disfruta
 r de una fiesta con identidad propia en una expresión de júbilo indispen
 sable  en el entierro más divertido para despedir el Carnaval”. \n\nE
 l Entierro  de la Sardina de San Andrés y Sauces\, Fiesta de Interés Tu
 rístico de Canarias para la que se ha dispuesto un amplio dispositivo de 
 seguridad\, hará vibrar a miles de carnavaleros con la llegada de la medi
 anoche y la esperada incineración\, en una parodia cuya principal protago
 nista mostrará su vistoso y colorista diseño al más puro estilo del “
 Salvaje Oeste” a las 10:00 horas. \n\nEl alcalde de San Andrés y Sauce
 s\, Francisco Paz\, destaca “el entusiasmo con el que contamos las horas
  para una nueva y renovada edición de u na celebración que une a miles d
 e vecinos y vecinas y visitantes\, en una fiesta que figura en el calendar
 io festivo de Canarias como número de Interés Turístico”. “El Entie
 rro de la Sardina y todo lo que contagia en el marco de una programa que s
 uma participantes de todas las edades con los actos que arrancan desde la 
 mañana del sábado\, es siempre una oportunidad única para sumarse a la 
 identidad de una celebración que sigue sorprendiendo por su carácter ale
 gre\, guasón y colorido en un clima amigable y hospitalario ”\, añadi
 ó. \n\nLa gran cabalgata anunciadora del Entierro de la Sardina\, a part
 ir de las 11:00 horas\, es uno de los números que mayor protagonismo ha a
 dquirido en los últimos años\, en un recorrido desde la carretera de acc
 eso a Los Tilos hasta la Plaza de Montserrat\, el centro neurálgico de la
  fiesta. A los ya tradicionales cabezudos\, y a los ritmos de la charanga\
 , comparsas y batucadas\, se suman los grupos del Carnaval de los centros 
 educativos del municipio\, que potencian la tradición de la fiesta con la
  Sardina Infantil\, realizada por la comunidad educativa del Colegio de In
 fantil y Primaria (CEIP) ‘José Luis Albendea’.   \n\nEste alegre y
  guasón desfile multicolor\, congregará a una jocosa comitiva llegará a
  la Plaza de Montserrat\, centro neurálgico de la fiesta\, donde se prolo
 ngará la fiesta al ritmo de las batucadas “Samba Cósmica”\; “Olodr
 um”\; “Badakatum”\; “Campobassao Samba” y las comparsas “Ohana
 ”\; “Kailani”\; “Río de Fuego”\; “Vía Láctea”\; “Samba 
 do Corazao” y “Samba Do Corazao Junior”\, a las que se suma la compa
 rsa de “San Andrés y Sauces”.  \nLa música en directo volverá a i
 nundar esta nueva edición del Entierro de la Sardina de San Andrés y Sau
 ces desde las 13:00 horas con las orquestas “Saoco”\,  “Grupo Bomba
 ” y  “Libertad”. A partir de las 19:30 horas y hasta altas horas de
  la madrugada\, la fiesta continuará con la gran verbena y el sonido úni
 co de la “Orquesta Libertad”\,\;Tropicana’s” y el “Grupo Bomba y
  su orquesta “Furia Joven”.  \n\n\nEn la víspera del gran entierro\
 , el viernes 14 de marzo\, el barrio de Los Galguitos celebra desde las 11
 :30 horas la presentación y el pasacalles de la Sardina Infantil. Este n
 úmero dedicado este año al “Imperium Galguitus”\, se prolonga por la
  tarde con el desfile de la comitiva que arranca a las 19:30 desde la pist
 a Tajadre\, pasando por calle Garachico hasta la plaza de Los Galguitos\, 
 para bailar al son del grupo “Saoco” y el solista Pedro Rodríguez. \
 n\nEl Ayuntamiento de San Andrés y Sauces\, un año más\, habilitará un
  espacio para sensibilizar a la población contra la violencia sexual y la
  LGTfobia. La prevención de posibles agresiones y el fomento de la  tole
 rancia desde la diversidad\, permitirán disfrutar de forma segura y libre
  de violencia de la multitudinaria celebración. El Punto Violeta contará
  con personal técnico especializado en coordinación con el dispositivo d
 e la Policía Local. \n\nTransportes Insular de La Palma\, en colaboraci
 ón con el Ayuntamiento de San Andrés y Sauces\, ha dispuesto líneas esp
 eciales para el transporte regular de viajeros que pueden ser consultadas 
 en la página web del Ayuntamiento de San Andrés y Sauces (www.sanandresy
 sauces.es). Además de bolsas de aparcamientos que estarán señalizadas.
ATTACH;FMTTYPE=image/jpeg:https://www.larevistadelapalma.com/wp-content/up
 loads/2025/03/cartel-Sardina-2025-scaled.jpg
CATEGORIES:Fiestas populares,Otras propuestas
LOCATION:Municipio de San Andrés y Sauces\, San Andrés y Sauces\, San And
 rés y Sauces\, 38720\, España
GEO:28.801722;-17.779166
X-APPLE-STRUCTURED-LOCATION;VALUE=URI;X-ADDRESS=San Andrés y Sauces\, San 
 Andrés y Sauces\, 38720\, España;X-APPLE-RADIUS=100;X-TITLE=Municipio de
  San Andrés y Sauces:geo:28.801722,-17.779166
END:VEVENT
END:VCALENDARBEGIN:VCALENDAR
VERSION:2.0
PRODID:-//wp-events-plugin.com//7.2.3.1//EN
TZID:Europe/London
X-WR-TIMEZONE:Europe/London
BEGIN:VEVENT
UID:3647@larevistadelapalma.com
DTSTART:20250315T100000Z
DTEND:20250315T100000Z
DTSTAMP:20250313T222530Z
URL:https://www.larevistadelapalma.com/events/sardina-sauces/
SUMMARY:San Andrés y Sauces celebra una nueva edición del multitudinario 
 ‘Entierro de la Sardina’ 
DESCRIPTION:Comienza la cuenta atrás para recibir a miles de carnavaleros 
 en una jornada que arranca a las 11:00 horas con la gran cabalgata anuncia
 dora\, desde la carretera de acceso a Los Tilos hasta el centro neurálgic
 o de la fiesta. \n\nEl desparpajo y el buen humor están asegurados en es
 ta nueva edición de la Fiesta de Interés Turístico de Canarias\, que pr
 otagoniza la presumida Sardina al más puro estilo del “Salvaje Oeste”
 .\n\nLa música tomará las calles con el colorido de comparsas\, batucada
 s y orquesta\, precedida el viernes 14 por la presentación y pasacalle de
  la Sardina Infantil de Los Galguitos\, este año bajo el lema “Imperium
  Galguitus”.\n\nLlega la fecha más esperada por los incondicionales del
  número más alegre y jocoso del Carnaval palmero. San Andrés y Sauces 
 última los detalles para recibir a las miles de personas que este sábado
  15 de marzo\, se sumarán a la celebración del gran Entierro de la Sardi
 na\, en esta nueva edición\, con una original alegoría del “Salvaje Oe
 ste”. El Carnaval palmero vive este sábado un espectacular desfile para
  el que se ha dispuesto un amplio dispositivo de seguridad\, movilidad y v
 arios servicios públicos.\n\nLa jornada carnavalera por excelencia arranc
 a a las 11:00 horas del sábado con un ambiente festivo capitaneado por la
  gran Cabalgata Anunciadora a la que desde el Ayuntamiento invitan a sumar
 se a residentes y visitantes para “contagiarse del buen humor y disfruta
 r de una fiesta con identidad propia en una expresión de júbilo indispen
 sable  en el entierro más divertido para despedir el Carnaval”. \n\nE
 l Entierro  de la Sardina de San Andrés y Sauces\, Fiesta de Interés Tu
 rístico de Canarias para la que se ha dispuesto un amplio dispositivo de 
 seguridad\, hará vibrar a miles de carnavaleros con la llegada de la medi
 anoche y la esperada incineración\, en una parodia cuya principal protago
 nista mostrará su vistoso y colorista diseño al más puro estilo del “
 Salvaje Oeste” a las 10:00 horas. \n\nEl alcalde de San Andrés y Sauce
 s\, Francisco Paz\, destaca “el entusiasmo con el que contamos las horas
  para una nueva y renovada edición de u na celebración que une a miles d
 e vecinos y vecinas y visitantes\, en una fiesta que figura en el calendar
 io festivo de Canarias como número de Interés Turístico”. “El Entie
 rro de la Sardina y todo lo que contagia en el marco de una programa que s
 uma participantes de todas las edades con los actos que arrancan desde la 
 mañana del sábado\, es siempre una oportunidad única para sumarse a la 
 identidad de una celebración que sigue sorprendiendo por su carácter ale
 gre\, guasón y colorido en un clima amigable y hospitalario ”\, añadi
 ó. \n\nLa gran cabalgata anunciadora del Entierro de la Sardina\, a part
 ir de las 11:00 horas\, es uno de los números que mayor protagonismo ha a
 dquirido en los últimos años\, en un recorrido desde la carretera de acc
 eso a Los Tilos hasta la Plaza de Montserrat\, el centro neurálgico de la
  fiesta. A los ya tradicionales cabezudos\, y a los ritmos de la charanga\
 , comparsas y batucadas\, se suman los grupos del Carnaval de los centros 
 educativos del municipio\, que potencian la tradición de la fiesta con la
  Sardina Infantil\, realizada por la comunidad educativa del Colegio de In
 fantil y Primaria (CEIP) ‘José Luis Albendea’.   \n\nEste alegre y
  guasón desfile multicolor\, congregará a una jocosa comitiva llegará a
  la Plaza de Montserrat\, centro neurálgico de la fiesta\, donde se prolo
 ngará la fiesta al ritmo de las batucadas “Samba Cósmica”\; “Olodr
 um”\; “Badakatum”\; “Campobassao Samba” y las comparsas “Ohana
 ”\; “Kailani”\; “Río de Fuego”\; “Vía Láctea”\; “Samba 
 do Corazao” y “Samba Do Corazao Junior”\, a las que se suma la compa
 rsa de “San Andrés y Sauces”.  \nLa música en directo volverá a i
 nundar esta nueva edición del Entierro de la Sardina de San Andrés y Sau
 ces desde las 13:00 horas con las orquestas “Saoco”\,  “Grupo Bomba
 ” y  “Libertad”. A partir de las 19:30 horas y hasta altas horas de
  la madrugada\, la fiesta continuará con la gran verbena y el sonido úni
 co de la “Orquesta Libertad”\,\;Tropicana’s” y el “Grupo Bomba y
  su orquesta “Furia Joven”.  \n\n\nEn la víspera del gran entierro\
 , el viernes 14 de marzo\, el barrio de Los Galguitos celebra desde las 11
 :30 horas la presentación y el pasacalles de la Sardina Infantil. Este n
 úmero dedicado este año al “Imperium Galguitus”\, se prolonga por la
  tarde con el desfile de la comitiva que arranca a las 19:30 desde la pist
 a Tajadre\, pasando por calle Garachico hasta la plaza de Los Galguitos\, 
 para bailar al son del grupo “Saoco” y el solista Pedro Rodríguez. \
 n\nEl Ayuntamiento de San Andrés y Sauces\, un año más\, habilitará un
  espacio para sensibilizar a la población contra la violencia sexual y la
  LGTfobia. La prevención de posibles agresiones y el fomento de la  tole
 rancia desde la diversidad\, permitirán disfrutar de forma segura y libre
  de violencia de la multitudinaria celebración. El Punto Violeta contará
  con personal técnico especializado en coordinación con el dispositivo d
 e la Policía Local. \n\nTransportes Insular de La Palma\, en colaboraci
 ón con el Ayuntamiento de San Andrés y Sauces\, ha dispuesto líneas esp
 eciales para el transporte regular de viajeros que pueden ser consultadas 
 en la página web del Ayuntamiento de San Andrés y Sauces (www.sanandresy
 sauces.es). Además de bolsas de aparcamientos que estarán señalizadas.
ATTACH;FMTTYPE=image/jpeg:https://www.larevistadelapalma.com/wp-content/up
 loads/2025/03/cartel-Sardina-2025-scaled.jpg
CATEGORIES:Fiestas populares,Otras propuestas
LOCATION:Municipio de San Andrés y Sauces\, San Andrés y Sauces\, San And
 rés y Sauces\, 38720\, España
GEO:28.801722;-17.779166
X-APPLE-STRUCTURED-LOCATION;VALUE=URI;X-ADDRESS=San Andrés y Sauces\, San 
 Andrés y Sauces\, 38720\, España;X-APPLE-RADIUS=100;X-TITLE=Municipio de
  San Andrés y Sauces:geo:28.801722,-17.779166
END:VEVENT
END:VCALENDAR