BEGIN:VCALENDAR
VERSION:2.0
PRODID:-//wp-events-plugin.com//7.2.3.1//EN
TZID:Europe/London
X-WR-TIMEZONE:Europe/London
BEGIN:VEVENT
UID:3564@larevistadelapalma.com
DTSTART:20250201T170000Z
DTEND:20250201T183000Z
DTSTAMP:20250123T214113Z
URL:https://www.larevistadelapalma.com/events/se-presenta-en-los-llanos-el
 -documental-la-memoria-de-aridane/
SUMMARY:Se presenta en Los Llanos el documental "La memoria de Aridane"
DESCRIPTION:El próximo 1 de febrero se presenta La memoria de Aridane\, un
  documental de Paula Candelaria Ventura que explora el pasado de Los Llano
 s de Aridane a través de los testimonios de los mayores del municipio. Hi
 storias que hablan del dolor\, el amor\, la niñez\, el trabajo y las trad
 iciones\, en el contexto de una época llena de complejidad\, en la que la
  comunidad y la importancia de la memoria destacan como una constante dent
 ro de un relato que nos identifica como pueblo.
ATTACH;FMTTYPE=image/jpeg:https://www.larevistadelapalma.com/wp-content/up
 loads/2025/01/La-memoria-de-Aridane.jpg
CATEGORIES:Cine,Cine y Literatura
LOCATION:Casa de La Cultura de Los Llanos de Aridane\, : C. Real\, 8\, Los 
 Llanos de Aridane \, 38760\, España
GEO:28.658651;-17.913512
X-APPLE-STRUCTURED-LOCATION;VALUE=URI;X-ADDRESS=: C. Real\, 8\, Los Llanos 
 de Aridane \, 38760\, España;X-APPLE-RADIUS=100;X-TITLE=Casa de La Cultur
 a de Los Llanos de Aridane:geo:28.658651,-17.913512
END:VEVENT
END:VCALENDARBEGIN:VCALENDAR
VERSION:2.0
PRODID:-//wp-events-plugin.com//7.2.3.1//EN
TZID:Europe/London
X-WR-TIMEZONE:Europe/London
BEGIN:VEVENT
UID:3564@larevistadelapalma.com
DTSTART:20250201T170000Z
DTEND:20250201T183000Z
DTSTAMP:20250123T214113Z
URL:https://www.larevistadelapalma.com/events/se-presenta-en-los-llanos-el
 -documental-la-memoria-de-aridane/
SUMMARY:Se presenta en Los Llanos el documental "La memoria de Aridane"
DESCRIPTION:El próximo 1 de febrero se presenta La memoria de Aridane\, un
  documental de Paula Candelaria Ventura que explora el pasado de Los Llano
 s de Aridane a través de los testimonios de los mayores del municipio. Hi
 storias que hablan del dolor\, el amor\, la niñez\, el trabajo y las trad
 iciones\, en el contexto de una época llena de complejidad\, en la que la
  comunidad y la importancia de la memoria destacan como una constante dent
 ro de un relato que nos identifica como pueblo.
ATTACH;FMTTYPE=image/jpeg:https://www.larevistadelapalma.com/wp-content/up
 loads/2025/01/La-memoria-de-Aridane.jpg
CATEGORIES:Cine,Cine y Literatura
LOCATION:Casa de La Cultura de Los Llanos de Aridane\, : C. Real\, 8\, Los 
 Llanos de Aridane \, 38760\, España
GEO:28.658651;-17.913512
X-APPLE-STRUCTURED-LOCATION;VALUE=URI;X-ADDRESS=: C. Real\, 8\, Los Llanos 
 de Aridane \, 38760\, España;X-APPLE-RADIUS=100;X-TITLE=Casa de La Cultur
 a de Los Llanos de Aridane:geo:28.658651,-17.913512
END:VEVENT
END:VCALENDAR