BEGIN:VCALENDAR
VERSION:2.0
PRODID:-//wp-events-plugin.com//7.2.3.1//EN
TZID:Europe/London
X-WR-TIMEZONE:Europe/London
BEGIN:VEVENT
UID:3862@larevistadelapalma.com
DTSTART;VALUE=DATE:20250707
DTEND;VALUE=DATE:20250721
DTSTAMP:20250713T223122Z
URL:https://www.larevistadelapalma.com/events/segundo-turno-arte-lustral-c
 asino/
SUMMARY:Segundo Turno de la exposición Arte Lustral (Casino)
DESCRIPTION:Las ilustraciones de Víctor Jaubert.
ATTACH;FMTTYPE=image/jpeg:https://www.larevistadelapalma.com/wp-content/up
 loads/2025/07/Arte-Lustral-Victor-Jaubert-2.jpeg
CATEGORIES:Exposiciones
LOCATION:Casino de Santa Cruz de La Palma\,  C. Anselmo Pérez de Brito\, 1
 5\, Santa Cruz De La Palma\, Santa Cruz de Tenerife\, 38700\, España
GEO:28.684234;-17.7638
X-APPLE-STRUCTURED-LOCATION;VALUE=URI;X-ADDRESS= C. Anselmo Pérez de Brito
 \, 15\, Santa Cruz De La Palma\, Santa Cruz de Tenerife\, 38700\, España;
 X-APPLE-RADIUS=100;X-TITLE=Casino de Santa Cruz de La Palma:geo:28.684234,
 -17.7638
END:VEVENT
END:VCALENDARBEGIN:VCALENDAR
VERSION:2.0
PRODID:-//wp-events-plugin.com//7.2.3.1//EN
TZID:Europe/London
X-WR-TIMEZONE:Europe/London
BEGIN:VEVENT
UID:3862@larevistadelapalma.com
DTSTART;VALUE=DATE:20250707
DTEND;VALUE=DATE:20250721
DTSTAMP:20250713T223122Z
URL:https://www.larevistadelapalma.com/events/segundo-turno-arte-lustral-c
 asino/
SUMMARY:Segundo Turno de la exposición Arte Lustral (Casino)
DESCRIPTION:Las ilustraciones de Víctor Jaubert.
ATTACH;FMTTYPE=image/jpeg:https://www.larevistadelapalma.com/wp-content/up
 loads/2025/07/Arte-Lustral-Victor-Jaubert-2.jpeg
CATEGORIES:Exposiciones
LOCATION:Casino de Santa Cruz de La Palma\,  C. Anselmo Pérez de Brito\, 1
 5\, Santa Cruz De La Palma\, Santa Cruz de Tenerife\, 38700\, España
GEO:28.684234;-17.7638
X-APPLE-STRUCTURED-LOCATION;VALUE=URI;X-ADDRESS= C. Anselmo Pérez de Brito
 \, 15\, Santa Cruz De La Palma\, Santa Cruz de Tenerife\, 38700\, España;
 X-APPLE-RADIUS=100;X-TITLE=Casino de Santa Cruz de La Palma:geo:28.684234,
 -17.7638
END:VEVENT
END:VCALENDAR