BEGIN:VCALENDAR
VERSION:2.0
PRODID:-//wp-events-plugin.com//7.2.3.1//EN
TZID:Europe/London
X-WR-TIMEZONE:Europe/London
BEGIN:VEVENT
UID:3864@larevistadelapalma.com
DTSTART;VALUE=DATE:20250707
DTEND;VALUE=DATE:20250721
DTSTAMP:20250708T162059Z
URL:https://www.larevistadelapalma.com/events/segundo-turno-arte-lustral-l
 a-molina/
SUMMARY:Segundo Turno de la exposición Arte Lustral (La Molina)
DESCRIPTION:Obras de plumilla de Alexis González.
ATTACH;FMTTYPE=image/jpeg:https://www.larevistadelapalma.com/wp-content/up
 loads/2025/07/Arte-Lustral-Alexis-Gonzalez-1.jpeg
CATEGORIES:Exposiciones
LOCATION:Calle Apurón\, Santa Cruz de La Palma\, Calle Apurón\, Santa Cru
 z De La Palma\, Santa Cruz de Tenerife\, 38700\, España
GEO:28.682389;-17.765387
X-APPLE-STRUCTURED-LOCATION;VALUE=URI;X-ADDRESS=Calle Apurón\, Santa Cruz 
 De La Palma\, Santa Cruz de Tenerife\, 38700\, España;X-APPLE-RADIUS=100;
 X-TITLE=Calle Apurón\, Santa Cruz de La Palma:geo:28.682389,-17.765387
END:VEVENT
END:VCALENDARBEGIN:VCALENDAR
VERSION:2.0
PRODID:-//wp-events-plugin.com//7.2.3.1//EN
TZID:Europe/London
X-WR-TIMEZONE:Europe/London
BEGIN:VEVENT
UID:3864@larevistadelapalma.com
DTSTART;VALUE=DATE:20250707
DTEND;VALUE=DATE:20250721
DTSTAMP:20250708T162059Z
URL:https://www.larevistadelapalma.com/events/segundo-turno-arte-lustral-l
 a-molina/
SUMMARY:Segundo Turno de la exposición Arte Lustral (La Molina)
DESCRIPTION:Obras de plumilla de Alexis González.
ATTACH;FMTTYPE=image/jpeg:https://www.larevistadelapalma.com/wp-content/up
 loads/2025/07/Arte-Lustral-Alexis-Gonzalez-1.jpeg
CATEGORIES:Exposiciones
LOCATION:Calle Apurón\, Santa Cruz de La Palma\, Calle Apurón\, Santa Cru
 z De La Palma\, Santa Cruz de Tenerife\, 38700\, España
GEO:28.682389;-17.765387
X-APPLE-STRUCTURED-LOCATION;VALUE=URI;X-ADDRESS=Calle Apurón\, Santa Cruz 
 De La Palma\, Santa Cruz de Tenerife\, 38700\, España;X-APPLE-RADIUS=100;
 X-TITLE=Calle Apurón\, Santa Cruz de La Palma:geo:28.682389,-17.765387
END:VEVENT
END:VCALENDAR