BEGIN:VCALENDAR
VERSION:2.0
PRODID:-//wp-events-plugin.com//7.2.3.1//EN
TZID:Europe/London
X-WR-TIMEZONE:Europe/London
BEGIN:VEVENT
UID:762@larevistadelapalma.com
DTSTART;VALUE=DATE:20231025
DTEND;VALUE=DATE:20231029
DTSTAMP:20231013T232144Z
URL:https://www.larevistadelapalma.com/events/semana-cultural-52-aniversar
 io-del-teneguia/
SUMMARY:Semana Cultural para conmemorar el 52 aniversario de la erupción d
 el Teneguía 
DESCRIPTION:Una Semana Cultural impulsada por el Ayuntamiento de Fuencalien
 te conmemora el 52 aniversario del Teneguía.\nEl día del aniversario se 
 proyectará el documental ‘Teneguía\, el volcán amable’.\n\nEl Ayunt
 amiento de Fuencaliente\, a través de la Concejalía de Cultura\, prepara
  la celebración de una Semana Cultural que sirva para conmemorar el 52 an
 iversario de la erupción del Volcán Teneguía. \n\nEntre el 25 y el 28 
 de octubre se han dispuesto una serie de actos que vienen a conmemorar est
 a efeméride de trascendencia social\, turística y económica para el mun
 icipio. Las jornadas comenzarán el miércoles 25 de octubre\, a las 10:0
 0 horas\, con la charla para la comunidad escolar ‘El fenómeno volcáni
 co en Canarias: riesgos y oportunidades’\, impartida por personal de Inv
 olcan\, y continuará con la entrega de distinciones del concurso de dibuj
 o.\n\nA partir de las 19:30 horas\, abierto a todos los públicos\, el Cen
 tro Cultural de Los Canarios recibirá la conferencia ‘Estrategia Canari
 a para la Reducción del Riesgo Volcánico’\, impartida por el coordinad
 or científico de Involcan\, Nemesio Pérez.\n\nYa el jueves 26 de octubre
 \, día del aniversario\, a partir de las 19:30 horas el Centro Cultural d
 e Los Canarios también recibirá la conferencia ‘Las coladas del Tenegu
 ía y los tesoros que albergan’\, impartida por el director de área de 
 Georrecursos de Involcan\, Luis Hernández\, para continuar con la proyecc
 ión del documental ‘Teneguía\, el volcán amable’. \n\nLa jornada d
 el viernes comenzará\, a las 10:30 horas\, con una excursión geoturísti
 ca a la Cueva de Los Palmeros\, celebrando durante la tarde\, a partir de 
 las 19:30 horas\, la presentación del proyecto de geoturismo ‘Monumento
  natural volcanes de Teneguía’ y la proyección del documental ‘Cumbr
 e Vieja\, una tierra forjada por el fuego’.\n\nLos actos concluirán la 
 mañana del sábado 28 de octubre\, a partir de las 10:00 horas\, con una 
 excursión geoturística al Volcán Teneguía. \n\n\n\n&nbsp\;\n\n&nbsp\;
ATTACH;FMTTYPE=image/jpeg:https://www.larevistadelapalma.com/wp-content/up
 loads/2023/10/Volcan-Teneguia.png
CATEGORIES:Otras propuestas,Varios
LOCATION:Municipio de Fuencaliente\, Fuencaliente\, Fuencaliente\, 38740\, 
 España
GEO:28.479676;-17.840616
X-APPLE-STRUCTURED-LOCATION;VALUE=URI;X-ADDRESS=Fuencaliente\, Fuencaliente
 \, 38740\, España;X-APPLE-RADIUS=100;X-TITLE=Municipio de Fuencaliente:ge
 o:28.479676,-17.840616
END:VEVENT
END:VCALENDARBEGIN:VCALENDAR
VERSION:2.0
PRODID:-//wp-events-plugin.com//7.2.3.1//EN
TZID:Europe/London
X-WR-TIMEZONE:Europe/London
BEGIN:VEVENT
UID:762@larevistadelapalma.com
DTSTART;VALUE=DATE:20231025
DTEND;VALUE=DATE:20231029
DTSTAMP:20231013T232144Z
URL:https://www.larevistadelapalma.com/events/semana-cultural-52-aniversar
 io-del-teneguia/
SUMMARY:Semana Cultural para conmemorar el 52 aniversario de la erupción d
 el Teneguía 
DESCRIPTION:Una Semana Cultural impulsada por el Ayuntamiento de Fuencalien
 te conmemora el 52 aniversario del Teneguía.\nEl día del aniversario se 
 proyectará el documental ‘Teneguía\, el volcán amable’.\n\nEl Ayunt
 amiento de Fuencaliente\, a través de la Concejalía de Cultura\, prepara
  la celebración de una Semana Cultural que sirva para conmemorar el 52 an
 iversario de la erupción del Volcán Teneguía. \n\nEntre el 25 y el 28 
 de octubre se han dispuesto una serie de actos que vienen a conmemorar est
 a efeméride de trascendencia social\, turística y económica para el mun
 icipio. Las jornadas comenzarán el miércoles 25 de octubre\, a las 10:0
 0 horas\, con la charla para la comunidad escolar ‘El fenómeno volcáni
 co en Canarias: riesgos y oportunidades’\, impartida por personal de Inv
 olcan\, y continuará con la entrega de distinciones del concurso de dibuj
 o.\n\nA partir de las 19:30 horas\, abierto a todos los públicos\, el Cen
 tro Cultural de Los Canarios recibirá la conferencia ‘Estrategia Canari
 a para la Reducción del Riesgo Volcánico’\, impartida por el coordinad
 or científico de Involcan\, Nemesio Pérez.\n\nYa el jueves 26 de octubre
 \, día del aniversario\, a partir de las 19:30 horas el Centro Cultural d
 e Los Canarios también recibirá la conferencia ‘Las coladas del Tenegu
 ía y los tesoros que albergan’\, impartida por el director de área de 
 Georrecursos de Involcan\, Luis Hernández\, para continuar con la proyecc
 ión del documental ‘Teneguía\, el volcán amable’. \n\nLa jornada d
 el viernes comenzará\, a las 10:30 horas\, con una excursión geoturísti
 ca a la Cueva de Los Palmeros\, celebrando durante la tarde\, a partir de 
 las 19:30 horas\, la presentación del proyecto de geoturismo ‘Monumento
  natural volcanes de Teneguía’ y la proyección del documental ‘Cumbr
 e Vieja\, una tierra forjada por el fuego’.\n\nLos actos concluirán la 
 mañana del sábado 28 de octubre\, a partir de las 10:00 horas\, con una 
 excursión geoturística al Volcán Teneguía. \n\n\n\n&nbsp\;\n\n&nbsp\;
ATTACH;FMTTYPE=image/jpeg:https://www.larevistadelapalma.com/wp-content/up
 loads/2023/10/Volcan-Teneguia.png
CATEGORIES:Otras propuestas,Varios
LOCATION:Municipio de Fuencaliente\, Fuencaliente\, Fuencaliente\, 38740\, 
 España
GEO:28.479676;-17.840616
X-APPLE-STRUCTURED-LOCATION;VALUE=URI;X-ADDRESS=Fuencaliente\, Fuencaliente
 \, 38740\, España;X-APPLE-RADIUS=100;X-TITLE=Municipio de Fuencaliente:ge
 o:28.479676,-17.840616
END:VEVENT
END:VCALENDAR