BEGIN:VCALENDAR
VERSION:2.0
PRODID:-//wp-events-plugin.com//7.2.3.1//EN
TZID:Europe/London
X-WR-TIMEZONE:Europe/London
BEGIN:VEVENT
UID:4046@larevistadelapalma.com
DTSTART;VALUE=DATE:20251114
DTEND;VALUE=DATE:20251129
DTSTAMP:20251106T143025Z
URL:https://www.larevistadelapalma.com/events/semana-cultural-jose-luis-lo
 renzo-barreto/
SUMMARY:Semana Cultural José Luis Lorenzo Barreto 2025
DESCRIPTION:Una semana con una programación dedicada al recuerdo de José 
 Luis Lorenzo Barreto\, hijo predilecto del municipio.\n\nLa programación 
 comienza el lunes\, 21 de noviembre\, a las 09:00 horas\, con el espectá
 culo infantil “Mi camino” de Badabadum en la Casa de la Cultura José
  Luis Lorenzo Barreto\, que aunque se orienta al alumnado del CEO Tijarafe
 \, la entrada será libre para todo el que desee asistir. A las 10:00 hora
 s\, el atrio del Ayuntamiento de Tijarafe acogerá la inauguración de la
  exposición que rinde homenaje a la figura de José Luis Lorenzo Barreto
 . La muestra fotográfica se podrá visitar de 08:00 a 15:00 horas\, hast
 a el 2 de diciembre.\n\nLos actos continuarán el miércoles\, 23 de novie
 mbre\, con la presentación a las 19:00 horas en la Casa de la Décima del
  libro “Sobre un eclipse de sombras” del conocido verseador tijarafero
  Pepe Rocha. Siguiendo con la temática\, el jueves\, 24 de noviembre\, a 
 las 20:00 horas tendrá lugar en la Casa de la Cultura José Luis Lorenzo 
 Barreto una muestra de punto cubano con el verseador Yeray Rodríguez y l
 a Escuela de Verseadores de Gran Canaria\, que\, además\, estarán acomp
 añados por los verseadores Eduardo Duque y José María Dávila.\n\nEl
  viernes\, 25 de noviembre\, a las 18:00 horas\, en la Biblioteca Municipa
 l de El Pueblo\, Aroa de Francisco presentará su libro “Instantes”\,
  junto a las integrantes del club de lectura de la Asociación Sociocultu
 ral de Mujeres Vega. Mientras que el sábado\, 26 de noviembre\, será el 
 día en el que la Agrupación Folclórica Tagomate celebre su 50º aniver
 sario\, acompañada de la Escuela Municipal de Folclore y de los solista
 s Besay Pérez\, Marty Martín\, Andrea Rodríguez y Mateo Felipe. Todo el
 lo\, a partir de las 19:30 horas en la Casa de la Cultura José Luis Loren
 zo Barreto. Sin olvidar que media hora antes\, se entregarán los premios
  del concurso de narrativa y de dibujo del CEO Tijarafe.\nPROGRAMACIÓN:\n
 \n\n
ATTACH;FMTTYPE=image/jpeg:https://www.larevistadelapalma.com/wp-content/up
 loads/2025/11/Semana-Cultural-Jose-Luis-Lorenzo-Barreto-25.jpg
CATEGORIES:Otras propuestas,Varios
LOCATION:Municipio de Tijarafe\, Municipio de Tijarafe\, Tijarafe\, 38780\,
  España
GEO:28.711091;-17.956181
X-APPLE-STRUCTURED-LOCATION;VALUE=URI;X-ADDRESS=Municipio de Tijarafe\, Tij
 arafe\, 38780\, España;X-APPLE-RADIUS=100;X-TITLE=Municipio de Tijarafe:g
 eo:28.711091,-17.956181
END:VEVENT
END:VCALENDARBEGIN:VCALENDAR
VERSION:2.0
PRODID:-//wp-events-plugin.com//7.2.3.1//EN
TZID:Europe/London
X-WR-TIMEZONE:Europe/London
BEGIN:VEVENT
UID:4046@larevistadelapalma.com
DTSTART;VALUE=DATE:20251114
DTEND;VALUE=DATE:20251129
DTSTAMP:20251106T143025Z
URL:https://www.larevistadelapalma.com/events/semana-cultural-jose-luis-lo
 renzo-barreto/
SUMMARY:Semana Cultural José Luis Lorenzo Barreto 2025
DESCRIPTION:Una semana con una programación dedicada al recuerdo de José 
 Luis Lorenzo Barreto\, hijo predilecto del municipio.\n\nLa programación 
 comienza el lunes\, 21 de noviembre\, a las 09:00 horas\, con el espectá
 culo infantil “Mi camino” de Badabadum en la Casa de la Cultura José
  Luis Lorenzo Barreto\, que aunque se orienta al alumnado del CEO Tijarafe
 \, la entrada será libre para todo el que desee asistir. A las 10:00 hora
 s\, el atrio del Ayuntamiento de Tijarafe acogerá la inauguración de la
  exposición que rinde homenaje a la figura de José Luis Lorenzo Barreto
 . La muestra fotográfica se podrá visitar de 08:00 a 15:00 horas\, hast
 a el 2 de diciembre.\n\nLos actos continuarán el miércoles\, 23 de novie
 mbre\, con la presentación a las 19:00 horas en la Casa de la Décima del
  libro “Sobre un eclipse de sombras” del conocido verseador tijarafero
  Pepe Rocha. Siguiendo con la temática\, el jueves\, 24 de noviembre\, a 
 las 20:00 horas tendrá lugar en la Casa de la Cultura José Luis Lorenzo 
 Barreto una muestra de punto cubano con el verseador Yeray Rodríguez y l
 a Escuela de Verseadores de Gran Canaria\, que\, además\, estarán acomp
 añados por los verseadores Eduardo Duque y José María Dávila.\n\nEl
  viernes\, 25 de noviembre\, a las 18:00 horas\, en la Biblioteca Municipa
 l de El Pueblo\, Aroa de Francisco presentará su libro “Instantes”\,
  junto a las integrantes del club de lectura de la Asociación Sociocultu
 ral de Mujeres Vega. Mientras que el sábado\, 26 de noviembre\, será el 
 día en el que la Agrupación Folclórica Tagomate celebre su 50º aniver
 sario\, acompañada de la Escuela Municipal de Folclore y de los solista
 s Besay Pérez\, Marty Martín\, Andrea Rodríguez y Mateo Felipe. Todo el
 lo\, a partir de las 19:30 horas en la Casa de la Cultura José Luis Loren
 zo Barreto. Sin olvidar que media hora antes\, se entregarán los premios
  del concurso de narrativa y de dibujo del CEO Tijarafe.\nPROGRAMACIÓN:\n
 \n\n
ATTACH;FMTTYPE=image/jpeg:https://www.larevistadelapalma.com/wp-content/up
 loads/2025/11/Semana-Cultural-Jose-Luis-Lorenzo-Barreto-25.jpg
CATEGORIES:Otras propuestas,Varios
LOCATION:Municipio de Tijarafe\, Municipio de Tijarafe\, Tijarafe\, 38780\,
  España
GEO:28.711091;-17.956181
X-APPLE-STRUCTURED-LOCATION;VALUE=URI;X-ADDRESS=Municipio de Tijarafe\, Tij
 arafe\, 38780\, España;X-APPLE-RADIUS=100;X-TITLE=Municipio de Tijarafe:g
 eo:28.711091,-17.956181
END:VEVENT
END:VCALENDAR