BEGIN:VCALENDAR
VERSION:2.0
PRODID:-//wp-events-plugin.com//7.2.3.1//EN
TZID:Europe/London
X-WR-TIMEZONE:Europe/London
BEGIN:VEVENT
UID:731@larevistadelapalma.com
DTSTART:20231006T160000Z
DTEND:20231006T225900Z
DTSTAMP:20231003T214605Z
URL:https://www.larevistadelapalma.com/events/semana-de-cine-en-el-paso/
SUMMARY:Semana de cine en El Paso
DESCRIPTION:Con motivo de La Semana del Cine en El Paso\, el viernes y el d
 omingo vamos al cine. Tres peliculones el viernes y otros tres el domingo\
 , con propuestas para todos lo gustos y edades.\n\nViernes:\n\n 	La novia 
 cadaver\n 	Annie Hall\n 	Ringu\n\nEl acceso será totalmente gratuito y ha
 brá bebidas y palomitas en el servicio de bar.
ATTACH;FMTTYPE=image/jpeg:https://www.larevistadelapalma.com/wp-content/up
 loads/2023/10/semana-del-cine-en-El-Paso.jpg
CATEGORIES:Cine,Cine y Literatura
LOCATION:Crealab El Paso\, C. Manuel Taño\, 1\, El Paso\, 38750\, España
GEO:28.651929;-17.88
X-APPLE-STRUCTURED-LOCATION;VALUE=URI;X-ADDRESS=C. Manuel Taño\, 1\, El Pa
 so\, 38750\, España;X-APPLE-RADIUS=100;X-TITLE=Crealab El Paso:geo:28.651
 929,-17.88
END:VEVENT
END:VCALENDARBEGIN:VCALENDAR
VERSION:2.0
PRODID:-//wp-events-plugin.com//7.2.3.1//EN
TZID:Europe/London
X-WR-TIMEZONE:Europe/London
BEGIN:VEVENT
UID:731@larevistadelapalma.com
DTSTART:20231006T160000Z
DTEND:20231006T225900Z
DTSTAMP:20231003T214605Z
URL:https://www.larevistadelapalma.com/events/semana-de-cine-en-el-paso/
SUMMARY:Semana de cine en El Paso
DESCRIPTION:Con motivo de La Semana del Cine en El Paso\, el viernes y el d
 omingo vamos al cine. Tres peliculones el viernes y otros tres el domingo\
 , con propuestas para todos lo gustos y edades.\n\nViernes:\n\n 	La novia 
 cadaver\n 	Annie Hall\n 	Ringu\n\nEl acceso será totalmente gratuito y ha
 brá bebidas y palomitas en el servicio de bar.
ATTACH;FMTTYPE=image/jpeg:https://www.larevistadelapalma.com/wp-content/up
 loads/2023/10/semana-del-cine-en-El-Paso.jpg
CATEGORIES:Cine,Cine y Literatura
LOCATION:Crealab El Paso\, C. Manuel Taño\, 1\, El Paso\, 38750\, España
GEO:28.651929;-17.88
X-APPLE-STRUCTURED-LOCATION;VALUE=URI;X-ADDRESS=C. Manuel Taño\, 1\, El Pa
 so\, 38750\, España;X-APPLE-RADIUS=100;X-TITLE=Crealab El Paso:geo:28.651
 929,-17.88
END:VEVENT
END:VCALENDAR