BEGIN:VCALENDAR
VERSION:2.0
PRODID:-//wp-events-plugin.com//7.2.3.1//EN
TZID:Europe/London
X-WR-TIMEZONE:Europe/London
BEGIN:VEVENT
UID:4639@larevistadelapalma.com
DTSTART;VALUE=DATE:20260422
DTEND;VALUE=DATE:20260428
DTSTAMP:20260415T233339Z
URL:https://www.larevistadelapalma.com/events/semana-del-libro-2026-en-vil
 la-de-mazo/
SUMMARY:Semana del Libro 2026 en Villa de Mazo
DESCRIPTION:Miércoles 22 de abril\n\n\n 	18:00h (Museo Casa Roja): Presen
 tación y firma del libro “La sangre de la malvasía” del escritor J
 orge Laguna.\n\nDespués del éxito de El secreto de La Indiana y La 
 huésped de la Casa Amarilla\, Jorge Laguna regresa con esta novela de a
 mbientación histórica que ahonda en el siglo XVIII español\, una época
  controvertida sobre todo para la mujer\, y muestra el desequilibrio entre
  las clases sociales y la esclavitud.\n\n\n 	20:00h (Centro de la Cultura 
 Andares): El grupo de teatro La Farsa presenta la lectura teatralizada de 
 “El juez de los divorcios” de Miguel de Cervantes\, bajo la direcció
 n de María J. Batista.\n\n\nJueves 23 de Abril (Día del Libro)\n\n\n 	Du
 rante el día: Suelta de libros por los diferentes barrios del municipio.\
 n 	10:00h a 13:00h: * Jornadas de puertas abiertas en la Biblioteca Muni
 cipal Alonso Pérez Díaz.\n\n 	Talleres “Clásicos del 2026” con Sara
  Pérez Alonso en el IES Villa de Mazo.\n 	Actividades organizadas por la
 s Escuelas Unitarias Mazo-Fuencaliente en la Plaza Pedro Pérez Díaz.\n\
 n\n 	17:30h a 19:00h (Biblioteca Municipal): Especial Día del Libro en 
 “El Rincón de Alonsín” con Joel Pérez Noguera.\n\n\nViernes 24 de A
 bril\n\n\n 	10:00h a 13:00h: II Feria del Libro (Intercambios\, venta y e
 ncuentro con autores locales. Jardines Museo Casa Roja.\n 	Narración Oral
  “La Solera Cuenta” con Marianexy Yanes &amp\; Levis Aliaga en el Mus
 eo Casa Roja:\n\n 	11:00h: Actuación para todas las edades.\n 	20:00h: 
 Actuación para adultos.\n\n\n\nLunes 27 de Abril\n\n\n 	16:30h a 18:30h (
 Biblioteca Municipal): Taller de motivación a la lectura para niños de 
 6 a 12 años (Especial Semana del Libro).\n
ATTACH;FMTTYPE=image/jpeg:https://www.larevistadelapalma.com/wp-content/up
 loads/2026/04/9791387512088.jpg
CATEGORIES:Cine y Literatura,Literatura
LOCATION:Municipio de Villa de Mazo\, Villa de Mazo\, Villa de Mazo\, 38730
 \, España
GEO:28.622071;-17.780675
X-APPLE-STRUCTURED-LOCATION;VALUE=URI;X-ADDRESS=Villa de Mazo\, Villa de Ma
 zo\, 38730\, España;X-APPLE-RADIUS=100;X-TITLE=Municipio de Villa de Mazo
 :geo:28.622071,-17.780675
END:VEVENT
END:VCALENDARBEGIN:VCALENDAR
VERSION:2.0
PRODID:-//wp-events-plugin.com//7.2.3.1//EN
TZID:Europe/London
X-WR-TIMEZONE:Europe/London
BEGIN:VEVENT
UID:4639@larevistadelapalma.com
DTSTART;VALUE=DATE:20260422
DTEND;VALUE=DATE:20260428
DTSTAMP:20260415T233339Z
URL:https://www.larevistadelapalma.com/events/semana-del-libro-2026-en-vil
 la-de-mazo/
SUMMARY:Semana del Libro 2026 en Villa de Mazo
DESCRIPTION:Miércoles 22 de abril\n\n\n 	18:00h (Museo Casa Roja): Presen
 tación y firma del libro “La sangre de la malvasía” del escritor J
 orge Laguna.\n\nDespués del éxito de El secreto de La Indiana y La 
 huésped de la Casa Amarilla\, Jorge Laguna regresa con esta novela de a
 mbientación histórica que ahonda en el siglo XVIII español\, una época
  controvertida sobre todo para la mujer\, y muestra el desequilibrio entre
  las clases sociales y la esclavitud.\n\n\n 	20:00h (Centro de la Cultura 
 Andares): El grupo de teatro La Farsa presenta la lectura teatralizada de 
 “El juez de los divorcios” de Miguel de Cervantes\, bajo la direcció
 n de María J. Batista.\n\n\nJueves 23 de Abril (Día del Libro)\n\n\n 	Du
 rante el día: Suelta de libros por los diferentes barrios del municipio.\
 n 	10:00h a 13:00h: * Jornadas de puertas abiertas en la Biblioteca Muni
 cipal Alonso Pérez Díaz.\n\n 	Talleres “Clásicos del 2026” con Sara
  Pérez Alonso en el IES Villa de Mazo.\n 	Actividades organizadas por la
 s Escuelas Unitarias Mazo-Fuencaliente en la Plaza Pedro Pérez Díaz.\n\
 n\n 	17:30h a 19:00h (Biblioteca Municipal): Especial Día del Libro en 
 “El Rincón de Alonsín” con Joel Pérez Noguera.\n\n\nViernes 24 de A
 bril\n\n\n 	10:00h a 13:00h: II Feria del Libro (Intercambios\, venta y e
 ncuentro con autores locales. Jardines Museo Casa Roja.\n 	Narración Oral
  “La Solera Cuenta” con Marianexy Yanes &amp\; Levis Aliaga en el Mus
 eo Casa Roja:\n\n 	11:00h: Actuación para todas las edades.\n 	20:00h: 
 Actuación para adultos.\n\n\n\nLunes 27 de Abril\n\n\n 	16:30h a 18:30h (
 Biblioteca Municipal): Taller de motivación a la lectura para niños de 
 6 a 12 años (Especial Semana del Libro).\n
ATTACH;FMTTYPE=image/jpeg:https://www.larevistadelapalma.com/wp-content/up
 loads/2026/04/9791387512088.jpg
CATEGORIES:Cine y Literatura,Literatura
LOCATION:Municipio de Villa de Mazo\, Villa de Mazo\, Villa de Mazo\, 38730
 \, España
GEO:28.622071;-17.780675
X-APPLE-STRUCTURED-LOCATION;VALUE=URI;X-ADDRESS=Villa de Mazo\, Villa de Ma
 zo\, 38730\, España;X-APPLE-RADIUS=100;X-TITLE=Municipio de Villa de Mazo
 :geo:28.622071,-17.780675
END:VEVENT
END:VCALENDAR