BEGIN:VCALENDAR
VERSION:2.0
PRODID:-//wp-events-plugin.com//7.2.3.1//EN
TZID:Europe/London
X-WR-TIMEZONE:Europe/London
BEGIN:VEVENT
UID:3202@larevistadelapalma.com
DTSTART:20240829T190000Z
DTEND:20240829T220000Z
DTSTAMP:20240828T112836Z
URL:https://www.larevistadelapalma.com/events/sesion-con-monterreina-en-la
 -tasca-la-marmota/
SUMMARY:Sesion con Monterreina en La Tasca La Marmota
DESCRIPTION:Monterreina estará pinchando en la Tasca la Marmota  este juev
 es 29 de Agosto de 20:00 a 23:00 mientras despides el último rayo de sol.
  Agosto se termina\, pero nunca acabarán las puestas de sol y la buena m
 úsica ...
ATTACH;FMTTYPE=image/jpeg:https://www.larevistadelapalma.com/wp-content/up
 loads/2024/08/MOnterreina-La-Marmota-agosto.jpg
CATEGORIES:Conciertos,Música
LOCATION:Tasca La Marmota\, Av de la Constitución\, número 1\, Tazacorte\
 , 38770\, España
GEO:28.643843;-17.933605
X-APPLE-STRUCTURED-LOCATION;VALUE=URI;X-ADDRESS=Av de la Constitución\, n
 úmero 1\, Tazacorte\, 38770\, España;X-APPLE-RADIUS=100;X-TITLE=Tasca La
  Marmota:geo:28.643843,-17.933605
END:VEVENT
END:VCALENDARBEGIN:VCALENDAR
VERSION:2.0
PRODID:-//wp-events-plugin.com//7.2.3.1//EN
TZID:Europe/London
X-WR-TIMEZONE:Europe/London
BEGIN:VEVENT
UID:3202@larevistadelapalma.com
DTSTART:20240829T190000Z
DTEND:20240829T220000Z
DTSTAMP:20240828T112836Z
URL:https://www.larevistadelapalma.com/events/sesion-con-monterreina-en-la
 -tasca-la-marmota/
SUMMARY:Sesion con Monterreina en La Tasca La Marmota
DESCRIPTION:Monterreina estará pinchando en la Tasca la Marmota  este juev
 es 29 de Agosto de 20:00 a 23:00 mientras despides el último rayo de sol.
  Agosto se termina\, pero nunca acabarán las puestas de sol y la buena m
 úsica ...
ATTACH;FMTTYPE=image/jpeg:https://www.larevistadelapalma.com/wp-content/up
 loads/2024/08/MOnterreina-La-Marmota-agosto.jpg
CATEGORIES:Conciertos,Música
LOCATION:Tasca La Marmota\, Av de la Constitución\, número 1\, Tazacorte\
 , 38770\, España
GEO:28.643843;-17.933605
X-APPLE-STRUCTURED-LOCATION;VALUE=URI;X-ADDRESS=Av de la Constitución\, n
 úmero 1\, Tazacorte\, 38770\, España;X-APPLE-RADIUS=100;X-TITLE=Tasca La
  Marmota:geo:28.643843,-17.933605
END:VEVENT
END:VCALENDAR