BEGIN:VCALENDAR
VERSION:2.0
PRODID:-//wp-events-plugin.com//7.2.3.1//EN
TZID:Europe/London
X-WR-TIMEZONE:Europe/London
BEGIN:VEVENT
UID:3353@larevistadelapalma.com
DTSTART:20241101T183000Z
DTEND:20241101T214500Z
DTSTAMP:20241101T145503Z
URL:https://www.larevistadelapalma.com/events/sesion-con-monterreina-en-ta
 sca-la-marmota/
SUMMARY:CANCELADA - Sesión con Monterreina en Tasca La Marmota
DESCRIPTION:Monterreina regresa a su palacio en fecha de finados\, para una
  sesión de soul y tropicalismos. El jueves 1 de noviembre de 19:30 a 22:3
 0 horas.
ATTACH;FMTTYPE=image/jpeg:https://www.larevistadelapalma.com/wp-content/up
 loads/2024/10/Monterreina-La-marmota.jpg
CATEGORIES:Conciertos,Música
LOCATION:Tasca La Marmota\, Av de la Constitución\, número 1\, Tazacorte\
 , 38770\, España
GEO:28.643843;-17.933605
X-APPLE-STRUCTURED-LOCATION;VALUE=URI;X-ADDRESS=Av de la Constitución\, n
 úmero 1\, Tazacorte\, 38770\, España;X-APPLE-RADIUS=100;X-TITLE=Tasca La
  Marmota:geo:28.643843,-17.933605
END:VEVENT
END:VCALENDARBEGIN:VCALENDAR
VERSION:2.0
PRODID:-//wp-events-plugin.com//7.2.3.1//EN
TZID:Europe/London
X-WR-TIMEZONE:Europe/London
BEGIN:VEVENT
UID:3353@larevistadelapalma.com
DTSTART:20241101T183000Z
DTEND:20241101T214500Z
DTSTAMP:20241101T145503Z
URL:https://www.larevistadelapalma.com/events/sesion-con-monterreina-en-ta
 sca-la-marmota/
SUMMARY:CANCELADA - Sesión con Monterreina en Tasca La Marmota
DESCRIPTION:Monterreina regresa a su palacio en fecha de finados\, para una
  sesión de soul y tropicalismos. El jueves 1 de noviembre de 19:30 a 22:3
 0 horas.
ATTACH;FMTTYPE=image/jpeg:https://www.larevistadelapalma.com/wp-content/up
 loads/2024/10/Monterreina-La-marmota.jpg
CATEGORIES:Conciertos,Música
LOCATION:Tasca La Marmota\, Av de la Constitución\, número 1\, Tazacorte\
 , 38770\, España
GEO:28.643843;-17.933605
X-APPLE-STRUCTURED-LOCATION;VALUE=URI;X-ADDRESS=Av de la Constitución\, n
 úmero 1\, Tazacorte\, 38770\, España;X-APPLE-RADIUS=100;X-TITLE=Tasca La
  Marmota:geo:28.643843,-17.933605
END:VEVENT
END:VCALENDAR