BEGIN:VCALENDAR
VERSION:2.0
PRODID:-//wp-events-plugin.com//7.2.3.1//EN
TZID:Europe/London
X-WR-TIMEZONE:Europe/London
BEGIN:VEVENT
UID:568@larevistadelapalma.com
DTSTART:20230819T180000Z
DTEND:20230819T224500Z
DTSTAMP:20230808T190823Z
URL:https://www.larevistadelapalma.com/events/sesion-con-radio-rota-en-la-
 marmota/
SUMMARY:Sesión con Radio Rota en La Marmota
DESCRIPTION:Eventos musicales underground para oídos inconformistas que si
 guen buscando alma y arte en cada pista. Con Irtap\, Cesario_ra\, Grajaso
 und\, Higo Mordido
ATTACH;FMTTYPE=image/jpeg:https://www.larevistadelapalma.com/wp-content/up
 loads/2023/07/Radio-Rota-La-Marmota.jpg
CATEGORIES:Conciertos,Música
LOCATION:Tasca La Marmota\, Av de la Constitución\, número 1\, Tazacorte\
 , 38770\, España
GEO:28.643843;-17.933605
X-APPLE-STRUCTURED-LOCATION;VALUE=URI;X-ADDRESS=Av de la Constitución\, n
 úmero 1\, Tazacorte\, 38770\, España;X-APPLE-RADIUS=100;X-TITLE=Tasca La
  Marmota:geo:28.643843,-17.933605
END:VEVENT
END:VCALENDARBEGIN:VCALENDAR
VERSION:2.0
PRODID:-//wp-events-plugin.com//7.2.3.1//EN
TZID:Europe/London
X-WR-TIMEZONE:Europe/London
BEGIN:VEVENT
UID:568@larevistadelapalma.com
DTSTART:20230819T180000Z
DTEND:20230819T224500Z
DTSTAMP:20230808T190823Z
URL:https://www.larevistadelapalma.com/events/sesion-con-radio-rota-en-la-
 marmota/
SUMMARY:Sesión con Radio Rota en La Marmota
DESCRIPTION:Eventos musicales underground para oídos inconformistas que si
 guen buscando alma y arte en cada pista. Con Irtap\, Cesario_ra\, Grajaso
 und\, Higo Mordido
ATTACH;FMTTYPE=image/jpeg:https://www.larevistadelapalma.com/wp-content/up
 loads/2023/07/Radio-Rota-La-Marmota.jpg
CATEGORIES:Conciertos,Música
LOCATION:Tasca La Marmota\, Av de la Constitución\, número 1\, Tazacorte\
 , 38770\, España
GEO:28.643843;-17.933605
X-APPLE-STRUCTURED-LOCATION;VALUE=URI;X-ADDRESS=Av de la Constitución\, n
 úmero 1\, Tazacorte\, 38770\, España;X-APPLE-RADIUS=100;X-TITLE=Tasca La
  Marmota:geo:28.643843,-17.933605
END:VEVENT
END:VCALENDAR