BEGIN:VCALENDAR
VERSION:2.0
PRODID:-//wp-events-plugin.com//7.2.3.1//EN
TZID:Europe/London
X-WR-TIMEZONE:Europe/London
BEGIN:VEVENT
UID:3584@larevistadelapalma.com
DTSTART:20250208T190000Z
DTEND:20250208T220000Z
DTSTAMP:20250205T125132Z
URL:https://www.larevistadelapalma.com/events/sesion-monterreina-dmc-selec
 tora/
SUMMARY:DMC Selectora debuta acompañada de Monterreina\, en La Marmota
DESCRIPTION:Ha nacido una nueva selectora\, Diana Miranda\, aka DMC\, y le 
 ha pedido a la veterana Monterreina que la acompañe en su primera aparici
 ón.\n\nEn esa mezcla de nervios\, emoción\, brincos de alegría y amor i
 nmenso por los surcos del vinilo\, las dos se han sentado juntas\, frente 
 a frente – b2b- para hilvanar juntas la historia tropical que une las do
 s orillas\, la de Bolivia y la de La Palma\, la de Los Andes y Cumbre Viej
 a.\n"Diana Miranda aka DMC SELECTORA nació en La Paz\, Bolivia\, y lleva 
 más de una década en España\, los últimos dos años en La Palma. Siemp
 re viajó acompañada de cassettes y vinilos heredados de sus abuelas y pa
 dres. La música ha sido su compañera y fuente de inspiración constante.
  Los ritmos andinos son la base que le permite explorar y conectar con los
  géneros musicales que la acompañan. Como selectora\, busca fusionar su 
 herencia cultural con su pasión por la música".\n.\n"MONTERREINA: Desde 
 las entrañas de La Palma nos llegan lejanos tambores de guerra a ritmo de
  Funky\, Soul y música tropical\, todo aderezado con el mejor ingrediente
  de la cocina musical palmera\, la pimienta! La montequeen ha rodado sus d
 iscos por toda Canarias y otros países lejanos. Cada año convoca a las b
 rujas del vinilo para pinchar juntas en el Festival Akelarre".
ATTACH;FMTTYPE=image/jpeg:https://www.larevistadelapalma.com/wp-content/up
 loads/2025/02/DMC-y-Monterreina.jpg
CATEGORIES:Festivales/Fiestas,Música
LOCATION:Tasca La Marmota\, Av de la Constitución\, número 1\, Tazacorte\
 , 38770\, España
GEO:28.643843;-17.933605
X-APPLE-STRUCTURED-LOCATION;VALUE=URI;X-ADDRESS=Av de la Constitución\, n
 úmero 1\, Tazacorte\, 38770\, España;X-APPLE-RADIUS=100;X-TITLE=Tasca La
  Marmota:geo:28.643843,-17.933605
END:VEVENT
END:VCALENDARBEGIN:VCALENDAR
VERSION:2.0
PRODID:-//wp-events-plugin.com//7.2.3.1//EN
TZID:Europe/London
X-WR-TIMEZONE:Europe/London
BEGIN:VEVENT
UID:3584@larevistadelapalma.com
DTSTART:20250208T190000Z
DTEND:20250208T220000Z
DTSTAMP:20250205T125132Z
URL:https://www.larevistadelapalma.com/events/sesion-monterreina-dmc-selec
 tora/
SUMMARY:DMC Selectora debuta acompañada de Monterreina\, en La Marmota
DESCRIPTION:Ha nacido una nueva selectora\, Diana Miranda\, aka DMC\, y le 
 ha pedido a la veterana Monterreina que la acompañe en su primera aparici
 ón.\n\nEn esa mezcla de nervios\, emoción\, brincos de alegría y amor i
 nmenso por los surcos del vinilo\, las dos se han sentado juntas\, frente 
 a frente – b2b- para hilvanar juntas la historia tropical que une las do
 s orillas\, la de Bolivia y la de La Palma\, la de Los Andes y Cumbre Viej
 a.\n"Diana Miranda aka DMC SELECTORA nació en La Paz\, Bolivia\, y lleva 
 más de una década en España\, los últimos dos años en La Palma. Siemp
 re viajó acompañada de cassettes y vinilos heredados de sus abuelas y pa
 dres. La música ha sido su compañera y fuente de inspiración constante.
  Los ritmos andinos son la base que le permite explorar y conectar con los
  géneros musicales que la acompañan. Como selectora\, busca fusionar su 
 herencia cultural con su pasión por la música".\n.\n"MONTERREINA: Desde 
 las entrañas de La Palma nos llegan lejanos tambores de guerra a ritmo de
  Funky\, Soul y música tropical\, todo aderezado con el mejor ingrediente
  de la cocina musical palmera\, la pimienta! La montequeen ha rodado sus d
 iscos por toda Canarias y otros países lejanos. Cada año convoca a las b
 rujas del vinilo para pinchar juntas en el Festival Akelarre".
ATTACH;FMTTYPE=image/jpeg:https://www.larevistadelapalma.com/wp-content/up
 loads/2025/02/DMC-y-Monterreina.jpg
CATEGORIES:Festivales/Fiestas,Música
LOCATION:Tasca La Marmota\, Av de la Constitución\, número 1\, Tazacorte\
 , 38770\, España
GEO:28.643843;-17.933605
X-APPLE-STRUCTURED-LOCATION;VALUE=URI;X-ADDRESS=Av de la Constitución\, n
 úmero 1\, Tazacorte\, 38770\, España;X-APPLE-RADIUS=100;X-TITLE=Tasca La
  Marmota:geo:28.643843,-17.933605
END:VEVENT
END:VCALENDAR