BEGIN:VCALENDAR
VERSION:2.0
PRODID:-//wp-events-plugin.com//7.2.3.1//EN
TZID:Europe/London
X-WR-TIMEZONE:Europe/London
BEGIN:VEVENT
UID:759@larevistadelapalma.com
DTSTART:20231014T093000Z
DTEND:20231014T120000Z
DTSTAMP:20231013T195509Z
URL:https://www.larevistadelapalma.com/events/show-cooking-en-el-mercadill
 o-de-mazo/
SUMMARY:Show cooking en el Mercadillo de Mazo
DESCRIPTION:En el mercadillo de Villa de Mazo este sábado y domingo de 9 a
  14 horas te esperan  como todas las semanas con una oferta de productos 
 frescos locales\, productos locales elaborados y artesanía exclusiva de c
 alidad a muy buen precio. Pero además\, este sábado de 10\,30 a 13 horas
  podrás aprender con César Pérez a elaborar postres deliciosos.
ATTACH;FMTTYPE=image/jpeg:https://www.larevistadelapalma.com/wp-content/up
 loads/2023/10/Show-cooking-en-el-Mercadillo-de-Mazo.jpg
CATEGORIES:Gastro,Otras propuestas
LOCATION:Mercadillo Villa de Mazo\, Calle Dr. Morera Bravo\, Villa de Mazo\
 , 38730\, España
GEO:28.603998;-17.774127
X-APPLE-STRUCTURED-LOCATION;VALUE=URI;X-ADDRESS=Calle Dr. Morera Bravo\, Vi
 lla de Mazo\, 38730\, España;X-APPLE-RADIUS=100;X-TITLE=Mercadillo Villa 
 de Mazo:geo:28.603998,-17.774127
END:VEVENT
END:VCALENDARBEGIN:VCALENDAR
VERSION:2.0
PRODID:-//wp-events-plugin.com//7.2.3.1//EN
TZID:Europe/London
X-WR-TIMEZONE:Europe/London
BEGIN:VEVENT
UID:759@larevistadelapalma.com
DTSTART:20231014T093000Z
DTEND:20231014T120000Z
DTSTAMP:20231013T195509Z
URL:https://www.larevistadelapalma.com/events/show-cooking-en-el-mercadill
 o-de-mazo/
SUMMARY:Show cooking en el Mercadillo de Mazo
DESCRIPTION:En el mercadillo de Villa de Mazo este sábado y domingo de 9 a
  14 horas te esperan  como todas las semanas con una oferta de productos 
 frescos locales\, productos locales elaborados y artesanía exclusiva de c
 alidad a muy buen precio. Pero además\, este sábado de 10\,30 a 13 horas
  podrás aprender con César Pérez a elaborar postres deliciosos.
ATTACH;FMTTYPE=image/jpeg:https://www.larevistadelapalma.com/wp-content/up
 loads/2023/10/Show-cooking-en-el-Mercadillo-de-Mazo.jpg
CATEGORIES:Gastro,Otras propuestas
LOCATION:Mercadillo Villa de Mazo\, Calle Dr. Morera Bravo\, Villa de Mazo\
 , 38730\, España
GEO:28.603998;-17.774127
X-APPLE-STRUCTURED-LOCATION;VALUE=URI;X-ADDRESS=Calle Dr. Morera Bravo\, Vi
 lla de Mazo\, 38730\, España;X-APPLE-RADIUS=100;X-TITLE=Mercadillo Villa 
 de Mazo:geo:28.603998,-17.774127
END:VEVENT
END:VCALENDAR