BEGIN:VCALENDAR
VERSION:2.0
PRODID:-//wp-events-plugin.com//7.2.3.1//EN
TZID:Europe/London
X-WR-TIMEZONE:Europe/London
BEGIN:VEVENT
UID:709@larevistadelapalma.com
DTSTART:20231014T100000Z
DTEND:20231015T130000Z
DTSTAMP:20231002T150104Z
URL:https://www.larevistadelapalma.com/events/silvestre-taller-de-creacion
 -de-herbario-poetico/
SUMMARY:"Silvestre": taller de creación de herbario poético
DESCRIPTION:Taller de creación de herbario poético y usos medicinales de 
 plantas silvestres de nuestro entorno.\nAdemás de construir un herbario c
 omo objeto artístico\, se aprenderán usos tradicionales de algunas plant
 as del entorno\, se explorará la escritura creativa a partir del encuentr
 o con las plantas y se conocerán autores que han desarrollado su creativi
 dad inspirándose en la naturaleza.\nTendrá lugar el 14 y 15 de octubre y
  12 de noviembre de 11-14 horas en la Casa de la cultura Puntagorda. Está
  dirigido a público adulto y las plazas son limitadas.\nUn proyecto de Bi
 blio Revuelta\nInscripciones en el whatsapp 646 811 880 o en el correo bib
 liorevuelta@protonmail.com
ATTACH;FMTTYPE=image/jpeg:https://www.larevistadelapalma.com/wp-content/up
 loads/2023/10/Herbario-poetico.jpg
CATEGORIES:Cine y Literatura,Formación,Literatura,Otras propuestas
LOCATION:Casa de La Cultura\, Puntagorda\, C. Cuatro Caminos\, 5\, Puntagor
 da\, 38789\, España
GEO:28.774328;-17.976112
X-APPLE-STRUCTURED-LOCATION;VALUE=URI;X-ADDRESS=C. Cuatro Caminos\, 5\, Pun
 tagorda\, 38789\, España;X-APPLE-RADIUS=100;X-TITLE=Casa de La Cultura\, 
 Puntagorda:geo:28.774328,-17.976112
END:VEVENT
END:VCALENDARBEGIN:VCALENDAR
VERSION:2.0
PRODID:-//wp-events-plugin.com//7.2.3.1//EN
TZID:Europe/London
X-WR-TIMEZONE:Europe/London
BEGIN:VEVENT
UID:709@larevistadelapalma.com
DTSTART:20231014T100000Z
DTEND:20231015T130000Z
DTSTAMP:20231002T150104Z
URL:https://www.larevistadelapalma.com/events/silvestre-taller-de-creacion
 -de-herbario-poetico/
SUMMARY:"Silvestre": taller de creación de herbario poético
DESCRIPTION:Taller de creación de herbario poético y usos medicinales de 
 plantas silvestres de nuestro entorno.\nAdemás de construir un herbario c
 omo objeto artístico\, se aprenderán usos tradicionales de algunas plant
 as del entorno\, se explorará la escritura creativa a partir del encuentr
 o con las plantas y se conocerán autores que han desarrollado su creativi
 dad inspirándose en la naturaleza.\nTendrá lugar el 14 y 15 de octubre y
  12 de noviembre de 11-14 horas en la Casa de la cultura Puntagorda. Está
  dirigido a público adulto y las plazas son limitadas.\nUn proyecto de Bi
 blio Revuelta\nInscripciones en el whatsapp 646 811 880 o en el correo bib
 liorevuelta@protonmail.com
ATTACH;FMTTYPE=image/jpeg:https://www.larevistadelapalma.com/wp-content/up
 loads/2023/10/Herbario-poetico.jpg
CATEGORIES:Cine y Literatura,Formación,Literatura,Otras propuestas
LOCATION:Casa de La Cultura\, Puntagorda\, C. Cuatro Caminos\, 5\, Puntagor
 da\, 38789\, España
GEO:28.774328;-17.976112
X-APPLE-STRUCTURED-LOCATION;VALUE=URI;X-ADDRESS=C. Cuatro Caminos\, 5\, Pun
 tagorda\, 38789\, España;X-APPLE-RADIUS=100;X-TITLE=Casa de La Cultura\, 
 Puntagorda:geo:28.774328,-17.976112
END:VEVENT
END:VCALENDAR