BEGIN:VCALENDAR
VERSION:2.0
PRODID:-//wp-events-plugin.com//7.2.3.1//EN
TZID:Europe/London
X-WR-TIMEZONE:Europe/London
BEGIN:VEVENT
UID:183@larevistadelapalma.com
DTSTART;VALUE=DATE:20230721
DTEND;VALUE=DATE:20230801
DTSTAMP:20230721T124844Z
URL:https://www.larevistadelapalma.com/events/sone-con-frida-antje-bendfel
 dt/
SUMMARY:Exposición "Soñe con Frida"\, de Antje Bendfeldt
DESCRIPTION:Esta pintora autodidacta de origen alemán siente una total fas
 cinación por la figura de Frida Kahlo. 
ATTACH;FMTTYPE=image/jpeg:https://www.larevistadelapalma.com/wp-content/up
 loads/2023/07/Sone-con-Frida-Antje-Bendfeldt.jpg
CATEGORIES:Exposiciones
LOCATION:Oficina de información turística de Tijarafe\, Calle Real\, 11\,
  Tijarafe\, 38780 \, España
GEO:28.710798;-17.955469
X-APPLE-STRUCTURED-LOCATION;VALUE=URI;X-ADDRESS=Calle Real\, 11\, Tijarafe\
 , 38780 \, España;X-APPLE-RADIUS=100;X-TITLE=Oficina de información tur
 ística de Tijarafe:geo:28.710798,-17.955469
END:VEVENT
END:VCALENDARBEGIN:VCALENDAR
VERSION:2.0
PRODID:-//wp-events-plugin.com//7.2.3.1//EN
TZID:Europe/London
X-WR-TIMEZONE:Europe/London
BEGIN:VEVENT
UID:183@larevistadelapalma.com
DTSTART;VALUE=DATE:20230721
DTEND;VALUE=DATE:20230801
DTSTAMP:20230721T124844Z
URL:https://www.larevistadelapalma.com/events/sone-con-frida-antje-bendfel
 dt/
SUMMARY:Exposición "Soñe con Frida"\, de Antje Bendfeldt
DESCRIPTION:Esta pintora autodidacta de origen alemán siente una total fas
 cinación por la figura de Frida Kahlo. 
ATTACH;FMTTYPE=image/jpeg:https://www.larevistadelapalma.com/wp-content/up
 loads/2023/07/Sone-con-Frida-Antje-Bendfeldt.jpg
CATEGORIES:Exposiciones
LOCATION:Oficina de información turística de Tijarafe\, Calle Real\, 11\,
  Tijarafe\, 38780 \, España
GEO:28.710798;-17.955469
X-APPLE-STRUCTURED-LOCATION;VALUE=URI;X-ADDRESS=Calle Real\, 11\, Tijarafe\
 , 38780 \, España;X-APPLE-RADIUS=100;X-TITLE=Oficina de información tur
 ística de Tijarafe:geo:28.710798,-17.955469
END:VEVENT
END:VCALENDAR