BEGIN:VCALENDAR
VERSION:2.0
PRODID:-//wp-events-plugin.com//7.2.3.1//EN
TZID:Europe/London
X-WR-TIMEZONE:Europe/London
BEGIN:VEVENT
UID:4018@larevistadelapalma.com
DTSTART:20251015T183000Z
DTEND:20251015T200000Z
DTSTAMP:20251014T124634Z
URL:https://www.larevistadelapalma.com/events/sonia-petisco-ofrece-una-con
 ferencia-sobre-el-modernismo-intimista-de-alonso-quesada-y-t-s-eliot/
SUMMARY:Sonia Petisco ofrece una conferencia sobre el modernismo intimista 
 de Alonso Quesada y T. S. Eliot
DESCRIPTION:Organiza la editorial Cartas Diferentes en colaboración con So
 ciedad La Investigadora.\nCon motivo de la celebración del centenario del
  gran poeta modernista Alonso Quesada (1886-1925) y en el contexto del rec
 ién creado «Laboratorio de Nuevas Tendencias del Pensamiento de Santa Cr
 uz de La Palma»\, mañana miércoles 15 de octubre de 2025\, a las 19:30 
 horas\, la investigadora Sonia Petisco ofrecerá una conferencia sobre Alo
 nso Quesada y T.S. Eliot\, dos poetas lúcidos y visionarios que\, parad
 ójicamente\, parecen haber hecho suya la máxima socrática «solo sé qu
 e no sé nada» como punto de partida de todas sus disquisiciones.\n\n\n\n
 En contraste con aquella poesía magnífica\, sensual y sonora propia de a
 utores como Gaspar Núñez de Arce\, Rueda\, Rubén Darío\, Villaespesa o
  Tomás Morales entre otros\, en esta conferencia se tratará de profundiz
 ar con pujante libertad en esa otra vertiente del modernismo más íntima 
 y austera que presta una mayor atención al hondón del alma\, a la vida d
 e las entrañas\, en definitiva a esa palabra desnuda de todo artificio qu
 e nos invita a instalarnos en la perplejidad más que en las verdades abon
 adas. Baste recordar aquellos hermosos versos de Quesada volcados hacia la
  trascendencia: \n«Mi corazón te busca por lo Desconocido / e indaga en 
 los secretos del Lejano Lugar…/ lo mismo que la luna en el fondo del mar
 ». O aquella inolvidable advertencia eliotiana: «Para acceder a lo que n
 o conoces / debes seguir una senda de ignorancia / para poseer lo que no p
 osees / debes recorrer el camino de la desposesión». \nA lo largo de la
  conferencia se abordará el estudio comparativo de ambos escritores y su 
 tentativa permanente por restablecer los lazos que nos unían a la creaci
 ón\, como si se supiera que el centro no está representado y que debe se
 r adivinado a través de la palabra poética. Es decir\, vivir la transpar
 encia como un punto constante de referencia\, desentrañando los secretos 
 del lenguaje\, como necesidad de hurgar debajo de lo que parece evidente. 
 Mediante un pormenorizado análisis filosófico-literario centrado fundame
 ntalmente en la obra de Quesada\, El Lino de los Sueños y en  los inolvi
 dables Cuatro Cuartetos de Eliot\, se propondrá descubrir la infinitud de
  ecos\, resonancias y correspondencias existentes entre el modernismo cana
 rio y el modernismo anglosajón\, auténticos movimientos de renovación e
 spiritual\, poético-simbólica y artística que tuvieron amplia repercusi
 ón en el contexto político-social de la época y que actualmente están 
 experimentando un insólito y anhelado «revival».\n\nPor último\, Sonia
  Petisco quiere expresar su gratitud al Instituto Franklin de la Universid
 ad de Alcalá de Henares por haber hecho posible este trabajo. \n\n&nbsp\
 ;
ATTACH;FMTTYPE=image/jpeg:https://www.larevistadelapalma.com/wp-content/up
 loads/2025/10/6.1.-INVITACION-QUESADA-ELIOT.jpg
CATEGORIES:Cine y Literatura,Literatura
LOCATION:Casino de Santa Cruz de La Palma\,  C. Anselmo Pérez de Brito\, 1
 5\, Santa Cruz De La Palma\, Santa Cruz de Tenerife\, 38700\, España
GEO:28.684234;-17.7638
X-APPLE-STRUCTURED-LOCATION;VALUE=URI;X-ADDRESS= C. Anselmo Pérez de Brito
 \, 15\, Santa Cruz De La Palma\, Santa Cruz de Tenerife\, 38700\, España;
 X-APPLE-RADIUS=100;X-TITLE=Casino de Santa Cruz de La Palma:geo:28.684234,
 -17.7638
END:VEVENT
END:VCALENDARBEGIN:VCALENDAR
VERSION:2.0
PRODID:-//wp-events-plugin.com//7.2.3.1//EN
TZID:Europe/London
X-WR-TIMEZONE:Europe/London
BEGIN:VEVENT
UID:4018@larevistadelapalma.com
DTSTART:20251015T183000Z
DTEND:20251015T200000Z
DTSTAMP:20251014T124634Z
URL:https://www.larevistadelapalma.com/events/sonia-petisco-ofrece-una-con
 ferencia-sobre-el-modernismo-intimista-de-alonso-quesada-y-t-s-eliot/
SUMMARY:Sonia Petisco ofrece una conferencia sobre el modernismo intimista 
 de Alonso Quesada y T. S. Eliot
DESCRIPTION:Organiza la editorial Cartas Diferentes en colaboración con So
 ciedad La Investigadora.\nCon motivo de la celebración del centenario del
  gran poeta modernista Alonso Quesada (1886-1925) y en el contexto del rec
 ién creado «Laboratorio de Nuevas Tendencias del Pensamiento de Santa Cr
 uz de La Palma»\, mañana miércoles 15 de octubre de 2025\, a las 19:30 
 horas\, la investigadora Sonia Petisco ofrecerá una conferencia sobre Alo
 nso Quesada y T.S. Eliot\, dos poetas lúcidos y visionarios que\, parad
 ójicamente\, parecen haber hecho suya la máxima socrática «solo sé qu
 e no sé nada» como punto de partida de todas sus disquisiciones.\n\n\n\n
 En contraste con aquella poesía magnífica\, sensual y sonora propia de a
 utores como Gaspar Núñez de Arce\, Rueda\, Rubén Darío\, Villaespesa o
  Tomás Morales entre otros\, en esta conferencia se tratará de profundiz
 ar con pujante libertad en esa otra vertiente del modernismo más íntima 
 y austera que presta una mayor atención al hondón del alma\, a la vida d
 e las entrañas\, en definitiva a esa palabra desnuda de todo artificio qu
 e nos invita a instalarnos en la perplejidad más que en las verdades abon
 adas. Baste recordar aquellos hermosos versos de Quesada volcados hacia la
  trascendencia: \n«Mi corazón te busca por lo Desconocido / e indaga en 
 los secretos del Lejano Lugar…/ lo mismo que la luna en el fondo del mar
 ». O aquella inolvidable advertencia eliotiana: «Para acceder a lo que n
 o conoces / debes seguir una senda de ignorancia / para poseer lo que no p
 osees / debes recorrer el camino de la desposesión». \nA lo largo de la
  conferencia se abordará el estudio comparativo de ambos escritores y su 
 tentativa permanente por restablecer los lazos que nos unían a la creaci
 ón\, como si se supiera que el centro no está representado y que debe se
 r adivinado a través de la palabra poética. Es decir\, vivir la transpar
 encia como un punto constante de referencia\, desentrañando los secretos 
 del lenguaje\, como necesidad de hurgar debajo de lo que parece evidente. 
 Mediante un pormenorizado análisis filosófico-literario centrado fundame
 ntalmente en la obra de Quesada\, El Lino de los Sueños y en  los inolvi
 dables Cuatro Cuartetos de Eliot\, se propondrá descubrir la infinitud de
  ecos\, resonancias y correspondencias existentes entre el modernismo cana
 rio y el modernismo anglosajón\, auténticos movimientos de renovación e
 spiritual\, poético-simbólica y artística que tuvieron amplia repercusi
 ón en el contexto político-social de la época y que actualmente están 
 experimentando un insólito y anhelado «revival».\n\nPor último\, Sonia
  Petisco quiere expresar su gratitud al Instituto Franklin de la Universid
 ad de Alcalá de Henares por haber hecho posible este trabajo. \n\n&nbsp\
 ;
ATTACH;FMTTYPE=image/jpeg:https://www.larevistadelapalma.com/wp-content/up
 loads/2025/10/6.1.-INVITACION-QUESADA-ELIOT.jpg
CATEGORIES:Cine y Literatura,Literatura
LOCATION:Casino de Santa Cruz de La Palma\,  C. Anselmo Pérez de Brito\, 1
 5\, Santa Cruz De La Palma\, Santa Cruz de Tenerife\, 38700\, España
GEO:28.684234;-17.7638
X-APPLE-STRUCTURED-LOCATION;VALUE=URI;X-ADDRESS= C. Anselmo Pérez de Brito
 \, 15\, Santa Cruz De La Palma\, Santa Cruz de Tenerife\, 38700\, España;
 X-APPLE-RADIUS=100;X-TITLE=Casino de Santa Cruz de La Palma:geo:28.684234,
 -17.7638
END:VEVENT
END:VCALENDAR