BEGIN:VCALENDAR
VERSION:2.0
PRODID:-//wp-events-plugin.com//7.2.3.1//EN
TZID:Europe/London
X-WR-TIMEZONE:Europe/London
BEGIN:VEVENT
UID:3077@larevistadelapalma.com
DTSTART:20240621T193000Z
DTEND:20240621T210000Z
DTSTAMP:20240618T171856Z
URL:https://www.larevistadelapalma.com/events/sueno-de-una-noche-de-verano
 -con-el-grupo-de-adultos-de-la-escuela-de-teatro-pilar-rey/
SUMMARY:‘Sueño de una noche de verano’ con el grupo de adultos de la E
 scuela de Teatro Pilar Rey
DESCRIPTION:\n‘Sueño de una noche de verano’ de William Shakespeare ll
 ega al Teatro Circo de Marte el próximo 21 de junio a las 20:30 horas com
 o acto de fin de curso de los adultos de la Escuela de Teatro Pilar Rey.\n
 \n\nEl alumnado pondrá sobre las tablas todo lo aprendido a lo largo del 
 curso con la representación de la comedia más popular del autor británi
 co. En ella se mezclan personajes reales y fantasiosos interconectados en 
 varias tramas.\n\nLa obra está ambientada en la Grecia Clásica y en un b
 osque cercano a Atenas. Durante los preparativos de la boda del Duque Tese
 o con Hipólita\, dos parejas de amantes envueltos en un enredo de amor no
  correspondido se pierden en el bosque: Hermia\, obligada contra su volunt
 ad a casarse con Demetrio\, huye con su amado Lisandro para casarse en sec
 reto. A partir de aquí\, comenzará una increíble trama de amoríos y de
 sengaños cubierta de comedia.\nEntrada libre\, previa retirada de invitac
 ión en la taquilla.\n\nHorario de taquilla:\n* Del 18 al 21 de junio de: 
 11:30 a 13:30 h.\n* 24 de junio de:11:30 a 13:30 h.\n* 25 de junio de: 11:
 30 a 13:30 h.\nY de 19:30 a 20:30 h.\n
ATTACH;FMTTYPE=image/jpeg:https://www.larevistadelapalma.com/wp-content/up
 loads/2024/06/Sueno-de-una-noche-de-verano.jpg
CATEGORIES:Espectáculos,Teatro
LOCATION:Teatro Circo de Marte\, Calle Virgen de La Luz\, 5\, Santa Cruz de
  La Palma\, 38700\, España
GEO:28.682989;-17.765755
X-APPLE-STRUCTURED-LOCATION;VALUE=URI;X-ADDRESS=Calle Virgen de La Luz\, 5\
 , Santa Cruz de La Palma\, 38700\, España;X-APPLE-RADIUS=100;X-TITLE=Teat
 ro Circo de Marte:geo:28.682989,-17.765755
END:VEVENT
END:VCALENDARBEGIN:VCALENDAR
VERSION:2.0
PRODID:-//wp-events-plugin.com//7.2.3.1//EN
TZID:Europe/London
X-WR-TIMEZONE:Europe/London
BEGIN:VEVENT
UID:3077@larevistadelapalma.com
DTSTART:20240621T193000Z
DTEND:20240621T210000Z
DTSTAMP:20240618T171856Z
URL:https://www.larevistadelapalma.com/events/sueno-de-una-noche-de-verano
 -con-el-grupo-de-adultos-de-la-escuela-de-teatro-pilar-rey/
SUMMARY:‘Sueño de una noche de verano’ con el grupo de adultos de la E
 scuela de Teatro Pilar Rey
DESCRIPTION:\n‘Sueño de una noche de verano’ de William Shakespeare ll
 ega al Teatro Circo de Marte el próximo 21 de junio a las 20:30 horas com
 o acto de fin de curso de los adultos de la Escuela de Teatro Pilar Rey.\n
 \n\nEl alumnado pondrá sobre las tablas todo lo aprendido a lo largo del 
 curso con la representación de la comedia más popular del autor británi
 co. En ella se mezclan personajes reales y fantasiosos interconectados en 
 varias tramas.\n\nLa obra está ambientada en la Grecia Clásica y en un b
 osque cercano a Atenas. Durante los preparativos de la boda del Duque Tese
 o con Hipólita\, dos parejas de amantes envueltos en un enredo de amor no
  correspondido se pierden en el bosque: Hermia\, obligada contra su volunt
 ad a casarse con Demetrio\, huye con su amado Lisandro para casarse en sec
 reto. A partir de aquí\, comenzará una increíble trama de amoríos y de
 sengaños cubierta de comedia.\nEntrada libre\, previa retirada de invitac
 ión en la taquilla.\n\nHorario de taquilla:\n* Del 18 al 21 de junio de: 
 11:30 a 13:30 h.\n* 24 de junio de:11:30 a 13:30 h.\n* 25 de junio de: 11:
 30 a 13:30 h.\nY de 19:30 a 20:30 h.\n
ATTACH;FMTTYPE=image/jpeg:https://www.larevistadelapalma.com/wp-content/up
 loads/2024/06/Sueno-de-una-noche-de-verano.jpg
CATEGORIES:Espectáculos,Teatro
LOCATION:Teatro Circo de Marte\, Calle Virgen de La Luz\, 5\, Santa Cruz de
  La Palma\, 38700\, España
GEO:28.682989;-17.765755
X-APPLE-STRUCTURED-LOCATION;VALUE=URI;X-ADDRESS=Calle Virgen de La Luz\, 5\
 , Santa Cruz de La Palma\, 38700\, España;X-APPLE-RADIUS=100;X-TITLE=Teat
 ro Circo de Marte:geo:28.682989,-17.765755
END:VEVENT
END:VCALENDAR