BEGIN:VCALENDAR
VERSION:2.0
PRODID:-//wp-events-plugin.com//7.2.3.1//EN
TZID:Europe/London
X-WR-TIMEZONE:Europe/London
BEGIN:VEVENT
UID:138@larevistadelapalma.com
DTSTART:20230902T200000Z
DTEND:20230902T220000Z
DTSTAMP:20230702T221939Z
URL:https://www.larevistadelapalma.com/events/sundri-feeling-pone-fin-al-f
 estival-la-palma-es-un-punto/
SUMMARY:Sundri Feeling pone fin al Festival La Palma es un punto
DESCRIPTION:El Festival se despide con la noche "Observatorio de Estrejazz"
  que contará con Sundri Feeling y el grupo Mamamjuana's de La Palma.
ATTACH;FMTTYPE=image/jpeg:https://www.larevistadelapalma.com/wp-content/up
 loads/2023/07/Sundrey-Feeling.jpg
CATEGORIES:Festivales/Fiestas,Música
LOCATION:Parque Antonio Gómez Felipe\, Ctra. Puerto Naos A\, 5\, Los Llano
 s de Aridane\, 38767\, España
GEO:28.655023;-17.912567
X-APPLE-STRUCTURED-LOCATION;VALUE=URI;X-ADDRESS=Ctra. Puerto Naos A\, 5\, L
 os Llanos de Aridane\, 38767\, España;X-APPLE-RADIUS=100;X-TITLE=Parque A
 ntonio Gómez Felipe:geo:28.655023,-17.912567
END:VEVENT
END:VCALENDARBEGIN:VCALENDAR
VERSION:2.0
PRODID:-//wp-events-plugin.com//7.2.3.1//EN
TZID:Europe/London
X-WR-TIMEZONE:Europe/London
BEGIN:VEVENT
UID:138@larevistadelapalma.com
DTSTART:20230902T200000Z
DTEND:20230902T220000Z
DTSTAMP:20230702T221939Z
URL:https://www.larevistadelapalma.com/events/sundri-feeling-pone-fin-al-f
 estival-la-palma-es-un-punto/
SUMMARY:Sundri Feeling pone fin al Festival La Palma es un punto
DESCRIPTION:El Festival se despide con la noche "Observatorio de Estrejazz"
  que contará con Sundri Feeling y el grupo Mamamjuana's de La Palma.
ATTACH;FMTTYPE=image/jpeg:https://www.larevistadelapalma.com/wp-content/up
 loads/2023/07/Sundrey-Feeling.jpg
CATEGORIES:Festivales/Fiestas,Música
LOCATION:Parque Antonio Gómez Felipe\, Ctra. Puerto Naos A\, 5\, Los Llano
 s de Aridane\, 38767\, España
GEO:28.655023;-17.912567
X-APPLE-STRUCTURED-LOCATION;VALUE=URI;X-ADDRESS=Ctra. Puerto Naos A\, 5\, L
 os Llanos de Aridane\, 38767\, España;X-APPLE-RADIUS=100;X-TITLE=Parque A
 ntonio Gómez Felipe:geo:28.655023,-17.912567
END:VEVENT
END:VCALENDAR