BEGIN:VCALENDAR
VERSION:2.0
PRODID:-//wp-events-plugin.com//7.2.3.1//EN
TZID:Europe/London
X-WR-TIMEZONE:Europe/London
BEGIN:VEVENT
UID:3537@larevistadelapalma.com
DTSTART:20250110T190000Z
DTEND:20250110T224500Z
DTSTAMP:20250107T193123Z
URL:https://www.larevistadelapalma.com/events/sunset-sounds-en-lunatico-el
 -paso/
SUMMARY:Sunset Sounds en Lunático\, El Paso
DESCRIPTION:Este viernes presentan al trio Sunset Sounds - su estilo de Roc
 k especial mezcla lo clásico desde Elvis y Nirvana hasta los legendarios 
 temas de Massive Attack y Radiohead e incluso un poco de Rock'n'Roll salva
 je
ATTACH;FMTTYPE=image/jpeg:https://www.larevistadelapalma.com/wp-content/up
 loads/2025/01/Lunatico-Sunset-Sounds.jpg
CATEGORIES:Conciertos,Música
LOCATION:Sala Lunático\, El Paso\, Calle Manuel Taño 9\, El Paso\, 38750\
 , España
GEO:28.651734;-17.879603
X-APPLE-STRUCTURED-LOCATION;VALUE=URI;X-ADDRESS=Calle Manuel Taño 9\, El P
 aso\, 38750\, España;X-APPLE-RADIUS=100;X-TITLE=Sala Lunático\, El Paso:
 geo:28.651734,-17.879603
END:VEVENT
END:VCALENDARBEGIN:VCALENDAR
VERSION:2.0
PRODID:-//wp-events-plugin.com//7.2.3.1//EN
TZID:Europe/London
X-WR-TIMEZONE:Europe/London
BEGIN:VEVENT
UID:3537@larevistadelapalma.com
DTSTART:20250110T190000Z
DTEND:20250110T224500Z
DTSTAMP:20250107T193123Z
URL:https://www.larevistadelapalma.com/events/sunset-sounds-en-lunatico-el
 -paso/
SUMMARY:Sunset Sounds en Lunático\, El Paso
DESCRIPTION:Este viernes presentan al trio Sunset Sounds - su estilo de Roc
 k especial mezcla lo clásico desde Elvis y Nirvana hasta los legendarios 
 temas de Massive Attack y Radiohead e incluso un poco de Rock'n'Roll salva
 je
ATTACH;FMTTYPE=image/jpeg:https://www.larevistadelapalma.com/wp-content/up
 loads/2025/01/Lunatico-Sunset-Sounds.jpg
CATEGORIES:Conciertos,Música
LOCATION:Sala Lunático\, El Paso\, Calle Manuel Taño 9\, El Paso\, 38750\
 , España
GEO:28.651734;-17.879603
X-APPLE-STRUCTURED-LOCATION;VALUE=URI;X-ADDRESS=Calle Manuel Taño 9\, El P
 aso\, 38750\, España;X-APPLE-RADIUS=100;X-TITLE=Sala Lunático\, El Paso:
 geo:28.651734,-17.879603
END:VEVENT
END:VCALENDAR