BEGIN:VCALENDAR
VERSION:2.0
PRODID:-//wp-events-plugin.com//7.2.3.1//EN
TZID:Europe/London
X-WR-TIMEZONE:Europe/London
BEGIN:VEVENT
UID:3491@larevistadelapalma.com
DTSTART:20241214T225800Z
DTEND:20241214T225900Z
DTSTAMP:20241211T190439Z
URL:https://www.larevistadelapalma.com/events/t-rec-presenta-primer-sello-
 musical-de-la-palma/
SUMMARY:T-REC presenta el primer sello musical de La Palma
DESCRIPTION:El próximo sábado 14 de diciembre se presentará oficialmente
  T·REC\, el primer sello musical de La Palma\, en un acto que tendrá lug
 ar en la primera planta del Edificio Millennium Plaza\, en las oficinas de
 l grupo El Time\, en Los Llanos de Aridane. Este nuevo proyecto presenta i
 nstalaciones de primer nivel pensadas tanto para artistas locales como int
 ernacionales\, donde ya se encuentran trabajando varios artistas de Canari
 as como las K-Narias\, que amadrinarán la presentación del sello y traba
 jarán este mes de diciembre y enero como primer trabajo internacional de 
 T·REC\, con motivo del 20 aniversario de este dúo histórico en las isla
 s.\nLa presentación oficial del sello\, que tendrá lugar este sábado 14
  de diciembre en el local Time Street\, contará con una fiesta inaugural 
 a las 24:00h\, amadrinada por “Las K-Narias” en donde se podrá disfru
 tar de la actuación de cantantes del sello musical palmero como Abel Cord
 ovez\, Julia Debis\, La Mirris\, kebehi\,Orribo o Jesse Chacón.\n\n\n\n&n
 bsp\;\n\n\n\n\n\n\n\n\n\n\nVer esta publicación en Instagram\n\n\n\n\n\n\
 n\n\n\n\n\n\n\n\n\n\n\n\n\n\n\n\n&nbsp\;\nUna publicación compartida de 
 ΔBΣL CORDO∇ΣZ (@abelcordovez)\n\n\n\n\nT·REC es un proyecto pionero 
 en la isla que pone al alcance de los profesionales del sector servicios i
 ntegrales de grabación\, producción\, mezcla\, masterización\, distribu
 ción\, promoción y booking. Además\, dispone de un estudio de fotograf
 ía y vídeo completamente equipado\, así como cabina de control y técni
 cos especializados en audio para sonorizar programas de tv\, radio\, podca
 st\, etc.\n\nEl sello no solo beneficiará a músicos y bandas\, sino tamb
 ién a comunicadores\, actores de doblaje y profesionales del cine y la te
 levisión\, quienes podrán desarrollar sus proyectos en un entorno único
  con vistas a la Caldera de Taburiente.\n\nSegún Jesse Chacón\, CEO de T
 ·REC\, “el objetivo es convertir este espacio en un referente creativo 
 y de calidad en el sector\, ofreciendo un equipo e instalaciones profesion
 ales que apoyen a los artistas en todas las etapas de sus proyectos\, desd
 e la composición y la grabación hasta la distribución o el márketing
 ”.\n\nPara Jesse Chacón\, este nuevo sello musical “representa una op
 ortunidad única para los artistas palmeros\, permitiéndoles grabar y pro
 ducir material de alta calidad sin necesidad de salir de la isla”.\n\nAs
 imismo\, T·REC aspira a posicionarse como un motor en la industria musica
 l\, tanto en La Palma como en Canarias\, siendo referente en la calidad de
  sonido y en su oferta como lugar de retiro para artistas que buscan una i
 sla como La Palma para inspirarse y componer.
ATTACH;FMTTYPE=image/jpeg:https://www.larevistadelapalma.com/wp-content/up
 loads/2024/12/Cartel-T-rec.png
CATEGORIES:Conciertos,Música
LOCATION:Multicines Millennium\, Ramon Poll\, 11\, Los Llanos de Aridane\, 
 38760\, España
GEO:28.660236;-17.913187
X-APPLE-STRUCTURED-LOCATION;VALUE=URI;X-ADDRESS=Ramon Poll\, 11\, Los Llano
 s de Aridane\, 38760\, España;X-APPLE-RADIUS=100;X-TITLE=Multicines Mille
 nnium:geo:28.660236,-17.913187
END:VEVENT
END:VCALENDARBEGIN:VCALENDAR
VERSION:2.0
PRODID:-//wp-events-plugin.com//7.2.3.1//EN
TZID:Europe/London
X-WR-TIMEZONE:Europe/London
BEGIN:VEVENT
UID:3491@larevistadelapalma.com
DTSTART:20241214T225800Z
DTEND:20241214T225900Z
DTSTAMP:20241211T190439Z
URL:https://www.larevistadelapalma.com/events/t-rec-presenta-primer-sello-
 musical-de-la-palma/
SUMMARY:T-REC presenta el primer sello musical de La Palma
DESCRIPTION:El próximo sábado 14 de diciembre se presentará oficialmente
  T·REC\, el primer sello musical de La Palma\, en un acto que tendrá lug
 ar en la primera planta del Edificio Millennium Plaza\, en las oficinas de
 l grupo El Time\, en Los Llanos de Aridane. Este nuevo proyecto presenta i
 nstalaciones de primer nivel pensadas tanto para artistas locales como int
 ernacionales\, donde ya se encuentran trabajando varios artistas de Canari
 as como las K-Narias\, que amadrinarán la presentación del sello y traba
 jarán este mes de diciembre y enero como primer trabajo internacional de 
 T·REC\, con motivo del 20 aniversario de este dúo histórico en las isla
 s.\nLa presentación oficial del sello\, que tendrá lugar este sábado 14
  de diciembre en el local Time Street\, contará con una fiesta inaugural 
 a las 24:00h\, amadrinada por “Las K-Narias” en donde se podrá disfru
 tar de la actuación de cantantes del sello musical palmero como Abel Cord
 ovez\, Julia Debis\, La Mirris\, kebehi\,Orribo o Jesse Chacón.\n\n\n\n&n
 bsp\;\n\n\n\n\n\n\n\n\n\n\nVer esta publicación en Instagram\n\n\n\n\n\n\
 n\n\n\n\n\n\n\n\n\n\n\n\n\n\n\n\n&nbsp\;\nUna publicación compartida de 
 ΔBΣL CORDO∇ΣZ (@abelcordovez)\n\n\n\n\nT·REC es un proyecto pionero 
 en la isla que pone al alcance de los profesionales del sector servicios i
 ntegrales de grabación\, producción\, mezcla\, masterización\, distribu
 ción\, promoción y booking. Además\, dispone de un estudio de fotograf
 ía y vídeo completamente equipado\, así como cabina de control y técni
 cos especializados en audio para sonorizar programas de tv\, radio\, podca
 st\, etc.\n\nEl sello no solo beneficiará a músicos y bandas\, sino tamb
 ién a comunicadores\, actores de doblaje y profesionales del cine y la te
 levisión\, quienes podrán desarrollar sus proyectos en un entorno único
  con vistas a la Caldera de Taburiente.\n\nSegún Jesse Chacón\, CEO de T
 ·REC\, “el objetivo es convertir este espacio en un referente creativo 
 y de calidad en el sector\, ofreciendo un equipo e instalaciones profesion
 ales que apoyen a los artistas en todas las etapas de sus proyectos\, desd
 e la composición y la grabación hasta la distribución o el márketing
 ”.\n\nPara Jesse Chacón\, este nuevo sello musical “representa una op
 ortunidad única para los artistas palmeros\, permitiéndoles grabar y pro
 ducir material de alta calidad sin necesidad de salir de la isla”.\n\nAs
 imismo\, T·REC aspira a posicionarse como un motor en la industria musica
 l\, tanto en La Palma como en Canarias\, siendo referente en la calidad de
  sonido y en su oferta como lugar de retiro para artistas que buscan una i
 sla como La Palma para inspirarse y componer.
ATTACH;FMTTYPE=image/jpeg:https://www.larevistadelapalma.com/wp-content/up
 loads/2024/12/Cartel-T-rec.png
CATEGORIES:Conciertos,Música
LOCATION:Multicines Millennium\, Ramon Poll\, 11\, Los Llanos de Aridane\, 
 38760\, España
GEO:28.660236;-17.913187
X-APPLE-STRUCTURED-LOCATION;VALUE=URI;X-ADDRESS=Ramon Poll\, 11\, Los Llano
 s de Aridane\, 38760\, España;X-APPLE-RADIUS=100;X-TITLE=Multicines Mille
 nnium:geo:28.660236,-17.913187
END:VEVENT
END:VCALENDAR