BEGIN:VCALENDAR
VERSION:2.0
PRODID:-//wp-events-plugin.com//7.2.3.1//EN
TZID:Europe/London
X-WR-TIMEZONE:Europe/London
BEGIN:VEVENT
UID:757@larevistadelapalma.com
DTSTART:20231118T170000Z
DTEND:20231119T183000Z
DTSTAMP:20231027T123611Z
URL:https://www.larevistadelapalma.com/events/tadeo-jones-el-musical/
SUMMARY:Tadeo Jones. El Musical
DESCRIPTION:"Tras el éxito de ‘Tadeo Jones\, la Tabla Esmeralda’ en lo
 s cines de 40 países\, llega su versión musical.\nSe trata de un Tadeo J
 ones de carne y hueso que ha llegado al teatro con ganas de cantarnos su h
 istoria."\n\nEl personaje de animación más importante de la historia del
  cine español\, Tadeo Jones\, se hace realidad para que puedas disfrutar 
 de sus aventuras en carne y hueso en el único musical oficial del mundo. 
 Una aventura con temas musicales originales que se unen a los de la pelíc
 ula con impresionantes voces en directo y una puesta en escena totalmente 
 innovadora a través de video mapping acompañada con actores\, cantantes 
 y bailarines que te harán sentir en vivo la última aventura de Tadeo Jon
 es en busca de la tabla Esmeralda.\n\nEn la expedición de uno de los mayo
 res misterios de la arqueología no le faltará la compañía de Sara\, Mo
 mia y nuevos amigos. No te pierdas el musical familiar español más impor
 tante de todos los tiempos.\nEntrada: 17 € Comprar &gt\;&gt\;\nEn aquill
 a de lunes a viernes de 11 a 13 h.
ATTACH;FMTTYPE=image/jpeg:https://www.larevistadelapalma.com/wp-content/up
 loads/2023/10/Tadeo-JOnes-el-Musical-foto.webp
CATEGORIES:Espectáculos
LOCATION:Teatro Circo de Marte\, Calle Virgen de La Luz\, 5\, Santa Cruz de
  La Palma\, 38700\, España
GEO:28.682989;-17.765755
X-APPLE-STRUCTURED-LOCATION;VALUE=URI;X-ADDRESS=Calle Virgen de La Luz\, 5\
 , Santa Cruz de La Palma\, 38700\, España;X-APPLE-RADIUS=100;X-TITLE=Teat
 ro Circo de Marte:geo:28.682989,-17.765755
END:VEVENT
END:VCALENDARBEGIN:VCALENDAR
VERSION:2.0
PRODID:-//wp-events-plugin.com//7.2.3.1//EN
TZID:Europe/London
X-WR-TIMEZONE:Europe/London
BEGIN:VEVENT
UID:757@larevistadelapalma.com
DTSTART:20231118T170000Z
DTEND:20231119T183000Z
DTSTAMP:20231027T123611Z
URL:https://www.larevistadelapalma.com/events/tadeo-jones-el-musical/
SUMMARY:Tadeo Jones. El Musical
DESCRIPTION:"Tras el éxito de ‘Tadeo Jones\, la Tabla Esmeralda’ en lo
 s cines de 40 países\, llega su versión musical.\nSe trata de un Tadeo J
 ones de carne y hueso que ha llegado al teatro con ganas de cantarnos su h
 istoria."\n\nEl personaje de animación más importante de la historia del
  cine español\, Tadeo Jones\, se hace realidad para que puedas disfrutar 
 de sus aventuras en carne y hueso en el único musical oficial del mundo. 
 Una aventura con temas musicales originales que se unen a los de la pelíc
 ula con impresionantes voces en directo y una puesta en escena totalmente 
 innovadora a través de video mapping acompañada con actores\, cantantes 
 y bailarines que te harán sentir en vivo la última aventura de Tadeo Jon
 es en busca de la tabla Esmeralda.\n\nEn la expedición de uno de los mayo
 res misterios de la arqueología no le faltará la compañía de Sara\, Mo
 mia y nuevos amigos. No te pierdas el musical familiar español más impor
 tante de todos los tiempos.\nEntrada: 17 € Comprar &gt\;&gt\;\nEn aquill
 a de lunes a viernes de 11 a 13 h.
ATTACH;FMTTYPE=image/jpeg:https://www.larevistadelapalma.com/wp-content/up
 loads/2023/10/Tadeo-JOnes-el-Musical-foto.webp
CATEGORIES:Espectáculos
LOCATION:Teatro Circo de Marte\, Calle Virgen de La Luz\, 5\, Santa Cruz de
  La Palma\, 38700\, España
GEO:28.682989;-17.765755
X-APPLE-STRUCTURED-LOCATION;VALUE=URI;X-ADDRESS=Calle Virgen de La Luz\, 5\
 , Santa Cruz de La Palma\, 38700\, España;X-APPLE-RADIUS=100;X-TITLE=Teat
 ro Circo de Marte:geo:28.682989,-17.765755
END:VEVENT
END:VCALENDAR