BEGIN:VCALENDAR
VERSION:2.0
PRODID:-//wp-events-plugin.com//7.2.3.1//EN
TZID:Europe/London
X-WR-TIMEZONE:Europe/London
BEGIN:VEVENT
UID:3993@larevistadelapalma.com
DTSTART:20251010T193000Z
DTEND:20251010T210000Z
DTSTAMP:20251007T174617Z
URL:https://www.larevistadelapalma.com/events/tajadre-canta-a-la-palma/
SUMMARY:Tajadre canta a La Palma
DESCRIPTION:Concierto solidario que se celebrará el viernes 10 de octubre 
 de 2025\, a las 20:30 horas en la Plaza de España de Santa Cruz de La Pal
 ma\, a beneficio de Cáritas.
ATTACH;FMTTYPE=image/jpeg:https://www.larevistadelapalma.com/wp-content/up
 loads/2025/10/Tajadre-canta-a-la-palma.jpg
CATEGORIES:Conciertos,Música
LOCATION:Plaza de España de Santa Cruz de La Palma\, Plaza de España\, Sa
 nta Cruz De La Palma\, Santa Cruz de Tenerife\, 38700\, España
GEO:28.683369;-17.76487
X-APPLE-STRUCTURED-LOCATION;VALUE=URI;X-ADDRESS=Plaza de España\, Santa Cr
 uz De La Palma\, Santa Cruz de Tenerife\, 38700\, España;X-APPLE-RADIUS=1
 00;X-TITLE=Plaza de España de Santa Cruz de La Palma:geo:28.683369,-17.76
 487
END:VEVENT
END:VCALENDARBEGIN:VCALENDAR
VERSION:2.0
PRODID:-//wp-events-plugin.com//7.2.3.1//EN
TZID:Europe/London
X-WR-TIMEZONE:Europe/London
BEGIN:VEVENT
UID:3993@larevistadelapalma.com
DTSTART:20251010T193000Z
DTEND:20251010T210000Z
DTSTAMP:20251007T174617Z
URL:https://www.larevistadelapalma.com/events/tajadre-canta-a-la-palma/
SUMMARY:Tajadre canta a La Palma
DESCRIPTION:Concierto solidario que se celebrará el viernes 10 de octubre 
 de 2025\, a las 20:30 horas en la Plaza de España de Santa Cruz de La Pal
 ma\, a beneficio de Cáritas.
ATTACH;FMTTYPE=image/jpeg:https://www.larevistadelapalma.com/wp-content/up
 loads/2025/10/Tajadre-canta-a-la-palma.jpg
CATEGORIES:Conciertos,Música
LOCATION:Plaza de España de Santa Cruz de La Palma\, Plaza de España\, Sa
 nta Cruz De La Palma\, Santa Cruz de Tenerife\, 38700\, España
GEO:28.683369;-17.76487
X-APPLE-STRUCTURED-LOCATION;VALUE=URI;X-ADDRESS=Plaza de España\, Santa Cr
 uz De La Palma\, Santa Cruz de Tenerife\, 38700\, España;X-APPLE-RADIUS=1
 00;X-TITLE=Plaza de España de Santa Cruz de La Palma:geo:28.683369,-17.76
 487
END:VEVENT
END:VCALENDAR