BEGIN:VCALENDAR
VERSION:2.0
PRODID:-//wp-events-plugin.com//7.2.3.1//EN
TZID:Europe/London
X-WR-TIMEZONE:Europe/London
BEGIN:VEVENT
UID:3334@larevistadelapalma.com
DTSTART:20241026T091500Z
DTEND:20241026T123000Z
DTSTAMP:20241021T135806Z
URL:https://www.larevistadelapalma.com/events/taller-cocina-microbiota-eco
 ventaalameda/
SUMMARY:Taller de cocina "Microbiota y salud digestiva: fortalece tu sistem
 a inmune este otoño"
DESCRIPTION:Taller teórico y de cocina que se celebrará el sábado 26 de 
 Octubre en la Ecoventa La Alameda.\n\nSe elabora también un menú vegano 
 y sin gluten y se almuerza allí.\n\nCon la llegada del otoño\, es fundam
 ental fortalecer nuestro sistema inmune\, y una de las mejores formas de h
 acerlo es cuidando nuestra microbiota intestinal.\n\n\n\nOryzae Nutricion 
 te invita a participar en un taller completo que te enseñará cómo mejor
 ar tu salud digestiva y\, en consecuencia\, potenciar tus defensas de form
 a natural.\n\n\n\n ¿POR QUÉ ASISTIR? \n\nLa microbiota es clave para ma
 ntener el equilibrio de nuestro sistema inmunológico\, especialmente en 
 épocas de cambios estacionales. Este taller te brindará las herramientas
  necesarias para entender y optimizar el funcionamiento de tu sistema dige
 stivo a través de la alimentación\, mejorando tu bienestar de forma inte
 gral.\n\n¿QUÉ APRENDERÁS?\n\nClase teórica:\n\n 	Conoce el papel funda
 mental de la microbiota en la salud y cómo influye en la inmunidad. Descu
 brirás cómo una microbiota equilibrada te protege contra enfermedades y 
 alergias.\n\nClase práctica de cocina:\n\n 	Aprende a preparar recetas de
 liciosas y saludables con un enfoque terapéutico.\n 	Crearás tu propio m
 enú terapéutico\, ideal para mejorar la salud digestiva y fortalecer el 
 sistema inmune.\n\nBENEFICIOS:\n\n 	Estrategias dietéticas de estilo de v
 ida y suplementación para apoyar tu sistema digestivo e inmune.\n 	Consej
 os prácticos que podrás aplicar a tu rutina diaria.\n\n\n\nComienza el o
 toño cuidando de tu salud desde dentro.\n\n\nINSCRIPCIONES MAHY: 67518385
 8\n\n\n\n&nbsp\;\n\n\n\n\n\n\n\n\n\n\nVer esta publicación en Instagram\n
 \n\n\n\n\n\n\n\n\n\n\n\n\n\n\n\n\n\n\n\n\n\n&nbsp\;\nUna publicación comp
 artida de Oryzae Nutrición Naturopatía (@oryzae.nutricion)\n\n\n\n\n\n
ATTACH;FMTTYPE=image/jpeg:https://www.larevistadelapalma.com/wp-content/up
 loads/2024/10/WhatsApp-Image-2024-10-15-at-14.37.54_2c8b1471.jpg
CATEGORIES:Formación,Gastro,Otras propuestas
LOCATION:Ecoventa La Alameda\, C. Anselmo Pérez de Brito\, 81\, Santa Cruz
  De La Palma\, 38700\, España
GEO:28.687016;-17.761516
X-APPLE-STRUCTURED-LOCATION;VALUE=URI;X-ADDRESS=C. Anselmo Pérez de Brito\
 , 81\, Santa Cruz De La Palma\, 38700\, España;X-APPLE-RADIUS=100;X-TITLE
 =Ecoventa La Alameda:geo:28.687016,-17.761516
END:VEVENT
END:VCALENDARBEGIN:VCALENDAR
VERSION:2.0
PRODID:-//wp-events-plugin.com//7.2.3.1//EN
TZID:Europe/London
X-WR-TIMEZONE:Europe/London
BEGIN:VEVENT
UID:3334@larevistadelapalma.com
DTSTART:20241026T091500Z
DTEND:20241026T123000Z
DTSTAMP:20241021T135806Z
URL:https://www.larevistadelapalma.com/events/taller-cocina-microbiota-eco
 ventaalameda/
SUMMARY:Taller de cocina "Microbiota y salud digestiva: fortalece tu sistem
 a inmune este otoño"
DESCRIPTION:Taller teórico y de cocina que se celebrará el sábado 26 de 
 Octubre en la Ecoventa La Alameda.\n\nSe elabora también un menú vegano 
 y sin gluten y se almuerza allí.\n\nCon la llegada del otoño\, es fundam
 ental fortalecer nuestro sistema inmune\, y una de las mejores formas de h
 acerlo es cuidando nuestra microbiota intestinal.\n\n\n\nOryzae Nutricion 
 te invita a participar en un taller completo que te enseñará cómo mejor
 ar tu salud digestiva y\, en consecuencia\, potenciar tus defensas de form
 a natural.\n\n\n\n ¿POR QUÉ ASISTIR? \n\nLa microbiota es clave para ma
 ntener el equilibrio de nuestro sistema inmunológico\, especialmente en 
 épocas de cambios estacionales. Este taller te brindará las herramientas
  necesarias para entender y optimizar el funcionamiento de tu sistema dige
 stivo a través de la alimentación\, mejorando tu bienestar de forma inte
 gral.\n\n¿QUÉ APRENDERÁS?\n\nClase teórica:\n\n 	Conoce el papel funda
 mental de la microbiota en la salud y cómo influye en la inmunidad. Descu
 brirás cómo una microbiota equilibrada te protege contra enfermedades y 
 alergias.\n\nClase práctica de cocina:\n\n 	Aprende a preparar recetas de
 liciosas y saludables con un enfoque terapéutico.\n 	Crearás tu propio m
 enú terapéutico\, ideal para mejorar la salud digestiva y fortalecer el 
 sistema inmune.\n\nBENEFICIOS:\n\n 	Estrategias dietéticas de estilo de v
 ida y suplementación para apoyar tu sistema digestivo e inmune.\n 	Consej
 os prácticos que podrás aplicar a tu rutina diaria.\n\n\n\nComienza el o
 toño cuidando de tu salud desde dentro.\n\n\nINSCRIPCIONES MAHY: 67518385
 8\n\n\n\n&nbsp\;\n\n\n\n\n\n\n\n\n\n\nVer esta publicación en Instagram\n
 \n\n\n\n\n\n\n\n\n\n\n\n\n\n\n\n\n\n\n\n\n\n&nbsp\;\nUna publicación comp
 artida de Oryzae Nutrición Naturopatía (@oryzae.nutricion)\n\n\n\n\n\n
ATTACH;FMTTYPE=image/jpeg:https://www.larevistadelapalma.com/wp-content/up
 loads/2024/10/WhatsApp-Image-2024-10-15-at-14.37.54_2c8b1471.jpg
CATEGORIES:Formación,Gastro,Otras propuestas
LOCATION:Ecoventa La Alameda\, C. Anselmo Pérez de Brito\, 81\, Santa Cruz
  De La Palma\, 38700\, España
GEO:28.687016;-17.761516
X-APPLE-STRUCTURED-LOCATION;VALUE=URI;X-ADDRESS=C. Anselmo Pérez de Brito\
 , 81\, Santa Cruz De La Palma\, 38700\, España;X-APPLE-RADIUS=100;X-TITLE
 =Ecoventa La Alameda:geo:28.687016,-17.761516
END:VEVENT
END:VCALENDAR