BEGIN:VCALENDAR
VERSION:2.0
PRODID:-//wp-events-plugin.com//7.2.3.1//EN
TZID:Europe/London
X-WR-TIMEZONE:Europe/London
BEGIN:VEVENT
UID:3494@larevistadelapalma.com
DTSTART:20241222T100000Z
DTEND:20241222T120000Z
DTSTAMP:20241212T150908Z
URL:https://www.larevistadelapalma.com/events/taller-danzas-africanas-hip-
 hop-bana-alta/
SUMMARY:Taller de danzas africanas y Hip Hop\, en Breña Alta
DESCRIPTION:El día 22\, Canary Dance Connection ofrece dos talleres en La 
 Palma este mes de diciembre: \n\nDANZAS AFRICANAS\, con Laia Herrera\, Y H
 IP HOP\, con Irene.\n\nInscripciones abiertas hasta el 20 de diciembre.\nI
 nscripciones aquí &gt\;&gt\;\n\n\n&nbsp\;
ATTACH;FMTTYPE=image/jpeg:https://www.larevistadelapalma.com/wp-content/up
 loads/2024/12/Taller-danzas-africanas-B-alta.jpg
CATEGORIES:Formación,Otras propuestas
LOCATION:Pabellón Polideportivo Breña Alta\, Calle la Constitución\, Bre
 ña Alta\, 38710\, España
GEO:28.663107;-17.784045
X-APPLE-STRUCTURED-LOCATION;VALUE=URI;X-ADDRESS=Calle la Constitución\, Br
 eña Alta\, 38710\, España;X-APPLE-RADIUS=100;X-TITLE=Pabellón Polidepor
 tivo Breña Alta:geo:28.663107,-17.784045
END:VEVENT
END:VCALENDARBEGIN:VCALENDAR
VERSION:2.0
PRODID:-//wp-events-plugin.com//7.2.3.1//EN
TZID:Europe/London
X-WR-TIMEZONE:Europe/London
BEGIN:VEVENT
UID:3494@larevistadelapalma.com
DTSTART:20241222T100000Z
DTEND:20241222T120000Z
DTSTAMP:20241212T150908Z
URL:https://www.larevistadelapalma.com/events/taller-danzas-africanas-hip-
 hop-bana-alta/
SUMMARY:Taller de danzas africanas y Hip Hop\, en Breña Alta
DESCRIPTION:El día 22\, Canary Dance Connection ofrece dos talleres en La 
 Palma este mes de diciembre: \n\nDANZAS AFRICANAS\, con Laia Herrera\, Y H
 IP HOP\, con Irene.\n\nInscripciones abiertas hasta el 20 de diciembre.\nI
 nscripciones aquí &gt\;&gt\;\n\n\n&nbsp\;
ATTACH;FMTTYPE=image/jpeg:https://www.larevistadelapalma.com/wp-content/up
 loads/2024/12/Taller-danzas-africanas-B-alta.jpg
CATEGORIES:Formación,Otras propuestas
LOCATION:Pabellón Polideportivo Breña Alta\, Calle la Constitución\, Bre
 ña Alta\, 38710\, España
GEO:28.663107;-17.784045
X-APPLE-STRUCTURED-LOCATION;VALUE=URI;X-ADDRESS=Calle la Constitución\, Br
 eña Alta\, 38710\, España;X-APPLE-RADIUS=100;X-TITLE=Pabellón Polidepor
 tivo Breña Alta:geo:28.663107,-17.784045
END:VEVENT
END:VCALENDAR