BEGIN:VCALENDAR
VERSION:2.0
PRODID:-//wp-events-plugin.com//7.2.3.1//EN
TZID:Europe/London
X-WR-TIMEZONE:Europe/London
BEGIN:VEVENT
UID:4467@larevistadelapalma.com
DTSTART;VALUE=DATE:20260119
DTEND;VALUE=DATE:20260120
DTSTAMP:20260113T225444Z
URL:https://www.larevistadelapalma.com/events/taller-de-arreglos-de-vestim
 enta-indiana/
SUMMARY:Taller de arreglos de vestimenta indiana
DESCRIPTION:\nTaller de arreglos de vestimenta indiana\, de la mano de la a
 rtesana Mary Carmen Felipe Pérez.\n Del 19 de enero al 9 de febrero. Los
  lunes y viernes\, de 16:00 a 19:00 horas. Aula parte alta del Mercadill
 o Municipal.\n\n\n\n\nPrioridad para empadronados en el municipio.\n\n\n\n
 \nINSCRIPCIONES:\n\n\n\n\n 	ARTESANÍA  Teléfono 922 440 003 (Ext. 205)\
 n 	artesania@villademazo.es\n\n\n\n GRATUITO. PLAZAS LIMITADAS\n\n
ATTACH;FMTTYPE=image/jpeg:https://www.larevistadelapalma.com/wp-content/up
 loads/2026/01/01-19-taller-arreglos-vestimenta-indiana.jpg
CATEGORIES:Formación,Otras propuestas
LOCATION:Mercadillo Villa de Mazo\, Calle Dr. Morera Bravo\, Villa de Mazo\
 , 38730\, España
GEO:28.603998;-17.774127
X-APPLE-STRUCTURED-LOCATION;VALUE=URI;X-ADDRESS=Calle Dr. Morera Bravo\, Vi
 lla de Mazo\, 38730\, España;X-APPLE-RADIUS=100;X-TITLE=Mercadillo Villa 
 de Mazo:geo:28.603998,-17.774127
END:VEVENT
END:VCALENDARBEGIN:VCALENDAR
VERSION:2.0
PRODID:-//wp-events-plugin.com//7.2.3.1//EN
TZID:Europe/London
X-WR-TIMEZONE:Europe/London
BEGIN:VEVENT
UID:4467@larevistadelapalma.com
DTSTART;VALUE=DATE:20260119
DTEND;VALUE=DATE:20260120
DTSTAMP:20260113T225444Z
URL:https://www.larevistadelapalma.com/events/taller-de-arreglos-de-vestim
 enta-indiana/
SUMMARY:Taller de arreglos de vestimenta indiana
DESCRIPTION:\nTaller de arreglos de vestimenta indiana\, de la mano de la a
 rtesana Mary Carmen Felipe Pérez.\n Del 19 de enero al 9 de febrero. Los
  lunes y viernes\, de 16:00 a 19:00 horas. Aula parte alta del Mercadill
 o Municipal.\n\n\n\n\nPrioridad para empadronados en el municipio.\n\n\n\n
 \nINSCRIPCIONES:\n\n\n\n\n 	ARTESANÍA  Teléfono 922 440 003 (Ext. 205)\
 n 	artesania@villademazo.es\n\n\n\n GRATUITO. PLAZAS LIMITADAS\n\n
ATTACH;FMTTYPE=image/jpeg:https://www.larevistadelapalma.com/wp-content/up
 loads/2026/01/01-19-taller-arreglos-vestimenta-indiana.jpg
CATEGORIES:Formación,Otras propuestas
LOCATION:Mercadillo Villa de Mazo\, Calle Dr. Morera Bravo\, Villa de Mazo\
 , 38730\, España
GEO:28.603998;-17.774127
X-APPLE-STRUCTURED-LOCATION;VALUE=URI;X-ADDRESS=Calle Dr. Morera Bravo\, Vi
 lla de Mazo\, 38730\, España;X-APPLE-RADIUS=100;X-TITLE=Mercadillo Villa 
 de Mazo:geo:28.603998,-17.774127
END:VEVENT
END:VCALENDAR