BEGIN:VCALENDAR
VERSION:2.0
PRODID:-//wp-events-plugin.com//7.2.3.1//EN
TZID:Europe/London
X-WR-TIMEZONE:Europe/London
BEGIN:VEVENT
UID:3620@larevistadelapalma.com
DTSTART;VALUE=DATE:20250607
DTEND;VALUE=DATE:20250608
DTSTAMP:20250224T232824Z
URL:https://www.larevistadelapalma.com/events/taller-de-biodanza-elisa-can
 ti/
SUMMARY:Taller de Biodanza impartido por Elisa Canti
DESCRIPTION:\nDescubre una experiencia transformadora con el Taller de Biod
 anza impartido por Elisa Canti\, directora de la Escuela de Biodanza de Te
 nerife. Un espacio para conectar contigo mismo\, liberar emociones y disfr
 utar del movimiento con sentido.\n\n\n\nInformación y reservas:\n\n\n 	En
  el correo celinasalar@gmail.com o en teléfono 616 551 174\n\n
ATTACH;FMTTYPE=image/jpeg:https://www.larevistadelapalma.com/wp-content/up
 loads/2025/02/Taller-de-biodanza.jpg
CATEGORIES:Formación,Otras propuestas
LOCATION:Municipio de Breña Baja\, Breña Baja\, Breña Baja\, 38712\, Esp
 aña
GEO:28.641297;-17.772467
X-APPLE-STRUCTURED-LOCATION;VALUE=URI;X-ADDRESS=Breña Baja\, Breña Baja\,
  38712\, España;X-APPLE-RADIUS=100;X-TITLE=Municipio de Breña Baja:geo:2
 8.641297,-17.772467
END:VEVENT
END:VCALENDARBEGIN:VCALENDAR
VERSION:2.0
PRODID:-//wp-events-plugin.com//7.2.3.1//EN
TZID:Europe/London
X-WR-TIMEZONE:Europe/London
BEGIN:VEVENT
UID:3620@larevistadelapalma.com
DTSTART;VALUE=DATE:20250607
DTEND;VALUE=DATE:20250608
DTSTAMP:20250224T232824Z
URL:https://www.larevistadelapalma.com/events/taller-de-biodanza-elisa-can
 ti/
SUMMARY:Taller de Biodanza impartido por Elisa Canti
DESCRIPTION:\nDescubre una experiencia transformadora con el Taller de Biod
 anza impartido por Elisa Canti\, directora de la Escuela de Biodanza de Te
 nerife. Un espacio para conectar contigo mismo\, liberar emociones y disfr
 utar del movimiento con sentido.\n\n\n\nInformación y reservas:\n\n\n 	En
  el correo celinasalar@gmail.com o en teléfono 616 551 174\n\n
ATTACH;FMTTYPE=image/jpeg:https://www.larevistadelapalma.com/wp-content/up
 loads/2025/02/Taller-de-biodanza.jpg
CATEGORIES:Formación,Otras propuestas
LOCATION:Municipio de Breña Baja\, Breña Baja\, Breña Baja\, 38712\, Esp
 aña
GEO:28.641297;-17.772467
X-APPLE-STRUCTURED-LOCATION;VALUE=URI;X-ADDRESS=Breña Baja\, Breña Baja\,
  38712\, España;X-APPLE-RADIUS=100;X-TITLE=Municipio de Breña Baja:geo:2
 8.641297,-17.772467
END:VEVENT
END:VCALENDAR