BEGIN:VCALENDAR
VERSION:2.0
PRODID:-//wp-events-plugin.com//7.2.3.1//EN
TZID:Europe/London
X-WR-TIMEZONE:Europe/London
BEGIN:VEVENT
UID:3822@larevistadelapalma.com
DTSTART:20250806T090000Z
DTEND:20250806T123000Z
DTSTAMP:20250618T022147Z
URL:https://www.larevistadelapalma.com/events/taller-de-cesteria-creativa-
 para-ninos-en-los-llanos-2/
SUMMARY:Taller de cestería creativa para niños en Los Llanos
DESCRIPTION:Grupo 2: del 6 al 29 de agosto
ATTACH;FMTTYPE=image/jpeg:https://www.larevistadelapalma.com/wp-content/up
 loads/2025/06/Cesteria-creativa-los-llanos.jpg
CATEGORIES:Formación,Otras propuestas
LOCATION:Casa de La Cultura de Los Llanos de Aridane\, : C. Real\, 8\, Los 
 Llanos de Aridane \, 38760\, España
GEO:28.658651;-17.913512
X-APPLE-STRUCTURED-LOCATION;VALUE=URI;X-ADDRESS=: C. Real\, 8\, Los Llanos 
 de Aridane \, 38760\, España;X-APPLE-RADIUS=100;X-TITLE=Casa de La Cultur
 a de Los Llanos de Aridane:geo:28.658651,-17.913512
END:VEVENT
END:VCALENDARBEGIN:VCALENDAR
VERSION:2.0
PRODID:-//wp-events-plugin.com//7.2.3.1//EN
TZID:Europe/London
X-WR-TIMEZONE:Europe/London
BEGIN:VEVENT
UID:3822@larevistadelapalma.com
DTSTART:20250806T090000Z
DTEND:20250806T123000Z
DTSTAMP:20250618T022147Z
URL:https://www.larevistadelapalma.com/events/taller-de-cesteria-creativa-
 para-ninos-en-los-llanos-2/
SUMMARY:Taller de cestería creativa para niños en Los Llanos
DESCRIPTION:Grupo 2: del 6 al 29 de agosto
ATTACH;FMTTYPE=image/jpeg:https://www.larevistadelapalma.com/wp-content/up
 loads/2025/06/Cesteria-creativa-los-llanos.jpg
CATEGORIES:Formación,Otras propuestas
LOCATION:Casa de La Cultura de Los Llanos de Aridane\, : C. Real\, 8\, Los 
 Llanos de Aridane \, 38760\, España
GEO:28.658651;-17.913512
X-APPLE-STRUCTURED-LOCATION;VALUE=URI;X-ADDRESS=: C. Real\, 8\, Los Llanos 
 de Aridane \, 38760\, España;X-APPLE-RADIUS=100;X-TITLE=Casa de La Cultur
 a de Los Llanos de Aridane:geo:28.658651,-17.913512
END:VEVENT
END:VCALENDAR