BEGIN:VCALENDAR
VERSION:2.0
PRODID:-//wp-events-plugin.com//7.2.3.1//EN
TZID:Europe/London
X-WR-TIMEZONE:Europe/London
BEGIN:VEVENT
UID:154@larevistadelapalma.com
DTSTART;VALUE=DATE:20230717
DTEND;VALUE=DATE:20230830
DTSTAMP:20230710T110706Z
URL:https://www.larevistadelapalma.com/events/taller-de-cesteria-de-palma-
 en-barlovento/
SUMMARY:Taller de cestería de palma en Barlovento
DESCRIPTION:Se realizará en el recinto "El Drago" ( instalaciones donde se
  celebra el Mercadillo) del 17 julio al 29 agosto. \nPlazas limitadas 
ATTACH;FMTTYPE=image/jpeg:https://www.larevistadelapalma.com/wp-content/up
 loads/2023/07/Taller-cesteria-de-Palma.jpg
CATEGORIES:Formación,Otras propuestas
LOCATION:Mercadillo de Barlovento\, Plaza Ntra. Sra. Rosario\, 1\, Barloven
 to\, 38726\, España
GEO:28.829323;-17.803327
X-APPLE-STRUCTURED-LOCATION;VALUE=URI;X-ADDRESS=Plaza Ntra. Sra. Rosario\, 
 1\, Barlovento\, 38726\, España;X-APPLE-RADIUS=100;X-TITLE=Mercadillo de 
 Barlovento:geo:28.829323,-17.803327
END:VEVENT
END:VCALENDARBEGIN:VCALENDAR
VERSION:2.0
PRODID:-//wp-events-plugin.com//7.2.3.1//EN
TZID:Europe/London
X-WR-TIMEZONE:Europe/London
BEGIN:VEVENT
UID:154@larevistadelapalma.com
DTSTART;VALUE=DATE:20230717
DTEND;VALUE=DATE:20230830
DTSTAMP:20230710T110706Z
URL:https://www.larevistadelapalma.com/events/taller-de-cesteria-de-palma-
 en-barlovento/
SUMMARY:Taller de cestería de palma en Barlovento
DESCRIPTION:Se realizará en el recinto "El Drago" ( instalaciones donde se
  celebra el Mercadillo) del 17 julio al 29 agosto. \nPlazas limitadas 
ATTACH;FMTTYPE=image/jpeg:https://www.larevistadelapalma.com/wp-content/up
 loads/2023/07/Taller-cesteria-de-Palma.jpg
CATEGORIES:Formación,Otras propuestas
LOCATION:Mercadillo de Barlovento\, Plaza Ntra. Sra. Rosario\, 1\, Barloven
 to\, 38726\, España
GEO:28.829323;-17.803327
X-APPLE-STRUCTURED-LOCATION;VALUE=URI;X-ADDRESS=Plaza Ntra. Sra. Rosario\, 
 1\, Barlovento\, 38726\, España;X-APPLE-RADIUS=100;X-TITLE=Mercadillo de 
 Barlovento:geo:28.829323,-17.803327
END:VEVENT
END:VCALENDAR