BEGIN:VCALENDAR
VERSION:2.0
PRODID:-//wp-events-plugin.com//7.2.3.1//EN
TZID:Europe/London
X-WR-TIMEZONE:Europe/London
BEGIN:VEVENT
UID:159@larevistadelapalma.com
DTSTART:20230719T170000Z
DTEND:20230719T183000Z
DTSTAMP:20230713T121443Z
URL:https://www.larevistadelapalma.com/events/taller-de-danzas-del-mundo-s
 encillas-con-devora-vina/
SUMMARY:Taller de danzas del mundo (sencillas) con Devora Viña
DESCRIPTION:Cn la coach Dévora Viña\, el próximo 19 de julio de 2023\, a
  las 18:00 h\, en el Centro de la Cultura Andares.
ATTACH;FMTTYPE=image/jpeg:https://www.larevistadelapalma.com/wp-content/up
 loads/2023/07/Devora-VIna.jpg
CATEGORIES:Formación,Otras propuestas
LOCATION:Centro de la Cultura Andares\, Ctra. Dr. Morera Bravo\, 2. El Pueb
 lo.\, Villa de Mazo\, 38730\, España
GEO:28.604882;-17.777431
X-APPLE-STRUCTURED-LOCATION;VALUE=URI;X-ADDRESS=Ctra. Dr. Morera Bravo\, 2.
  El Pueblo.\, Villa de Mazo\, 38730\, España;X-APPLE-RADIUS=100;X-TITLE=C
 entro de la Cultura Andares:geo:28.604882,-17.777431
END:VEVENT
END:VCALENDARBEGIN:VCALENDAR
VERSION:2.0
PRODID:-//wp-events-plugin.com//7.2.3.1//EN
TZID:Europe/London
X-WR-TIMEZONE:Europe/London
BEGIN:VEVENT
UID:159@larevistadelapalma.com
DTSTART:20230719T170000Z
DTEND:20230719T183000Z
DTSTAMP:20230713T121443Z
URL:https://www.larevistadelapalma.com/events/taller-de-danzas-del-mundo-s
 encillas-con-devora-vina/
SUMMARY:Taller de danzas del mundo (sencillas) con Devora Viña
DESCRIPTION:Cn la coach Dévora Viña\, el próximo 19 de julio de 2023\, a
  las 18:00 h\, en el Centro de la Cultura Andares.
ATTACH;FMTTYPE=image/jpeg:https://www.larevistadelapalma.com/wp-content/up
 loads/2023/07/Devora-VIna.jpg
CATEGORIES:Formación,Otras propuestas
LOCATION:Centro de la Cultura Andares\, Ctra. Dr. Morera Bravo\, 2. El Pueb
 lo.\, Villa de Mazo\, 38730\, España
GEO:28.604882;-17.777431
X-APPLE-STRUCTURED-LOCATION;VALUE=URI;X-ADDRESS=Ctra. Dr. Morera Bravo\, 2.
  El Pueblo.\, Villa de Mazo\, 38730\, España;X-APPLE-RADIUS=100;X-TITLE=C
 entro de la Cultura Andares:geo:28.604882,-17.777431
END:VEVENT
END:VCALENDAR