BEGIN:VCALENDAR
VERSION:2.0
PRODID:-//wp-events-plugin.com//7.2.3.1//EN
TZID:Europe/London
X-WR-TIMEZONE:Europe/London
BEGIN:VEVENT
UID:3413@larevistadelapalma.com
DTSTART:20241130T100000Z
DTEND:20241130T120000Z
DTSTAMP:20241118T215307Z
URL:https://www.larevistadelapalma.com/events/taller-de-dibujo-creativo-co
 n-angela-glezal/
SUMMARY:Taller de dibujo creativo con Angela Glezal
DESCRIPTION:\nNo hace falta tener ningún conocimiento previo.\n\n\nEste s
 ábado 30 de noviembre\, te invitan a un nuevo encuentro en las Calles de 
 Santa Cruz de La Palma\, donde explorararán la ciudad y su entorno a trav
 és del dibujo creativo de la mano de Ángela Glezal. Un taller para captu
 rar momentos\, paisajes\, emociones y compartir con otras personas.\nCuade
 rno/Isla es un proyecto mensual donde creamos un cuaderno de dibujo\, expl
 orando diferentes lugares y técnicas. Cada mes\, un nuevo capítulo.\n\n\
 nReserva tu plaza escribiendo al 648 988 206\nPrecio: 25€\n\n
ATTACH;FMTTYPE=image/jpeg:https://www.larevistadelapalma.com/wp-content/up
 loads/2024/11/cuaderno-calles-de-santa-cruz-de-la-palma.jpg
CATEGORIES:Formación,Otras propuestas
LOCATION:Municipio de Santa Cruz de La Palma\, Santa Cruz de La Palma \, Sa
 nta Cruz de La Palma \, 38700\, España
GEO:28.688757;-17.765102
X-APPLE-STRUCTURED-LOCATION;VALUE=URI;X-ADDRESS=Santa Cruz de La Palma \, S
 anta Cruz de La Palma \, 38700\, España;X-APPLE-RADIUS=100;X-TITLE=Munici
 pio de Santa Cruz de La Palma:geo:28.688757,-17.765102
END:VEVENT
END:VCALENDARBEGIN:VCALENDAR
VERSION:2.0
PRODID:-//wp-events-plugin.com//7.2.3.1//EN
TZID:Europe/London
X-WR-TIMEZONE:Europe/London
BEGIN:VEVENT
UID:3413@larevistadelapalma.com
DTSTART:20241130T100000Z
DTEND:20241130T120000Z
DTSTAMP:20241118T215307Z
URL:https://www.larevistadelapalma.com/events/taller-de-dibujo-creativo-co
 n-angela-glezal/
SUMMARY:Taller de dibujo creativo con Angela Glezal
DESCRIPTION:\nNo hace falta tener ningún conocimiento previo.\n\n\nEste s
 ábado 30 de noviembre\, te invitan a un nuevo encuentro en las Calles de 
 Santa Cruz de La Palma\, donde explorararán la ciudad y su entorno a trav
 és del dibujo creativo de la mano de Ángela Glezal. Un taller para captu
 rar momentos\, paisajes\, emociones y compartir con otras personas.\nCuade
 rno/Isla es un proyecto mensual donde creamos un cuaderno de dibujo\, expl
 orando diferentes lugares y técnicas. Cada mes\, un nuevo capítulo.\n\n\
 nReserva tu plaza escribiendo al 648 988 206\nPrecio: 25€\n\n
ATTACH;FMTTYPE=image/jpeg:https://www.larevistadelapalma.com/wp-content/up
 loads/2024/11/cuaderno-calles-de-santa-cruz-de-la-palma.jpg
CATEGORIES:Formación,Otras propuestas
LOCATION:Municipio de Santa Cruz de La Palma\, Santa Cruz de La Palma \, Sa
 nta Cruz de La Palma \, 38700\, España
GEO:28.688757;-17.765102
X-APPLE-STRUCTURED-LOCATION;VALUE=URI;X-ADDRESS=Santa Cruz de La Palma \, S
 anta Cruz de La Palma \, 38700\, España;X-APPLE-RADIUS=100;X-TITLE=Munici
 pio de Santa Cruz de La Palma:geo:28.688757,-17.765102
END:VEVENT
END:VCALENDAR