BEGIN:VCALENDAR
VERSION:2.0
PRODID:-//wp-events-plugin.com//7.2.3.1//EN
TZID:Europe/London
X-WR-TIMEZONE:Europe/London
BEGIN:VEVENT
UID:3797@larevistadelapalma.com
DTSTART;VALUE=DATE:20250610
DTEND;VALUE=DATE:20250611
DTSTAMP:20250605T221014Z
URL:https://www.larevistadelapalma.com/events/taller-de-elaboracion-de-cuc
 haras-de-madera/
SUMMARY:Taller de elaboración de cucharas de madera
DESCRIPTION:\nCurso de Artesanía Tradicional dedicado a la elaboración de
  Cucharas de Madera a cargo del artesano Víctor M. Concepción. Tendrá l
 ugar tres días a la semana\, del 10 de junio al 18 de julio.\nInscríbete
  presencialmente en el Ayuntamiento\, o:\n\n\n\n\n 	Enviando un correo a a
 edl@balta.org\n 	Llamando al 922 43 70 09 ext. 256\n\n
ATTACH;FMTTYPE=image/jpeg:https://www.larevistadelapalma.com/wp-content/up
 loads/2025/06/Taller-cucharas-de-madera.jpg
CATEGORIES:Formación,Otras propuestas
LOCATION:Parque de Los Álamos\, Bodegón Los Alamos\, Breña Alta\, 38710\
 , España
GEO:28.667222;-17.787778
X-APPLE-STRUCTURED-LOCATION;VALUE=URI;X-ADDRESS=Bodegón Los Alamos\, Breñ
 a Alta\, 38710\, España;X-APPLE-RADIUS=100;X-TITLE=Parque de Los Álamos:
 geo:28.667222,-17.787778
END:VEVENT
END:VCALENDARBEGIN:VCALENDAR
VERSION:2.0
PRODID:-//wp-events-plugin.com//7.2.3.1//EN
TZID:Europe/London
X-WR-TIMEZONE:Europe/London
BEGIN:VEVENT
UID:3797@larevistadelapalma.com
DTSTART;VALUE=DATE:20250610
DTEND;VALUE=DATE:20250611
DTSTAMP:20250605T221014Z
URL:https://www.larevistadelapalma.com/events/taller-de-elaboracion-de-cuc
 haras-de-madera/
SUMMARY:Taller de elaboración de cucharas de madera
DESCRIPTION:\nCurso de Artesanía Tradicional dedicado a la elaboración de
  Cucharas de Madera a cargo del artesano Víctor M. Concepción. Tendrá l
 ugar tres días a la semana\, del 10 de junio al 18 de julio.\nInscríbete
  presencialmente en el Ayuntamiento\, o:\n\n\n\n\n 	Enviando un correo a a
 edl@balta.org\n 	Llamando al 922 43 70 09 ext. 256\n\n
ATTACH;FMTTYPE=image/jpeg:https://www.larevistadelapalma.com/wp-content/up
 loads/2025/06/Taller-cucharas-de-madera.jpg
CATEGORIES:Formación,Otras propuestas
LOCATION:Parque de Los Álamos\, Bodegón Los Alamos\, Breña Alta\, 38710\
 , España
GEO:28.667222;-17.787778
X-APPLE-STRUCTURED-LOCATION;VALUE=URI;X-ADDRESS=Bodegón Los Alamos\, Breñ
 a Alta\, 38710\, España;X-APPLE-RADIUS=100;X-TITLE=Parque de Los Álamos:
 geo:28.667222,-17.787778
END:VEVENT
END:VCALENDAR