BEGIN:VCALENDAR
VERSION:2.0
PRODID:-//wp-events-plugin.com//7.2.3.1//EN
TZID:Europe/London
X-WR-TIMEZONE:Europe/London
BEGIN:VEVENT
UID:3241@larevistadelapalma.com
DTSTART:20240919T160000Z
DTEND:20240919T173000Z
DTSTAMP:20240918T155757Z
URL:https://www.larevistadelapalma.com/events/taller-de-escritura-creativa
 -en-brena-baja/
SUMMARY:Taller de escritura creativa en Breña Baja
DESCRIPTION:La Concejalía de Cultura del Ayuntamiento de Breña Baja sigue
  promocionando actividades en la Biblioteca Pública Municipal de Breña B
 aja "Mauro Fernández Santos" (San Antonio)\, para el mes de septiembre co
 n el Taller de “Escritura Creativa” por parte de Beatriz Gómez.\n\nTe
 ndrá lugar el jueves 19 de septiembre\, a las 17 horas.\n\nPara mayor inf
 ormación puedes contactar con la Biblioteca al tlfo: 608 17 90 60 o al co
 rreo: biblioteca@bbaja.es. O bien al Ayuntamiento al tlfo: 922 43 59 55 (
 exts 219 / 222).
ATTACH;FMTTYPE=image/jpeg:https://www.larevistadelapalma.com/wp-content/up
 loads/2024/09/Biblioteca-24-Escritura-Septiembre-Cartel.png
CATEGORIES:Cine y Literatura,Formación,Literatura,Otras propuestas
LOCATION:Biblioteca Pública Municipal “Mauro Fernández Santos”\,  Bre
 ña Baja\, Calle El Monacal\, 55. San Antonio\, Breña Baja\, 38712\, Espa
 ña
GEO:28.648662;-17.768581
X-APPLE-STRUCTURED-LOCATION;VALUE=URI;X-ADDRESS=Calle El Monacal\, 55. San 
 Antonio\, Breña Baja\, 38712\, España;X-APPLE-RADIUS=100;X-TITLE=Bibliot
 eca Pública Municipal “Mauro Fernández Santos”\,  Breña Baja:geo:28
 .648662,-17.768581
END:VEVENT
END:VCALENDARBEGIN:VCALENDAR
VERSION:2.0
PRODID:-//wp-events-plugin.com//7.2.3.1//EN
TZID:Europe/London
X-WR-TIMEZONE:Europe/London
BEGIN:VEVENT
UID:3241@larevistadelapalma.com
DTSTART:20240919T160000Z
DTEND:20240919T173000Z
DTSTAMP:20240918T155757Z
URL:https://www.larevistadelapalma.com/events/taller-de-escritura-creativa
 -en-brena-baja/
SUMMARY:Taller de escritura creativa en Breña Baja
DESCRIPTION:La Concejalía de Cultura del Ayuntamiento de Breña Baja sigue
  promocionando actividades en la Biblioteca Pública Municipal de Breña B
 aja "Mauro Fernández Santos" (San Antonio)\, para el mes de septiembre co
 n el Taller de “Escritura Creativa” por parte de Beatriz Gómez.\n\nTe
 ndrá lugar el jueves 19 de septiembre\, a las 17 horas.\n\nPara mayor inf
 ormación puedes contactar con la Biblioteca al tlfo: 608 17 90 60 o al co
 rreo: biblioteca@bbaja.es. O bien al Ayuntamiento al tlfo: 922 43 59 55 (
 exts 219 / 222).
ATTACH;FMTTYPE=image/jpeg:https://www.larevistadelapalma.com/wp-content/up
 loads/2024/09/Biblioteca-24-Escritura-Septiembre-Cartel.png
CATEGORIES:Cine y Literatura,Formación,Literatura,Otras propuestas
LOCATION:Biblioteca Pública Municipal “Mauro Fernández Santos”\,  Bre
 ña Baja\, Calle El Monacal\, 55. San Antonio\, Breña Baja\, 38712\, Espa
 ña
GEO:28.648662;-17.768581
X-APPLE-STRUCTURED-LOCATION;VALUE=URI;X-ADDRESS=Calle El Monacal\, 55. San 
 Antonio\, Breña Baja\, 38712\, España;X-APPLE-RADIUS=100;X-TITLE=Bibliot
 eca Pública Municipal “Mauro Fernández Santos”\,  Breña Baja:geo:28
 .648662,-17.768581
END:VEVENT
END:VCALENDAR