BEGIN:VCALENDAR
VERSION:2.0
PRODID:-//wp-events-plugin.com//7.2.3.1//EN
TZID:Europe/London
X-WR-TIMEZONE:Europe/London
BEGIN:VEVENT
UID:3995@larevistadelapalma.com
DTSTART:20251013T160000Z
DTEND:20251017T180000Z
DTSTAMP:20251007T180841Z
URL:https://www.larevistadelapalma.com/events/taller-de-narracion-oral-con
 -elena-revuelta/
SUMMARY:Taller de narración oral con Elena Revuelta
DESCRIPTION:Taller de narración oral impartido por Elena Revuelta. \n\n\n 
 	Recomendado a partir de 13 años.\n 	Inscripciones WhatsApp 68656500.\n 	
 Del 13 al 17 de octubre de 17 a 19 horas.\n
ATTACH;FMTTYPE=image/jpeg:https://www.larevistadelapalma.com/wp-content/up
 loads/2025/10/Taller-narracion-oral.jpg
CATEGORIES:Formación,Otras propuestas
LOCATION:Municipio de El Paso\, El Paso\, La Palma \, El Paso\, 38750\, Esp
 aña
GEO:28.652378;-17.880396
X-APPLE-STRUCTURED-LOCATION;VALUE=URI;X-ADDRESS=El Paso\, La Palma \, El Pa
 so\, 38750\, España;X-APPLE-RADIUS=100;X-TITLE=Municipio de El Paso:geo:2
 8.652378,-17.880396
END:VEVENT
END:VCALENDARBEGIN:VCALENDAR
VERSION:2.0
PRODID:-//wp-events-plugin.com//7.2.3.1//EN
TZID:Europe/London
X-WR-TIMEZONE:Europe/London
BEGIN:VEVENT
UID:3995@larevistadelapalma.com
DTSTART:20251013T160000Z
DTEND:20251017T180000Z
DTSTAMP:20251007T180841Z
URL:https://www.larevistadelapalma.com/events/taller-de-narracion-oral-con
 -elena-revuelta/
SUMMARY:Taller de narración oral con Elena Revuelta
DESCRIPTION:Taller de narración oral impartido por Elena Revuelta. \n\n\n 
 	Recomendado a partir de 13 años.\n 	Inscripciones WhatsApp 68656500.\n 	
 Del 13 al 17 de octubre de 17 a 19 horas.\n
ATTACH;FMTTYPE=image/jpeg:https://www.larevistadelapalma.com/wp-content/up
 loads/2025/10/Taller-narracion-oral.jpg
CATEGORIES:Formación,Otras propuestas
LOCATION:Municipio de El Paso\, El Paso\, La Palma \, El Paso\, 38750\, Esp
 aña
GEO:28.652378;-17.880396
X-APPLE-STRUCTURED-LOCATION;VALUE=URI;X-ADDRESS=El Paso\, La Palma \, El Pa
 so\, 38750\, España;X-APPLE-RADIUS=100;X-TITLE=Municipio de El Paso:geo:2
 8.652378,-17.880396
END:VEVENT
END:VCALENDAR