BEGIN:VCALENDAR
VERSION:2.0
PRODID:-//wp-events-plugin.com//7.2.3.1//EN
TZID:Europe/London
X-WR-TIMEZONE:Europe/London
BEGIN:VEVENT
UID:2725@larevistadelapalma.com
DTSTART;VALUE=DATE:20240116
DTEND;VALUE=DATE:20240201
DTSTAMP:20240115T210754Z
URL:https://www.larevistadelapalma.com/events/taller-de-oboe-y-fagot/
SUMMARY:Taller de Oboe y Fagot
DESCRIPTION:La ESCUELA INSULAR DE MÚSICA te ofrece este taller gratuito (p
 ara cualquier edad) de FEBRERO A JUNIO (preinscripción todo el mes de ene
 ro)\n\n(Los Llanos de Aridane y Santa Cruz de La Palma)
ATTACH;FMTTYPE=image/jpeg:https://www.larevistadelapalma.com/wp-content/up
 loads/2024/01/Tallr-oboe-fagot.jpg
CATEGORIES:Formación,Otras propuestas
END:VEVENT
END:VCALENDARBEGIN:VCALENDAR
VERSION:2.0
PRODID:-//wp-events-plugin.com//7.2.3.1//EN
TZID:Europe/London
X-WR-TIMEZONE:Europe/London
BEGIN:VEVENT
UID:2725@larevistadelapalma.com
DTSTART;VALUE=DATE:20240116
DTEND;VALUE=DATE:20240201
DTSTAMP:20240115T210754Z
URL:https://www.larevistadelapalma.com/events/taller-de-oboe-y-fagot/
SUMMARY:Taller de Oboe y Fagot
DESCRIPTION:La ESCUELA INSULAR DE MÚSICA te ofrece este taller gratuito (p
 ara cualquier edad) de FEBRERO A JUNIO (preinscripción todo el mes de ene
 ro)\n\n(Los Llanos de Aridane y Santa Cruz de La Palma)
ATTACH;FMTTYPE=image/jpeg:https://www.larevistadelapalma.com/wp-content/up
 loads/2024/01/Tallr-oboe-fagot.jpg
CATEGORIES:Formación,Otras propuestas
END:VEVENT
END:VCALENDAR