BEGIN:VCALENDAR
VERSION:2.0
PRODID:-//wp-events-plugin.com//7.2.3.1//EN
TZID:Europe/London
X-WR-TIMEZONE:Europe/London
BEGIN:VEVENT
UID:3726@larevistadelapalma.com
DTSTART:20250521T153000Z
DTEND:20250521T193000Z
DTSTAMP:20250430T104940Z
URL:https://www.larevistadelapalma.com/events/taller-de-oratoria-con-ayoze
 -perez-francisco-tijarafe/
SUMMARY:Taller de oratoria con Ayoze Pérez Francisco\, Tijarafe
DESCRIPTION:\nTaller de oratoria con Ayoze Pérez Francisco\n\n\n\nInscripc
 iones en los teléfonos: 922 47 61 00 y 922 47 61 02\n
ATTACH;FMTTYPE=image/jpeg:https://www.larevistadelapalma.com/wp-content/up
 loads/2025/04/Taller-de-oratoria.jpg
CATEGORIES:Formación,Otras propuestas
LOCATION:Casa De La Cultura Jose Luis Lorenzo Barreto\, Tijarafe\, C. Tajod
 eque\, 1\,\, Tijarafe\, 38780\, España
GEO:28.713541;-17.956653
X-APPLE-STRUCTURED-LOCATION;VALUE=URI;X-ADDRESS=C. Tajodeque\, 1\,\, Tijara
 fe\, 38780\, España;X-APPLE-RADIUS=100;X-TITLE=Casa De La Cultura Jose Lu
 is Lorenzo Barreto\, Tijarafe:geo:28.713541,-17.956653
END:VEVENT
END:VCALENDARBEGIN:VCALENDAR
VERSION:2.0
PRODID:-//wp-events-plugin.com//7.2.3.1//EN
TZID:Europe/London
X-WR-TIMEZONE:Europe/London
BEGIN:VEVENT
UID:3726@larevistadelapalma.com
DTSTART:20250521T153000Z
DTEND:20250521T193000Z
DTSTAMP:20250430T104940Z
URL:https://www.larevistadelapalma.com/events/taller-de-oratoria-con-ayoze
 -perez-francisco-tijarafe/
SUMMARY:Taller de oratoria con Ayoze Pérez Francisco\, Tijarafe
DESCRIPTION:\nTaller de oratoria con Ayoze Pérez Francisco\n\n\n\nInscripc
 iones en los teléfonos: 922 47 61 00 y 922 47 61 02\n
ATTACH;FMTTYPE=image/jpeg:https://www.larevistadelapalma.com/wp-content/up
 loads/2025/04/Taller-de-oratoria.jpg
CATEGORIES:Formación,Otras propuestas
LOCATION:Casa De La Cultura Jose Luis Lorenzo Barreto\, Tijarafe\, C. Tajod
 eque\, 1\,\, Tijarafe\, 38780\, España
GEO:28.713541;-17.956653
X-APPLE-STRUCTURED-LOCATION;VALUE=URI;X-ADDRESS=C. Tajodeque\, 1\,\, Tijara
 fe\, 38780\, España;X-APPLE-RADIUS=100;X-TITLE=Casa De La Cultura Jose Lu
 is Lorenzo Barreto\, Tijarafe:geo:28.713541,-17.956653
END:VEVENT
END:VCALENDAR