BEGIN:VCALENDAR
VERSION:2.0
PRODID:-//wp-events-plugin.com//7.2.3.1//EN
TZID:Europe/London
X-WR-TIMEZONE:Europe/London
BEGIN:VEVENT
UID:4004@larevistadelapalma.com
DTSTART:20251013T153000Z
DTEND:20251013T190000Z
DTSTAMP:20251007T221410Z
URL:https://www.larevistadelapalma.com/events/taller-de-oratoria-mazo/
SUMMARY:Taller de oratoria con Ayoze Pérez Francisco
DESCRIPTION:El Ayuntamiento de Villa de Mazo ofrece formación en el ámbit
 o de la comunicación con un nuevo taller de oratoria junto al especialist
 a Ayoze Pérez Francisco. La quinta edición de la actividad se realizará
  bajo el nombre ‘Palabras que impactan\, mensajes que perduran’\, y se
  celebrará el próximo lunes\, 13 de octubre\, en un horario de 16:30 a 2
 0:00 horas\, en las aulas de formación del Centro de la Cultura Andares.\
 nLas personas interesadas en inscribirse al taller podrán obtener más in
 formación enviando un correo electrónico a formacion@villademazo.es\, o
  llamando al teléfono 922 44 00 03 en la extensión 205. La inscripción 
 es gratuita y las plazas de la actividad serán limitadas.
ATTACH;FMTTYPE=image/jpeg:https://www.larevistadelapalma.com/wp-content/up
 loads/2025/10/Curso-de-oratoria.jpeg
CATEGORIES:Formación,Otras propuestas
LOCATION:Centro de la Cultura Andares\, Ctra. Dr. Morera Bravo\, 2. El Pueb
 lo.\, Villa de Mazo\, 38730\, España
GEO:28.604882;-17.777431
X-APPLE-STRUCTURED-LOCATION;VALUE=URI;X-ADDRESS=Ctra. Dr. Morera Bravo\, 2.
  El Pueblo.\, Villa de Mazo\, 38730\, España;X-APPLE-RADIUS=100;X-TITLE=C
 entro de la Cultura Andares:geo:28.604882,-17.777431
END:VEVENT
END:VCALENDARBEGIN:VCALENDAR
VERSION:2.0
PRODID:-//wp-events-plugin.com//7.2.3.1//EN
TZID:Europe/London
X-WR-TIMEZONE:Europe/London
BEGIN:VEVENT
UID:4004@larevistadelapalma.com
DTSTART:20251013T153000Z
DTEND:20251013T190000Z
DTSTAMP:20251007T221410Z
URL:https://www.larevistadelapalma.com/events/taller-de-oratoria-mazo/
SUMMARY:Taller de oratoria con Ayoze Pérez Francisco
DESCRIPTION:El Ayuntamiento de Villa de Mazo ofrece formación en el ámbit
 o de la comunicación con un nuevo taller de oratoria junto al especialist
 a Ayoze Pérez Francisco. La quinta edición de la actividad se realizará
  bajo el nombre ‘Palabras que impactan\, mensajes que perduran’\, y se
  celebrará el próximo lunes\, 13 de octubre\, en un horario de 16:30 a 2
 0:00 horas\, en las aulas de formación del Centro de la Cultura Andares.\
 nLas personas interesadas en inscribirse al taller podrán obtener más in
 formación enviando un correo electrónico a formacion@villademazo.es\, o
  llamando al teléfono 922 44 00 03 en la extensión 205. La inscripción 
 es gratuita y las plazas de la actividad serán limitadas.
ATTACH;FMTTYPE=image/jpeg:https://www.larevistadelapalma.com/wp-content/up
 loads/2025/10/Curso-de-oratoria.jpeg
CATEGORIES:Formación,Otras propuestas
LOCATION:Centro de la Cultura Andares\, Ctra. Dr. Morera Bravo\, 2. El Pueb
 lo.\, Villa de Mazo\, 38730\, España
GEO:28.604882;-17.777431
X-APPLE-STRUCTURED-LOCATION;VALUE=URI;X-ADDRESS=Ctra. Dr. Morera Bravo\, 2.
  El Pueblo.\, Villa de Mazo\, 38730\, España;X-APPLE-RADIUS=100;X-TITLE=C
 entro de la Cultura Andares:geo:28.604882,-17.777431
END:VEVENT
END:VCALENDAR