BEGIN:VCALENDAR
VERSION:2.0
PRODID:-//wp-events-plugin.com//7.2.3.1//EN
TZID:Europe/London
X-WR-TIMEZONE:Europe/London
BEGIN:VEVENT
UID:4087@larevistadelapalma.com
DTSTART:20251206T160000Z
DTEND:20251206T180000Z
DTSTAMP:20251204T133035Z
URL:https://www.larevistadelapalma.com/events/taller-de-teatro-en-mazo/
SUMMARY:Taller de teatro en Mazo
DESCRIPTION:Si te gusta el teatro y quieres animarte a la teatralización\,
  el Grupo de teatro La Farsa está organizando este taller\, al que le seg
 uirán varias actuaciones en centros culturales del Municipio de Mazo.\nPa
 ra inscribirte o solicitar más información\, contacta a través de: Emai
 l: grupodeateatrolafarsa@gmail.com\n\nActuaciones\nLas actuaciones tendr
 án lugar en las siguientes fechas y lugares:\n\n\n 	17 de diciembre: Cen
 tro de la Cultura de Lodero\n 	20 de diciembre: Centro de la Cultura de M
 ontes de Luna\n 	26 de diciembre: Centro de la Cultura de Callejones\n
ATTACH;FMTTYPE=image/jpeg:https://www.larevistadelapalma.com/wp-content/up
 loads/2025/12/Taller-de-teatro.jpg
CATEGORIES:Formación,Otras propuestas
LOCATION:Municipio de Villa de Mazo\, Villa de Mazo\, Villa de Mazo\, 38730
 \, España
GEO:28.622071;-17.780675
X-APPLE-STRUCTURED-LOCATION;VALUE=URI;X-ADDRESS=Villa de Mazo\, Villa de Ma
 zo\, 38730\, España;X-APPLE-RADIUS=100;X-TITLE=Municipio de Villa de Mazo
 :geo:28.622071,-17.780675
END:VEVENT
END:VCALENDARBEGIN:VCALENDAR
VERSION:2.0
PRODID:-//wp-events-plugin.com//7.2.3.1//EN
TZID:Europe/London
X-WR-TIMEZONE:Europe/London
BEGIN:VEVENT
UID:4087@larevistadelapalma.com
DTSTART:20251206T160000Z
DTEND:20251206T180000Z
DTSTAMP:20251204T133035Z
URL:https://www.larevistadelapalma.com/events/taller-de-teatro-en-mazo/
SUMMARY:Taller de teatro en Mazo
DESCRIPTION:Si te gusta el teatro y quieres animarte a la teatralización\,
  el Grupo de teatro La Farsa está organizando este taller\, al que le seg
 uirán varias actuaciones en centros culturales del Municipio de Mazo.\nPa
 ra inscribirte o solicitar más información\, contacta a través de: Emai
 l: grupodeateatrolafarsa@gmail.com\n\nActuaciones\nLas actuaciones tendr
 án lugar en las siguientes fechas y lugares:\n\n\n 	17 de diciembre: Cen
 tro de la Cultura de Lodero\n 	20 de diciembre: Centro de la Cultura de M
 ontes de Luna\n 	26 de diciembre: Centro de la Cultura de Callejones\n
ATTACH;FMTTYPE=image/jpeg:https://www.larevistadelapalma.com/wp-content/up
 loads/2025/12/Taller-de-teatro.jpg
CATEGORIES:Formación,Otras propuestas
LOCATION:Municipio de Villa de Mazo\, Villa de Mazo\, Villa de Mazo\, 38730
 \, España
GEO:28.622071;-17.780675
X-APPLE-STRUCTURED-LOCATION;VALUE=URI;X-ADDRESS=Villa de Mazo\, Villa de Ma
 zo\, 38730\, España;X-APPLE-RADIUS=100;X-TITLE=Municipio de Villa de Mazo
 :geo:28.622071,-17.780675
END:VEVENT
END:VCALENDAR