BEGIN:VCALENDAR
VERSION:2.0
PRODID:-//wp-events-plugin.com//7.2.3.1//EN
TZID:Europe/London
X-WR-TIMEZONE:Europe/London
BEGIN:VEVENT
UID:641@larevistadelapalma.com
DTSTART:20230907T150000Z
DTEND:20230907T170000Z
DTSTAMP:20230903T201437Z
URL:https://www.larevistadelapalma.com/events/taller-de-uso-profesional-de
 -drones/
SUMMARY:El Festival tiempo Sur ofrece un taller de uso profesional de drone
 s
DESCRIPTION:taller "USO PROFESIONAL DE DRONES". Javier Gómez nos introduci
 rá al mundo de los drones\, los tipos de drones que hay y los usos princi
 pales. Expondrá la normativa vigente que regula el uso de drones en Europ
 a. Luego habrá una parte pequeña práctica dónde los alumnos podrán pr
 obar a volar un dron.
ATTACH;FMTTYPE=image/jpeg:https://www.larevistadelapalma.com/wp-content/up
 loads/2023/09/Taller-uso-de-drones.jpg
CATEGORIES:Cine,Cine y Literatura,Formación,Otras propuestas
LOCATION:Municipio de Puntagorda\, Puntagorda\, Puntagorda\, 38789\, Españ
 a
GEO:28.774265;-17.977666
X-APPLE-STRUCTURED-LOCATION;VALUE=URI;X-ADDRESS=Puntagorda\, Puntagorda\, 3
 8789\, España;X-APPLE-RADIUS=100;X-TITLE=Municipio de Puntagorda:geo:28.7
 74265,-17.977666
END:VEVENT
END:VCALENDARBEGIN:VCALENDAR
VERSION:2.0
PRODID:-//wp-events-plugin.com//7.2.3.1//EN
TZID:Europe/London
X-WR-TIMEZONE:Europe/London
BEGIN:VEVENT
UID:641@larevistadelapalma.com
DTSTART:20230907T150000Z
DTEND:20230907T170000Z
DTSTAMP:20230903T201437Z
URL:https://www.larevistadelapalma.com/events/taller-de-uso-profesional-de
 -drones/
SUMMARY:El Festival tiempo Sur ofrece un taller de uso profesional de drone
 s
DESCRIPTION:taller "USO PROFESIONAL DE DRONES". Javier Gómez nos introduci
 rá al mundo de los drones\, los tipos de drones que hay y los usos princi
 pales. Expondrá la normativa vigente que regula el uso de drones en Europ
 a. Luego habrá una parte pequeña práctica dónde los alumnos podrán pr
 obar a volar un dron.
ATTACH;FMTTYPE=image/jpeg:https://www.larevistadelapalma.com/wp-content/up
 loads/2023/09/Taller-uso-de-drones.jpg
CATEGORIES:Cine,Cine y Literatura,Formación,Otras propuestas
LOCATION:Municipio de Puntagorda\, Puntagorda\, Puntagorda\, 38789\, Españ
 a
GEO:28.774265;-17.977666
X-APPLE-STRUCTURED-LOCATION;VALUE=URI;X-ADDRESS=Puntagorda\, Puntagorda\, 3
 8789\, España;X-APPLE-RADIUS=100;X-TITLE=Municipio de Puntagorda:geo:28.7
 74265,-17.977666
END:VEVENT
END:VCALENDAR