BEGIN:VCALENDAR
VERSION:2.0
PRODID:-//wp-events-plugin.com//7.2.3.1//EN
TZID:Europe/London
X-WR-TIMEZONE:Europe/London
BEGIN:VEVENT
UID:4020@larevistadelapalma.com
DTSTART:20251023T073000Z
DTEND:20251023T133000Z
DTSTAMP:20251015T101725Z
URL:https://www.larevistadelapalma.com/events/taller-facturacion-electroni
 ca-para-pymes-y-profesionales-s-c-de-la-palma/
SUMMARY:Taller Facturación electrónica para pymes y profesionales (S/C de
  La Palma)
DESCRIPTION:Taller presencial: Facturación electrónica para pymes y profe
 sionales\nCurso de la delegación en La Palma de la Cámara de Comercio de
  S/C de Tenerife.\n\n\n 	22 de octubre en Los Llanos de Aridane\n 	23 de o
 ctubre en Santa Cruz de La Palma\n\nHorario: 8:30 - 14:30\nTotal: 12 horas
  formativas\nInscripciones al email: lapalma@camaratenerife.es\n\n\n\nSede
  de Santa Cruz de la Palma\n\n\n 	922 412 196\n 	922 100 400 (Centralita)\
 n 	Avenida El Puente\, 33\, Edif. Cabezuela\n 	Cámara de Comercio de Sant
 a Cruz de Tenerife\n 	Santa Cruz de la Palma\, La Palma\n\nSede de Los Lla
 nos de Aridane\n\n 	922 412 196\n 	922 100 400 (Centralita)\n 	Av. Carlos 
 Francisco Lorenzo Navarro\, 56\n 	Cámara de Comercio de Santa Cruz de Ten
 erife\n 	Los Llanos de Aridane\, La Palma\n
ATTACH;FMTTYPE=image/jpeg:https://www.larevistadelapalma.com/wp-content/up
 loads/2025/10/Facturacion-electronica.jpg
CATEGORIES:Formación,Otras propuestas
LOCATION:Municipio de Los Llanos de Aridane\, Los Llanos de Aridane\, Los L
 lanos de Aridane\, 38760\, España
GEO:28.660236;-17.913187
X-APPLE-STRUCTURED-LOCATION;VALUE=URI;X-ADDRESS=Los Llanos de Aridane\, Los
  Llanos de Aridane\, 38760\, España;X-APPLE-RADIUS=100;X-TITLE=Municipio 
 de Los Llanos de Aridane:geo:28.660236,-17.913187
END:VEVENT
END:VCALENDARBEGIN:VCALENDAR
VERSION:2.0
PRODID:-//wp-events-plugin.com//7.2.3.1//EN
TZID:Europe/London
X-WR-TIMEZONE:Europe/London
BEGIN:VEVENT
UID:4020@larevistadelapalma.com
DTSTART:20251023T073000Z
DTEND:20251023T133000Z
DTSTAMP:20251015T101725Z
URL:https://www.larevistadelapalma.com/events/taller-facturacion-electroni
 ca-para-pymes-y-profesionales-s-c-de-la-palma/
SUMMARY:Taller Facturación electrónica para pymes y profesionales (S/C de
  La Palma)
DESCRIPTION:Taller presencial: Facturación electrónica para pymes y profe
 sionales\nCurso de la delegación en La Palma de la Cámara de Comercio de
  S/C de Tenerife.\n\n\n 	22 de octubre en Los Llanos de Aridane\n 	23 de o
 ctubre en Santa Cruz de La Palma\n\nHorario: 8:30 - 14:30\nTotal: 12 horas
  formativas\nInscripciones al email: lapalma@camaratenerife.es\n\n\n\nSede
  de Santa Cruz de la Palma\n\n\n 	922 412 196\n 	922 100 400 (Centralita)\
 n 	Avenida El Puente\, 33\, Edif. Cabezuela\n 	Cámara de Comercio de Sant
 a Cruz de Tenerife\n 	Santa Cruz de la Palma\, La Palma\n\nSede de Los Lla
 nos de Aridane\n\n 	922 412 196\n 	922 100 400 (Centralita)\n 	Av. Carlos 
 Francisco Lorenzo Navarro\, 56\n 	Cámara de Comercio de Santa Cruz de Ten
 erife\n 	Los Llanos de Aridane\, La Palma\n
ATTACH;FMTTYPE=image/jpeg:https://www.larevistadelapalma.com/wp-content/up
 loads/2025/10/Facturacion-electronica.jpg
CATEGORIES:Formación,Otras propuestas
LOCATION:Municipio de Los Llanos de Aridane\, Los Llanos de Aridane\, Los L
 lanos de Aridane\, 38760\, España
GEO:28.660236;-17.913187
X-APPLE-STRUCTURED-LOCATION;VALUE=URI;X-ADDRESS=Los Llanos de Aridane\, Los
  Llanos de Aridane\, 38760\, España;X-APPLE-RADIUS=100;X-TITLE=Municipio 
 de Los Llanos de Aridane:geo:28.660236,-17.913187
END:VEVENT
END:VCALENDAR