BEGIN:VCALENDAR
VERSION:2.0
PRODID:-//wp-events-plugin.com//7.2.3.1//EN
TZID:Europe/London
X-WR-TIMEZONE:Europe/London
BEGIN:VEVENT
UID:4435@larevistadelapalma.com
DTSTART;VALUE=DATE:20251226
DTEND;VALUE=DATE:20251227
DTSTAMP:20251222T165300Z
URL:https://www.larevistadelapalma.com/events/taller-impresion-3d-para-nin
 os-y-adolescentes/
SUMMARY:Taller Impresión 3D para niños y adolescentes
DESCRIPTION:26\, 29 y 30 de diciembre\, de 10:00 a 12:00 horas. Santa Cruz 
 de La Palma y Los Llanos.\n\nDurante la actividad\, los participantes desc
 ubrirán cómo funciona una impresora 3D\, para qué se utiliza esta tecno
 logía en la ciencia y la industria\, y principalmente diseñarán sus pro
 pias piezas con temática navideña y científica\, que se imprimirán dur
 ante el taller.\n\nSe necesita inscripción.
ATTACH;FMTTYPE=image/jpeg:https://www.larevistadelapalma.com/wp-content/up
 loads/2025/12/Taller-3d-ninos-adolescentes.jpg
CATEGORIES:Formación,Otras propuestas
END:VEVENT
END:VCALENDARBEGIN:VCALENDAR
VERSION:2.0
PRODID:-//wp-events-plugin.com//7.2.3.1//EN
TZID:Europe/London
X-WR-TIMEZONE:Europe/London
BEGIN:VEVENT
UID:4435@larevistadelapalma.com
DTSTART;VALUE=DATE:20251226
DTEND;VALUE=DATE:20251227
DTSTAMP:20251222T165300Z
URL:https://www.larevistadelapalma.com/events/taller-impresion-3d-para-nin
 os-y-adolescentes/
SUMMARY:Taller Impresión 3D para niños y adolescentes
DESCRIPTION:26\, 29 y 30 de diciembre\, de 10:00 a 12:00 horas. Santa Cruz 
 de La Palma y Los Llanos.\n\nDurante la actividad\, los participantes desc
 ubrirán cómo funciona una impresora 3D\, para qué se utiliza esta tecno
 logía en la ciencia y la industria\, y principalmente diseñarán sus pro
 pias piezas con temática navideña y científica\, que se imprimirán dur
 ante el taller.\n\nSe necesita inscripción.
ATTACH;FMTTYPE=image/jpeg:https://www.larevistadelapalma.com/wp-content/up
 loads/2025/12/Taller-3d-ninos-adolescentes.jpg
CATEGORIES:Formación,Otras propuestas
END:VEVENT
END:VCALENDAR