BEGIN:VCALENDAR
VERSION:2.0
PRODID:-//wp-events-plugin.com//7.2.3.1//EN
TZID:Europe/London
X-WR-TIMEZONE:Europe/London
BEGIN:VEVENT
UID:4075@larevistadelapalma.com
DTSTART:20251205T143000Z
DTEND:20251205T183000Z
DTSTAMP:20251127T141323Z
URL:https://www.larevistadelapalma.com/events/taller-navidad-sostenible-y-
 creativa-mazo/
SUMMARY:Taller "Navidad sostenible y creativa". Mazo
DESCRIPTION:Para adultos. Imparte: Annette Heidi Salazar Tejera.\n\nPriorid
 ad para empadronados en el municipio.\nINSCRIPCIÓN:\n\n\n 	ARTESANÍA - A
 gencia de Empleo y Desarrollo Local\n 	Teléfono: 922 440 003 (Ext. 205)\n
  	email: artesania@villademazo.es\n\nMás talleres aquí &gt\;&gt\;\n\n
ATTACH;FMTTYPE=image/jpeg:https://www.larevistadelapalma.com/wp-content/up
 loads/2025/11/Navidad-sostenible-taller.jpg
CATEGORIES:Formación,Otras propuestas
LOCATION:Municipio de Villa de Mazo\, Villa de Mazo\, Villa de Mazo\, 38730
 \, España
GEO:28.622071;-17.780675
X-APPLE-STRUCTURED-LOCATION;VALUE=URI;X-ADDRESS=Villa de Mazo\, Villa de Ma
 zo\, 38730\, España;X-APPLE-RADIUS=100;X-TITLE=Municipio de Villa de Mazo
 :geo:28.622071,-17.780675
END:VEVENT
END:VCALENDARBEGIN:VCALENDAR
VERSION:2.0
PRODID:-//wp-events-plugin.com//7.2.3.1//EN
TZID:Europe/London
X-WR-TIMEZONE:Europe/London
BEGIN:VEVENT
UID:4075@larevistadelapalma.com
DTSTART:20251205T143000Z
DTEND:20251205T183000Z
DTSTAMP:20251127T141323Z
URL:https://www.larevistadelapalma.com/events/taller-navidad-sostenible-y-
 creativa-mazo/
SUMMARY:Taller "Navidad sostenible y creativa". Mazo
DESCRIPTION:Para adultos. Imparte: Annette Heidi Salazar Tejera.\n\nPriorid
 ad para empadronados en el municipio.\nINSCRIPCIÓN:\n\n\n 	ARTESANÍA - A
 gencia de Empleo y Desarrollo Local\n 	Teléfono: 922 440 003 (Ext. 205)\n
  	email: artesania@villademazo.es\n\nMás talleres aquí &gt\;&gt\;\n\n
ATTACH;FMTTYPE=image/jpeg:https://www.larevistadelapalma.com/wp-content/up
 loads/2025/11/Navidad-sostenible-taller.jpg
CATEGORIES:Formación,Otras propuestas
LOCATION:Municipio de Villa de Mazo\, Villa de Mazo\, Villa de Mazo\, 38730
 \, España
GEO:28.622071;-17.780675
X-APPLE-STRUCTURED-LOCATION;VALUE=URI;X-ADDRESS=Villa de Mazo\, Villa de Ma
 zo\, 38730\, España;X-APPLE-RADIUS=100;X-TITLE=Municipio de Villa de Mazo
 :geo:28.622071,-17.780675
END:VEVENT
END:VCALENDAR