BEGIN:VCALENDAR
VERSION:2.0
PRODID:-//wp-events-plugin.com//7.2.3.1//EN
TZID:Europe/London
X-WR-TIMEZONE:Europe/London
BEGIN:VEVENT
UID:2711@larevistadelapalma.com
DTSTART:20240118T160000Z
DTEND:20240119T180000Z
DTSTAMP:20240108T143153Z
URL:https://www.larevistadelapalma.com/events/taller-puede-la-poesia-estar
 -escrita-en-clave-negra-y-criminal/
SUMMARY:Taller ¿Puede la poesía estar escrita en clave negra y criminal?
DESCRIPTION:\nTaller a cargo de Pedro Flores.\nDentro de la programación d
 e la cuarta edición de Aridane Criminal.\nPedro Flores (Las Palmas de Gra
 n Canaria\, 1968) uno de los poetas más reconocidos de su generación en 
 España. Visita  Aridane Criminal para presentar su primera novela\, La is
 la de los muchachos hermosos\, pero también para impartir un taller en el
  que enseñará\, a lo largo de dos días\, que la poesía además de pode
 r ser negra y muy urbana es ante todo “una labor de traducción”.\nCom
 o dice el propio Flores\, premio Nacional de Poesía José Hierro\, Jaime 
 Gil de Biedma y Tomás Morales\, entre otros\, “el hecho poético y el p
 oema no son la misma cosa. El primero es la materia de la que ha de nacer 
 el poema. El segundo surge cuando el poeta sabe interpretar ese hecho poé
 tico y lo convierte en literatura”.\nPedro Flores (Las Palmas de Gran C
 anaria\, 1968). Ha publicado más de una veintena de poemarios\, así como
  varios libros de relatos y el texto teatral Los huesos del poeta. En 201
 6 la editorial sevillana Renacimiento publicó la antología Salir rana. 
 Ha obtenido varios premios literarios\, entre los que destacan los Antonio
  Oliver Belmás\, Fray Luis de León\, Ciudad de las Palmas\, Ciudad de Tu
 dela\, Gil de Biedma\, Ciudad de Santa Cruz de La Palma\, Pedro García Ca
 brera y Tomás Morales. En 2017 se le concede el Premio Nacional de Poesí
 a José Hierro. En 2019 obtiene el Premio Internacional de Poesía «Flor 
 de Jara». Ha sido finalista del Premio Nacional de la Crítica en 2010. P
 oemas suyos han sido traducidos al portugués\, italiano\, eslovaco\, hún
 garo\, francés e inglés. En 2022 obtiene el VI Premio Jorge Manrique con
  Los poetas feroces cuentan lobos para dormir y el 25º Premio de Poesí
 a Generación del 27 con Los gorriones contrarrevolucionarios ( y otros p
 oemas).\nEste Festival está financiado por la Viceconsejería de Cultura 
 del Gobierno de Canarias\, bajo la coordinación del Instituto Canario de 
 Desarrollo Cultural y organizado por el Área de Cultura del Ayuntamiento 
 de Los Llanos de Aridane y El Cabildo Insular de La Palma.\n\n
ATTACH;FMTTYPE=image/jpeg:https://www.larevistadelapalma.com/wp-content/up
 loads/2024/01/Taller-Pedro-Flores-Aridane-Criminal.jpg
CATEGORIES:Cine y Literatura,Formación,Literatura,Otras propuestas
LOCATION:Casa de La Cultura de Los Llanos de Aridane\, : C. Real\, 8\, Los 
 Llanos de Aridane \, 38760\, España
GEO:28.658651;-17.913512
X-APPLE-STRUCTURED-LOCATION;VALUE=URI;X-ADDRESS=: C. Real\, 8\, Los Llanos 
 de Aridane \, 38760\, España;X-APPLE-RADIUS=100;X-TITLE=Casa de La Cultur
 a de Los Llanos de Aridane:geo:28.658651,-17.913512
END:VEVENT
END:VCALENDARBEGIN:VCALENDAR
VERSION:2.0
PRODID:-//wp-events-plugin.com//7.2.3.1//EN
TZID:Europe/London
X-WR-TIMEZONE:Europe/London
BEGIN:VEVENT
UID:2711@larevistadelapalma.com
DTSTART:20240118T160000Z
DTEND:20240119T180000Z
DTSTAMP:20240108T143153Z
URL:https://www.larevistadelapalma.com/events/taller-puede-la-poesia-estar
 -escrita-en-clave-negra-y-criminal/
SUMMARY:Taller ¿Puede la poesía estar escrita en clave negra y criminal?
DESCRIPTION:\nTaller a cargo de Pedro Flores.\nDentro de la programación d
 e la cuarta edición de Aridane Criminal.\nPedro Flores (Las Palmas de Gra
 n Canaria\, 1968) uno de los poetas más reconocidos de su generación en 
 España. Visita  Aridane Criminal para presentar su primera novela\, La is
 la de los muchachos hermosos\, pero también para impartir un taller en el
  que enseñará\, a lo largo de dos días\, que la poesía además de pode
 r ser negra y muy urbana es ante todo “una labor de traducción”.\nCom
 o dice el propio Flores\, premio Nacional de Poesía José Hierro\, Jaime 
 Gil de Biedma y Tomás Morales\, entre otros\, “el hecho poético y el p
 oema no son la misma cosa. El primero es la materia de la que ha de nacer 
 el poema. El segundo surge cuando el poeta sabe interpretar ese hecho poé
 tico y lo convierte en literatura”.\nPedro Flores (Las Palmas de Gran C
 anaria\, 1968). Ha publicado más de una veintena de poemarios\, así como
  varios libros de relatos y el texto teatral Los huesos del poeta. En 201
 6 la editorial sevillana Renacimiento publicó la antología Salir rana. 
 Ha obtenido varios premios literarios\, entre los que destacan los Antonio
  Oliver Belmás\, Fray Luis de León\, Ciudad de las Palmas\, Ciudad de Tu
 dela\, Gil de Biedma\, Ciudad de Santa Cruz de La Palma\, Pedro García Ca
 brera y Tomás Morales. En 2017 se le concede el Premio Nacional de Poesí
 a José Hierro. En 2019 obtiene el Premio Internacional de Poesía «Flor 
 de Jara». Ha sido finalista del Premio Nacional de la Crítica en 2010. P
 oemas suyos han sido traducidos al portugués\, italiano\, eslovaco\, hún
 garo\, francés e inglés. En 2022 obtiene el VI Premio Jorge Manrique con
  Los poetas feroces cuentan lobos para dormir y el 25º Premio de Poesí
 a Generación del 27 con Los gorriones contrarrevolucionarios ( y otros p
 oemas).\nEste Festival está financiado por la Viceconsejería de Cultura 
 del Gobierno de Canarias\, bajo la coordinación del Instituto Canario de 
 Desarrollo Cultural y organizado por el Área de Cultura del Ayuntamiento 
 de Los Llanos de Aridane y El Cabildo Insular de La Palma.\n\n
ATTACH;FMTTYPE=image/jpeg:https://www.larevistadelapalma.com/wp-content/up
 loads/2024/01/Taller-Pedro-Flores-Aridane-Criminal.jpg
CATEGORIES:Cine y Literatura,Formación,Literatura,Otras propuestas
LOCATION:Casa de La Cultura de Los Llanos de Aridane\, : C. Real\, 8\, Los 
 Llanos de Aridane \, 38760\, España
GEO:28.658651;-17.913512
X-APPLE-STRUCTURED-LOCATION;VALUE=URI;X-ADDRESS=: C. Real\, 8\, Los Llanos 
 de Aridane \, 38760\, España;X-APPLE-RADIUS=100;X-TITLE=Casa de La Cultur
 a de Los Llanos de Aridane:geo:28.658651,-17.913512
END:VEVENT
END:VCALENDAR