BEGIN:VCALENDAR
VERSION:2.0
PRODID:-//wp-events-plugin.com//7.2.3.1//EN
TZID:Europe/London
X-WR-TIMEZONE:Europe/London
BEGIN:VEVENT
UID:3632@larevistadelapalma.com
DTSTART;VALUE=DATE:20250310
DTEND;VALUE=DATE:20250311
DTSTAMP:20250303T133530Z
URL:https://www.larevistadelapalma.com/events/taller-trajes-tipicos-b-baja
 /
SUMMARY:Taller de Trajes Típicos de La Palma\, en Breña Baja
DESCRIPTION:\nDel 10 de marzo al 28 de mayo\, lunes y miércoles de 16 a 19
  horas\, en la Sociedad Juventud Española de San Antonio.\n\n\nImparte la
  monitora artesana María del Carmen Felipe Pérez\, los lunes y miércole
 s de 16 a 19 hs. Con un total de 60 hs. La inscripción sería presencial 
 en el área de artesanía del Ayuntamiento de Breña Baja. Tienen priorida
 d las personas empadronadas en el municipio de Breña Baja. Mas informaci
 ón al tlf: 679 417 133. Plazas limitadas.\n\nSe trata de una modalidad ar
 tesanal bastante demandada ante la cercanía de Las Fiestas Lustrales de l
 a Bajada de la Virgen de Nuestra Señora de Las Nieves.\n\nCon este taller
  se pretende alcanzar un aprendizaje y enseñanza de corte y confección d
 e la vestimenta típica tradicional de la isla de La Palma\, así como acc
 esorios y complementos\, potenciando uno de sus principales símbolos de s
 u identidad.\nColabora la Concejalía de Artesanía del Ayuntamiento de Br
 eña Baja.\n\n\n
ATTACH;FMTTYPE=image/jpeg:https://www.larevistadelapalma.com/wp-content/up
 loads/2025/03/TALLER-DE-TRAJES-TIPICOS.jpg
CATEGORIES:Formación,Otras propuestas
LOCATION:Sociedad Juventud Española\, Breña Baja\, C. Cta. de San José\,
  128\, Breña Baja\, 38712\, España
GEO:28.647229;-17.768574
X-APPLE-STRUCTURED-LOCATION;VALUE=URI;X-ADDRESS=C. Cta. de San José\, 128\
 , Breña Baja\, 38712\, España;X-APPLE-RADIUS=100;X-TITLE=Sociedad Juvent
 ud Española\, Breña Baja:geo:28.647229,-17.768574
END:VEVENT
END:VCALENDARBEGIN:VCALENDAR
VERSION:2.0
PRODID:-//wp-events-plugin.com//7.2.3.1//EN
TZID:Europe/London
X-WR-TIMEZONE:Europe/London
BEGIN:VEVENT
UID:3632@larevistadelapalma.com
DTSTART;VALUE=DATE:20250310
DTEND;VALUE=DATE:20250311
DTSTAMP:20250303T133530Z
URL:https://www.larevistadelapalma.com/events/taller-trajes-tipicos-b-baja
 /
SUMMARY:Taller de Trajes Típicos de La Palma\, en Breña Baja
DESCRIPTION:\nDel 10 de marzo al 28 de mayo\, lunes y miércoles de 16 a 19
  horas\, en la Sociedad Juventud Española de San Antonio.\n\n\nImparte la
  monitora artesana María del Carmen Felipe Pérez\, los lunes y miércole
 s de 16 a 19 hs. Con un total de 60 hs. La inscripción sería presencial 
 en el área de artesanía del Ayuntamiento de Breña Baja. Tienen priorida
 d las personas empadronadas en el municipio de Breña Baja. Mas informaci
 ón al tlf: 679 417 133. Plazas limitadas.\n\nSe trata de una modalidad ar
 tesanal bastante demandada ante la cercanía de Las Fiestas Lustrales de l
 a Bajada de la Virgen de Nuestra Señora de Las Nieves.\n\nCon este taller
  se pretende alcanzar un aprendizaje y enseñanza de corte y confección d
 e la vestimenta típica tradicional de la isla de La Palma\, así como acc
 esorios y complementos\, potenciando uno de sus principales símbolos de s
 u identidad.\nColabora la Concejalía de Artesanía del Ayuntamiento de Br
 eña Baja.\n\n\n
ATTACH;FMTTYPE=image/jpeg:https://www.larevistadelapalma.com/wp-content/up
 loads/2025/03/TALLER-DE-TRAJES-TIPICOS.jpg
CATEGORIES:Formación,Otras propuestas
LOCATION:Sociedad Juventud Española\, Breña Baja\, C. Cta. de San José\,
  128\, Breña Baja\, 38712\, España
GEO:28.647229;-17.768574
X-APPLE-STRUCTURED-LOCATION;VALUE=URI;X-ADDRESS=C. Cta. de San José\, 128\
 , Breña Baja\, 38712\, España;X-APPLE-RADIUS=100;X-TITLE=Sociedad Juvent
 ud Española\, Breña Baja:geo:28.647229,-17.768574
END:VEVENT
END:VCALENDAR