BEGIN:VCALENDAR
VERSION:2.0
PRODID:-//wp-events-plugin.com//7.2.3.1//EN
TZID:Europe/London
X-WR-TIMEZONE:Europe/London
BEGIN:VEVENT
UID:4113@larevistadelapalma.com
DTSTART;VALUE=DATE:20251222
DTEND;VALUE=DATE:20251224
DTSTAMP:20251211T011342Z
URL:https://www.larevistadelapalma.com/events/talleres-de-cesteria-creativ
 a-para-ninos/
SUMMARY:Talleres de cestería creativa para niños
DESCRIPTION:Inscripciones hasta el 18 de diciembre de 2025.
ATTACH;FMTTYPE=image/jpeg:https://www.larevistadelapalma.com/wp-content/up
 loads/2025/12/Taller-cesteria-creativa-ninos.jpg
CATEGORIES:Formación,Otras propuestas
LOCATION:Casa de La Cultura de Los Llanos de Aridane\, : C. Real\, 8\, Los 
 Llanos de Aridane \, 38760\, España
GEO:28.658651;-17.913512
X-APPLE-STRUCTURED-LOCATION;VALUE=URI;X-ADDRESS=: C. Real\, 8\, Los Llanos 
 de Aridane \, 38760\, España;X-APPLE-RADIUS=100;X-TITLE=Casa de La Cultur
 a de Los Llanos de Aridane:geo:28.658651,-17.913512
END:VEVENT
END:VCALENDARBEGIN:VCALENDAR
VERSION:2.0
PRODID:-//wp-events-plugin.com//7.2.3.1//EN
TZID:Europe/London
X-WR-TIMEZONE:Europe/London
BEGIN:VEVENT
UID:4113@larevistadelapalma.com
DTSTART;VALUE=DATE:20251222
DTEND;VALUE=DATE:20251224
DTSTAMP:20251211T011342Z
URL:https://www.larevistadelapalma.com/events/talleres-de-cesteria-creativ
 a-para-ninos/
SUMMARY:Talleres de cestería creativa para niños
DESCRIPTION:Inscripciones hasta el 18 de diciembre de 2025.
ATTACH;FMTTYPE=image/jpeg:https://www.larevistadelapalma.com/wp-content/up
 loads/2025/12/Taller-cesteria-creativa-ninos.jpg
CATEGORIES:Formación,Otras propuestas
LOCATION:Casa de La Cultura de Los Llanos de Aridane\, : C. Real\, 8\, Los 
 Llanos de Aridane \, 38760\, España
GEO:28.658651;-17.913512
X-APPLE-STRUCTURED-LOCATION;VALUE=URI;X-ADDRESS=: C. Real\, 8\, Los Llanos 
 de Aridane \, 38760\, España;X-APPLE-RADIUS=100;X-TITLE=Casa de La Cultur
 a de Los Llanos de Aridane:geo:28.658651,-17.913512
END:VEVENT
END:VCALENDAR