BEGIN:VCALENDAR
VERSION:2.0
PRODID:-//wp-events-plugin.com//7.2.3.1//EN
TZID:Europe/London
X-WR-TIMEZONE:Europe/London
BEGIN:VEVENT
UID:3692@larevistadelapalma.com
DTSTART;VALUE=DATE:20250523
DTEND;VALUE=DATE:20250525
DTSTAMP:20250415T162843Z
URL:https://www.larevistadelapalma.com/events/talleres-de-escritura-creati
 va-para-jovenes-de-la-palma-2/
SUMMARY:Talleres de escritura creativa para jóvenes de La Palma
DESCRIPTION:Los cursos\, completamente gratuitos\, están dirigidos a perso
 nas jóvenes de entre 14 y 25 años residentes en la Isla.\n\nEl Cabildo d
 e La Palma pone en marcha el proyecto Talleres de Escritura Creativa Isla 
 Bonita\, que celebrará su primera edición el próximo mes de mayo. Esta 
 iniciativa\, dirigida y coordinada por la escritora y artista palmera Miri
 am González Álvarez y el escritor gomero Daniel Hernández María\, nace
  con el objetivo de ofrecer formación literaria intensiva al público juv
 enil de la Isla.\n\nEl proyecto\, que cuenta con la financiación del Cabi
 ldo insular\, busca fomentar la creatividad y la expresión escrita entre 
 las personas jóvenes de La Palma\, al tiempo que se consolida como una pl
 ataforma para localizar y apoyar a las nuevas voces literarias del panoram
 a insular.\nLos cursos\, completamente gratuitos\, están dirigidos a pers
 onas jóvenes de entre 14 y 25 años residentes en la Isla. Cada uno const
 a de cuatro sesiones formativas de 90 minutos de duración\, que se celebr
 arán en los salones de la Real Sociedad Cosmológica de Santa Cruz de La 
 Palma los días 16\, 17\, 23 y 24 de mayo. El horario será de 17:30 a 19:
 00 horas los viernes y de 11:00 a 12:30 horas los sábados.\nLas sesiones 
 se dividirán en dos líneas paralelas de formación: un taller de poesía
  impartido por Miriam González Álvarez y un taller de narrativa a cargo 
 de Daniel Hernández María\, ambos con una clara vocación de acompañami
 ento creativo desde las primeras experiencias de escritura.\n\nLas plazas 
 son limitadas\, con un cupo de entre 12 y 15 participantes y la selección
  se realizará por orden de llegada de las inscripciones. Las personas int
 eresadas pueden apuntarse escribiendo al correo literatura.islabonita@gma
 il.com. En caso de superar el número de plazas\, se generará una lista d
 e espera. No se requiere experiencia previa\, tan solo interés por la esc
 ritura.
ATTACH;FMTTYPE=image/jpeg:https://www.larevistadelapalma.com/wp-content/up
 loads/2025/04/Taller-escritura-creativa-scaled.jpg
CATEGORIES:Cine y Literatura,Literatura
LOCATION:Real Sociedad Cosmológica\, C. Van de Walle\, 6\, Santa Cruz de l
 a Palma\, Santa Cruz de Tenerife\, 38700\, España
GEO:28.683437;-17.765238
X-APPLE-STRUCTURED-LOCATION;VALUE=URI;X-ADDRESS=C. Van de Walle\, 6\, Santa
  Cruz de la Palma\, Santa Cruz de Tenerife\, 38700\, España;X-APPLE-RADIU
 S=100;X-TITLE=Real Sociedad Cosmológica:geo:28.683437,-17.765238
END:VEVENT
END:VCALENDARBEGIN:VCALENDAR
VERSION:2.0
PRODID:-//wp-events-plugin.com//7.2.3.1//EN
TZID:Europe/London
X-WR-TIMEZONE:Europe/London
BEGIN:VEVENT
UID:3692@larevistadelapalma.com
DTSTART;VALUE=DATE:20250523
DTEND;VALUE=DATE:20250525
DTSTAMP:20250415T162843Z
URL:https://www.larevistadelapalma.com/events/talleres-de-escritura-creati
 va-para-jovenes-de-la-palma-2/
SUMMARY:Talleres de escritura creativa para jóvenes de La Palma
DESCRIPTION:Los cursos\, completamente gratuitos\, están dirigidos a perso
 nas jóvenes de entre 14 y 25 años residentes en la Isla.\n\nEl Cabildo d
 e La Palma pone en marcha el proyecto Talleres de Escritura Creativa Isla 
 Bonita\, que celebrará su primera edición el próximo mes de mayo. Esta 
 iniciativa\, dirigida y coordinada por la escritora y artista palmera Miri
 am González Álvarez y el escritor gomero Daniel Hernández María\, nace
  con el objetivo de ofrecer formación literaria intensiva al público juv
 enil de la Isla.\n\nEl proyecto\, que cuenta con la financiación del Cabi
 ldo insular\, busca fomentar la creatividad y la expresión escrita entre 
 las personas jóvenes de La Palma\, al tiempo que se consolida como una pl
 ataforma para localizar y apoyar a las nuevas voces literarias del panoram
 a insular.\nLos cursos\, completamente gratuitos\, están dirigidos a pers
 onas jóvenes de entre 14 y 25 años residentes en la Isla. Cada uno const
 a de cuatro sesiones formativas de 90 minutos de duración\, que se celebr
 arán en los salones de la Real Sociedad Cosmológica de Santa Cruz de La 
 Palma los días 16\, 17\, 23 y 24 de mayo. El horario será de 17:30 a 19:
 00 horas los viernes y de 11:00 a 12:30 horas los sábados.\nLas sesiones 
 se dividirán en dos líneas paralelas de formación: un taller de poesía
  impartido por Miriam González Álvarez y un taller de narrativa a cargo 
 de Daniel Hernández María\, ambos con una clara vocación de acompañami
 ento creativo desde las primeras experiencias de escritura.\n\nLas plazas 
 son limitadas\, con un cupo de entre 12 y 15 participantes y la selección
  se realizará por orden de llegada de las inscripciones. Las personas int
 eresadas pueden apuntarse escribiendo al correo literatura.islabonita@gma
 il.com. En caso de superar el número de plazas\, se generará una lista d
 e espera. No se requiere experiencia previa\, tan solo interés por la esc
 ritura.
ATTACH;FMTTYPE=image/jpeg:https://www.larevistadelapalma.com/wp-content/up
 loads/2025/04/Taller-escritura-creativa-scaled.jpg
CATEGORIES:Cine y Literatura,Literatura
LOCATION:Real Sociedad Cosmológica\, C. Van de Walle\, 6\, Santa Cruz de l
 a Palma\, Santa Cruz de Tenerife\, 38700\, España
GEO:28.683437;-17.765238
X-APPLE-STRUCTURED-LOCATION;VALUE=URI;X-ADDRESS=C. Van de Walle\, 6\, Santa
  Cruz de la Palma\, Santa Cruz de Tenerife\, 38700\, España;X-APPLE-RADIU
 S=100;X-TITLE=Real Sociedad Cosmológica:geo:28.683437,-17.765238
END:VEVENT
END:VCALENDAR