BEGIN:VCALENDAR
VERSION:2.0
PRODID:-//wp-events-plugin.com//7.2.3.1//EN
TZID:Europe/London
X-WR-TIMEZONE:Europe/London
BEGIN:VEVENT
UID:3524@larevistadelapalma.com
DTSTART;VALUE=DATE:20241230
DTEND;VALUE=DATE:20241231
DTSTAMP:20241220T172232Z
URL:https://www.larevistadelapalma.com/events/talleres-navidenos-de-impres
 ion-3d-para-escolares-2/
SUMMARY:Talleres navideños de impresión 3D para escolares
DESCRIPTION:El Cabildo de La Palma\, a través del proyecto La Palma Smart 
 Island\, desarrolla una serie de talleres especiales en Navidad centrados 
 en la tecnología de impresión 3D\, unas formaciones dirigidas a menores 
 de entre 8 y 16 años que se llevarán a cabo en la Oficina Smart Island\,
  en Santa Cruz de La Palma\, los días 26\, 27 y 30 de diciembre. \n\nLa 
 consejera de Transformación Digital del Cabildo insular\, Miriam Perestel
 o\, destaca la importancia de poner en marcha este tipo de actividades que
  buscan acercar las nuevas tecnologías y fomentar desde la infancia y la 
 adolescencia las habilidades creativas y técnicas a través del diseño y
  la impresión de objetos con temática navideña.\n\nLas sesiones están 
 diseñadas para que los participantes exploren el proceso completo\, desde
  el diseño digital de los objetos hasta su materialización mediante impr
 esoras 3D\, aplicando la creatividad en objetos navideños como adornos\, 
 pequeños regalos o decoraciones.\n\nLos grupos serán reducidos para gara
 ntizar la calidad del aprendizaje y la participación individual\, por lo 
 que las plazas se otorgarán por orden de inscripción\, impartiéndose de
  10:00 a 12:00 para personas de entre 8 y 12 años y de 12:00 a 14:00 para
  participantes de 13 a 16 años. \n\nLos talleres son gratuitos y las ins
 cripciones pueden formalizarse a través de este formulario online \n\nEl 
 proyecto La Palma Smart Island\n\nEl proyecto La Palma Smart Island tiene 
 como objetivo dinamizar el ecosistema tecnológico y de innovación en la 
 Isla\, fomentando el uso de tecnologías avanzadas y la formación de la c
 iudadanía en competencias digitales.\n\nDesde La Palma Smart Island se ap
 uesta por la innovación tecnológica como herramienta para el desarrollo 
 de las habilidades digitales en las nuevas generaciones\, al tiempo que se
  promueve el interés por el diseño y la tecnología de una manera divert
 ida y educativa.
ATTACH;FMTTYPE=image/jpeg:https://www.larevistadelapalma.com/wp-content/up
 loads/2024/12/CARTEL-NAVIDAD-3-QR.jpg
CATEGORIES:Formación,Otras propuestas
LOCATION:Municipio de Santa Cruz de La Palma\, Santa Cruz de La Palma \, Sa
 nta Cruz de La Palma \, 38700\, España
GEO:28.688757;-17.765102
X-APPLE-STRUCTURED-LOCATION;VALUE=URI;X-ADDRESS=Santa Cruz de La Palma \, S
 anta Cruz de La Palma \, 38700\, España;X-APPLE-RADIUS=100;X-TITLE=Munici
 pio de Santa Cruz de La Palma:geo:28.688757,-17.765102
END:VEVENT
END:VCALENDARBEGIN:VCALENDAR
VERSION:2.0
PRODID:-//wp-events-plugin.com//7.2.3.1//EN
TZID:Europe/London
X-WR-TIMEZONE:Europe/London
BEGIN:VEVENT
UID:3524@larevistadelapalma.com
DTSTART;VALUE=DATE:20241230
DTEND;VALUE=DATE:20241231
DTSTAMP:20241220T172232Z
URL:https://www.larevistadelapalma.com/events/talleres-navidenos-de-impres
 ion-3d-para-escolares-2/
SUMMARY:Talleres navideños de impresión 3D para escolares
DESCRIPTION:El Cabildo de La Palma\, a través del proyecto La Palma Smart 
 Island\, desarrolla una serie de talleres especiales en Navidad centrados 
 en la tecnología de impresión 3D\, unas formaciones dirigidas a menores 
 de entre 8 y 16 años que se llevarán a cabo en la Oficina Smart Island\,
  en Santa Cruz de La Palma\, los días 26\, 27 y 30 de diciembre. \n\nLa 
 consejera de Transformación Digital del Cabildo insular\, Miriam Perestel
 o\, destaca la importancia de poner en marcha este tipo de actividades que
  buscan acercar las nuevas tecnologías y fomentar desde la infancia y la 
 adolescencia las habilidades creativas y técnicas a través del diseño y
  la impresión de objetos con temática navideña.\n\nLas sesiones están 
 diseñadas para que los participantes exploren el proceso completo\, desde
  el diseño digital de los objetos hasta su materialización mediante impr
 esoras 3D\, aplicando la creatividad en objetos navideños como adornos\, 
 pequeños regalos o decoraciones.\n\nLos grupos serán reducidos para gara
 ntizar la calidad del aprendizaje y la participación individual\, por lo 
 que las plazas se otorgarán por orden de inscripción\, impartiéndose de
  10:00 a 12:00 para personas de entre 8 y 12 años y de 12:00 a 14:00 para
  participantes de 13 a 16 años. \n\nLos talleres son gratuitos y las ins
 cripciones pueden formalizarse a través de este formulario online \n\nEl 
 proyecto La Palma Smart Island\n\nEl proyecto La Palma Smart Island tiene 
 como objetivo dinamizar el ecosistema tecnológico y de innovación en la 
 Isla\, fomentando el uso de tecnologías avanzadas y la formación de la c
 iudadanía en competencias digitales.\n\nDesde La Palma Smart Island se ap
 uesta por la innovación tecnológica como herramienta para el desarrollo 
 de las habilidades digitales en las nuevas generaciones\, al tiempo que se
  promueve el interés por el diseño y la tecnología de una manera divert
 ida y educativa.
ATTACH;FMTTYPE=image/jpeg:https://www.larevistadelapalma.com/wp-content/up
 loads/2024/12/CARTEL-NAVIDAD-3-QR.jpg
CATEGORIES:Formación,Otras propuestas
LOCATION:Municipio de Santa Cruz de La Palma\, Santa Cruz de La Palma \, Sa
 nta Cruz de La Palma \, 38700\, España
GEO:28.688757;-17.765102
X-APPLE-STRUCTURED-LOCATION;VALUE=URI;X-ADDRESS=Santa Cruz de La Palma \, S
 anta Cruz de La Palma \, 38700\, España;X-APPLE-RADIUS=100;X-TITLE=Munici
 pio de Santa Cruz de La Palma:geo:28.688757,-17.765102
END:VEVENT
END:VCALENDAR