BEGIN:VCALENDAR
VERSION:2.0
PRODID:-//wp-events-plugin.com//7.2.3.1//EN
TZID:Europe/London
X-WR-TIMEZONE:Europe/London
BEGIN:VEVENT
UID:20@larevistadelapalma.com
DTSTART;VALUE=DATE:20230701
DTEND;VALUE=DATE:20230831
DTSTAMP:20230701T182725Z
URL:https://www.larevistadelapalma.com/events/talleres-para-ninos-cesteria
 -creativa/
SUMMARY:Talleres para niños: cestería creativa
DESCRIPTION:Un año más se impartirán talleres de cestería creativa con 
 fibras naturales para niños\, a partir de 8 años.\n\nLos talleres serán
  en la Casa de la Cultura y estarán impartidos por la artesana\, Beatriz 
 Fernández Sánchez.\n\nSe harán dos grupos\, uno en el mes de julio y ot
 ro en agosto. Se intentará que sea un grupo de iniciación y otro avanzad
 o.\n\nLos talleres son gratuitos y están patrocinados por el Cabildo de L
 a Palma en colaboración con el área de Artesanía del Ayuntamiento de Lo
 s Llanos de Aridane.
ATTACH;FMTTYPE=image/jpeg:https://www.larevistadelapalma.com/wp-content/up
 loads/2023/06/Talleres-cesteria-creativa-infantil.jpg
CATEGORIES:Formación,Otras propuestas
LOCATION:Casa de La Cultura de Los Llanos de Aridane\, : C. Real\, 8\, Los 
 Llanos de Aridane \, 38760\, España
GEO:28.658651;-17.913512
X-APPLE-STRUCTURED-LOCATION;VALUE=URI;X-ADDRESS=: C. Real\, 8\, Los Llanos 
 de Aridane \, 38760\, España;X-APPLE-RADIUS=100;X-TITLE=Casa de La Cultur
 a de Los Llanos de Aridane:geo:28.658651,-17.913512
END:VEVENT
END:VCALENDARBEGIN:VCALENDAR
VERSION:2.0
PRODID:-//wp-events-plugin.com//7.2.3.1//EN
TZID:Europe/London
X-WR-TIMEZONE:Europe/London
BEGIN:VEVENT
UID:20@larevistadelapalma.com
DTSTART;VALUE=DATE:20230701
DTEND;VALUE=DATE:20230831
DTSTAMP:20230701T182725Z
URL:https://www.larevistadelapalma.com/events/talleres-para-ninos-cesteria
 -creativa/
SUMMARY:Talleres para niños: cestería creativa
DESCRIPTION:Un año más se impartirán talleres de cestería creativa con 
 fibras naturales para niños\, a partir de 8 años.\n\nLos talleres serán
  en la Casa de la Cultura y estarán impartidos por la artesana\, Beatriz 
 Fernández Sánchez.\n\nSe harán dos grupos\, uno en el mes de julio y ot
 ro en agosto. Se intentará que sea un grupo de iniciación y otro avanzad
 o.\n\nLos talleres son gratuitos y están patrocinados por el Cabildo de L
 a Palma en colaboración con el área de Artesanía del Ayuntamiento de Lo
 s Llanos de Aridane.
ATTACH;FMTTYPE=image/jpeg:https://www.larevistadelapalma.com/wp-content/up
 loads/2023/06/Talleres-cesteria-creativa-infantil.jpg
CATEGORIES:Formación,Otras propuestas
LOCATION:Casa de La Cultura de Los Llanos de Aridane\, : C. Real\, 8\, Los 
 Llanos de Aridane \, 38760\, España
GEO:28.658651;-17.913512
X-APPLE-STRUCTURED-LOCATION;VALUE=URI;X-ADDRESS=: C. Real\, 8\, Los Llanos 
 de Aridane \, 38760\, España;X-APPLE-RADIUS=100;X-TITLE=Casa de La Cultur
 a de Los Llanos de Aridane:geo:28.658651,-17.913512
END:VEVENT
END:VCALENDAR